BEGIN:VCALENDAR
VERSION:2.0
PRODID:-//Pfarrei Bad Neuenahr-Ahrweiler - ECPv6.15.20//NONSGML v1.0//EN
CALSCALE:GREGORIAN
METHOD:PUBLISH
X-WR-CALNAME:Pfarrei Bad Neuenahr-Ahrweiler
X-ORIGINAL-URL:https://pfarrei-bnaw.de
X-WR-CALDESC:Veranstaltungen für Pfarrei Bad Neuenahr-Ahrweiler
REFRESH-INTERVAL;VALUE=DURATION:PT1H
X-Robots-Tag:noindex
X-PUBLISHED-TTL:PT1H
BEGIN:VTIMEZONE
TZID:Europe/Berlin
BEGIN:DAYLIGHT
TZOFFSETFROM:+0100
TZOFFSETTO:+0200
TZNAME:CEST
DTSTART:20210328T010000
END:DAYLIGHT
BEGIN:STANDARD
TZOFFSETFROM:+0200
TZOFFSETTO:+0100
TZNAME:CET
DTSTART:20211031T010000
END:STANDARD
BEGIN:DAYLIGHT
TZOFFSETFROM:+0100
TZOFFSETTO:+0200
TZNAME:CEST
DTSTART:20220327T010000
END:DAYLIGHT
BEGIN:STANDARD
TZOFFSETFROM:+0200
TZOFFSETTO:+0100
TZNAME:CET
DTSTART:20221030T010000
END:STANDARD
BEGIN:DAYLIGHT
TZOFFSETFROM:+0100
TZOFFSETTO:+0200
TZNAME:CEST
DTSTART:20230326T010000
END:DAYLIGHT
BEGIN:STANDARD
TZOFFSETFROM:+0200
TZOFFSETTO:+0100
TZNAME:CET
DTSTART:20231029T010000
END:STANDARD
END:VTIMEZONE
BEGIN:VEVENT
DTSTART;VALUE=DATE:20220527
DTEND;VALUE=DATE:20220528
DTSTAMP:20260424T111622
CREATED:20220525T125220Z
LAST-MODIFIED:20220525T125220Z
UID:3081-1653609600-1653695999@pfarrei-bnaw.de
SUMMARY:Gebetszeit in Ramersbach
DESCRIPTION:Jeden Freitag ist in St. Barbara um 18.00 Uhr Rosenkranzgebet. \nWir laden Sie ein mitzubeten\, besonders in diesen Zeiten.
URL:https://pfarrei-bnaw.de/event/gebetszeit-in-ramersbach/
END:VEVENT
BEGIN:VEVENT
DTSTART;TZID=Europe/Berlin:20220531T183000
DTEND;TZID=Europe/Berlin:20220531T193000
DTSTAMP:20260424T111622
CREATED:20220531T083459Z
LAST-MODIFIED:20220531T083459Z
UID:3238-1654021800-1654025400@pfarrei-bnaw.de
SUMMARY:Vorabendmesse in St. Anna\, Bachem
DESCRIPTION:18:30 Uhr Vorabendmesse in St. Anna\, Bachem (Pfr. Stenz)
URL:https://pfarrei-bnaw.de/event/vorabendmesse-in-st-anna-bachem-2/
LOCATION:St. Anna\, Bachem
END:VEVENT
END:VCALENDAR