BEGIN:VCALENDAR
VERSION:2.0
PRODID:-//Pfarrei Bad Neuenahr-Ahrweiler - ECPv6.15.20//NONSGML v1.0//EN
CALSCALE:GREGORIAN
METHOD:PUBLISH
X-ORIGINAL-URL:https://pfarrei-bnaw.de
X-WR-CALDESC:Veranstaltungen für Pfarrei Bad Neuenahr-Ahrweiler
REFRESH-INTERVAL;VALUE=DURATION:PT1H
X-Robots-Tag:noindex
X-PUBLISHED-TTL:PT1H
BEGIN:VTIMEZONE
TZID:Europe/Berlin
BEGIN:DAYLIGHT
TZOFFSETFROM:+0100
TZOFFSETTO:+0200
TZNAME:CEST
DTSTART:20210328T010000
END:DAYLIGHT
BEGIN:STANDARD
TZOFFSETFROM:+0200
TZOFFSETTO:+0100
TZNAME:CET
DTSTART:20211031T010000
END:STANDARD
BEGIN:DAYLIGHT
TZOFFSETFROM:+0100
TZOFFSETTO:+0200
TZNAME:CEST
DTSTART:20220327T010000
END:DAYLIGHT
BEGIN:STANDARD
TZOFFSETFROM:+0200
TZOFFSETTO:+0100
TZNAME:CET
DTSTART:20221030T010000
END:STANDARD
BEGIN:DAYLIGHT
TZOFFSETFROM:+0100
TZOFFSETTO:+0200
TZNAME:CEST
DTSTART:20230326T010000
END:DAYLIGHT
BEGIN:STANDARD
TZOFFSETFROM:+0200
TZOFFSETTO:+0100
TZNAME:CET
DTSTART:20231029T010000
END:STANDARD
END:VTIMEZONE
BEGIN:VEVENT
DTSTART;TZID=Europe/Berlin:20220601T193000
DTEND;TZID=Europe/Berlin:20220601T220000
DTSTAMP:20260424T095505
CREATED:20220525T120907Z
LAST-MODIFIED:20220525T120907Z
UID:3041-1654111800-1654120800@pfarrei-bnaw.de
SUMMARY:Ideenbörse Heppingen
DESCRIPTION:
URL:https://pfarrei-bnaw.de/event/ideenboerse-heppingen/
LOCATION:Pfarrsaal Heppingen
END:VEVENT
BEGIN:VEVENT
DTSTART;TZID=Europe/Berlin:20220602T190000
DTEND;TZID=Europe/Berlin:20220602T190000
DTSTAMP:20260424T095505
CREATED:20220525T130238Z
LAST-MODIFIED:20220525T130238Z
UID:3094-1654196400-1654196400@pfarrei-bnaw.de
SUMMARY:Stammtisch der kfd St. Laurentius
DESCRIPTION:Ab dem 2. Juni soll es wieder einen Stammtisch der Frauen geben um 19.00 Uhr in der Marktschänke am Marktplatz in Ahrweiler.
URL:https://pfarrei-bnaw.de/event/stammtisch-der-kfd-st-laurentius/
LOCATION:Marktschänke am Marktplatz Ahrweiler
END:VEVENT
BEGIN:VEVENT
DTSTART;TZID=Europe/Berlin:20220603T150000
DTEND;TZID=Europe/Berlin:20220603T150000
DTSTAMP:20260424T095505
CREATED:20220525T120041Z
LAST-MODIFIED:20220525T120041Z
UID:3027-1654268400-1654268400@pfarrei-bnaw.de
SUMMARY:Open-Air Pfarrgartenfest
DESCRIPTION:
URL:https://pfarrei-bnaw.de/event/open-air-pfarrgartenfest/
LOCATION:Marktplatz 13\, 53474\, Ahrweiler\, hinter dem Pfarrhaus
END:VEVENT
BEGIN:VEVENT
DTSTART;TZID=Europe/Berlin:20220603T150000
DTEND;TZID=Europe/Berlin:20220603T180000
DTSTAMP:20260424T095505
CREATED:20220525T120446Z
LAST-MODIFIED:20220525T120446Z
UID:3031-1654268400-1654279200@pfarrei-bnaw.de
SUMMARY:Segen2go - Aktionstage
DESCRIPTION:
URL:https://pfarrei-bnaw.de/event/segen2go-aktionstage/
LOCATION:Pfarrgarten St. Laurentius\, Marktplatz 13\, 53474 Ahrweiler\, Pfarrgarten St. Laurentius
END:VEVENT
BEGIN:VEVENT
DTSTART;TZID=Europe/Berlin:20220604T170000
DTEND;TZID=Europe/Berlin:20220604T180000
DTSTAMP:20260424T095505
CREATED:20220530T115834Z
LAST-MODIFIED:20220530T120101Z
UID:3112-1654362000-1654365600@pfarrei-bnaw.de
SUMMARY:Vorabendmesse in St. Martin\, Heppingen
DESCRIPTION:17:00 Uhr Vorabendmesse in St. Martin\, Heppingen (Pfr. Henkel) \nfür die Pfarrgemeinde und im Gedenken an Egon Gölden; Ehel. Hermann u. Margareta Steinheuer u. verst. Angeh.; Irene Wieland (v.d.Nachb.); die Leb. und Verst. d. Fam. Hermann Schell und Gertrud u. Matthias Franzen und Söhne; Peter Aßenmacher; Theresia Pham; Ottilie Eickhoff; Annaliese u. Franz Fürst u. Michael Cornely
URL:https://pfarrei-bnaw.de/event/vorabendmesse-in-st-martin-heppingen/
LOCATION:St. Martin\, Heppingen
END:VEVENT
BEGIN:VEVENT
DTSTART;TZID=Europe/Berlin:20220604T183000
DTEND;TZID=Europe/Berlin:20220604T193000
DTSTAMP:20260424T095505
CREATED:20220530T120537Z
LAST-MODIFIED:20220530T120537Z
UID:3117-1654367400-1654371000@pfarrei-bnaw.de
SUMMARY:Vorabendmesse in St. Anna\, Bachem
DESCRIPTION:18:30 Uhr Vorabendmesse in St. Anna\, Bachem (Pfr. Marquardsen) \nfür die Pfarrgemeinde und im Gedenken an Monika von Wachter (Jgd.) u. Fam. Müller-Mies
URL:https://pfarrei-bnaw.de/event/vorabendmesse-in-st-anna-bachem/
LOCATION:St. Anna\, Bachem
END:VEVENT
BEGIN:VEVENT
DTSTART;TZID=Europe/Berlin:20220605T093000
DTEND;TZID=Europe/Berlin:20220605T103000
DTSTAMP:20260424T095505
CREATED:20220530T121038Z
LAST-MODIFIED:20220530T121038Z
UID:3120-1654421400-1654425000@pfarrei-bnaw.de
SUMMARY:Hochamt in St. Barbara\, Ramersbach
DESCRIPTION:09:30 Uhr Hochamt in St. Barbara\, Ramersbach (Pfr. Stenz) \nfür die Pfarrgemeinde
URL:https://pfarrei-bnaw.de/event/hochamt-in-st-barbara-ramersbach/
LOCATION:St. Barbara\, Ramersbach
END:VEVENT
BEGIN:VEVENT
DTSTART;TZID=Europe/Berlin:20220605T093000
DTEND;TZID=Europe/Berlin:20220605T103000
DTSTAMP:20260424T095505
CREATED:20220530T121431Z
LAST-MODIFIED:20220530T121431Z
UID:3123-1654421400-1654425000@pfarrei-bnaw.de
SUMMARY:Hochamt in der St. Willibrord-Kirche
DESCRIPTION:09:30 Uhr Hochamt in der St. Willibrord-Kirche (Pfr.Henkel) \nfür die Pfarrgemeinde und im Gedenken an Ewald und Gertrud Schmitz; Fam. Austen
URL:https://pfarrei-bnaw.de/event/hochamt-in-der-st-willibrord-kirche/
LOCATION:St. Willibrord-Kirche\, Bad Neuenahr
END:VEVENT
BEGIN:VEVENT
DTSTART;TZID=Europe/Berlin:20220605T110000
DTEND;TZID=Europe/Berlin:20220605T120000
DTSTAMP:20260424T095505
CREATED:20220530T121630Z
LAST-MODIFIED:20220530T121630Z
UID:3126-1654426800-1654430400@pfarrei-bnaw.de
SUMMARY:Heilige Messe in der Klosterkirche Calvarienberg
DESCRIPTION:11:00 Uhr Heilige Messe in der Klosterkirche Calvarienberg (Pfr. Meyrer) \nfür die Pfarrgemeinde und im Gedenken an Hans Werner Kriechel; Günter Müller u. Leb u. Verst. d. Fam. Müller-Romes; Katharina Kohlhaas geb. Kehrer (1.Jgd.); Elfriede Gockel-Cramer und Angehörige; Leb. u. Verst. d. Fam. Sturm-Jammel-Schüller u. Verstorbene nach Meinung; Alexander Kelter; die Ehel. Willi und Thea Wershofen
URL:https://pfarrei-bnaw.de/event/heilige-messe-in-der-klosterkirche-calvarienberg/
LOCATION:Klosterkirche Calvarienberg\, Ahrweiler
END:VEVENT
BEGIN:VEVENT
DTSTART;TZID=Europe/Berlin:20220605T180000
DTEND;TZID=Europe/Berlin:20220605T190000
DTSTAMP:20260424T095505
CREATED:20220530T121804Z
LAST-MODIFIED:20220530T121804Z
UID:3129-1654452000-1654455600@pfarrei-bnaw.de
SUMMARY:Vesper in der St. Willibrord-Kirche
DESCRIPTION:18:00 Uhr Vesper in der St. Willibrord-Kirche
URL:https://pfarrei-bnaw.de/event/vesper-in-der-st-willibrord-kirche/
LOCATION:St. Willibrord-Kirche\, Bad Neuenahr
END:VEVENT
BEGIN:VEVENT
DTSTART;TZID=Europe/Berlin:20220606T060000
DTEND;TZID=Europe/Berlin:20220606T090000
DTSTAMP:20260424T095505
CREATED:20220525T123519Z
LAST-MODIFIED:20220525T123519Z
UID:3048-1654495200-1654506000@pfarrei-bnaw.de
SUMMARY:Vogelgezwitscher - das andere Morgenlob
DESCRIPTION:Vogelgezwitscher – das andere Morgenlob\nPfingstmontag\, 06.06. – 6:00; Ende ca. 09:00\nWaldspaziergang mit Ornithologen\,\nkleines Morgenlob und gemeinsames Frühstück\nRundweg Hemmessener Hütte – Karweiler – Hütte \nDen Tag des Heiligen Geistes (Pfingsten) der aufgehenden Sonne den Tag beginnen! Im Konzert der Vogelstimmen eintauchen und baden. Kennenlernen\, wer da zwischert und etwas über die gefiederten Gesellen erfahren. Dann selbst in ein Morgenlob in einer kleinen Gebetszeit einstimmen und gemeinsam mit einem Frühstück in den Tag starten – dazu lädt diese besondere „Wunderfinderzeit“ alle Familien\, Interessierten und Frühaufsteher ein. Weitere Infos bei Anmeldung.
URL:https://pfarrei-bnaw.de/event/vogelgezwitscher-das-andere-morgenlob/
LOCATION:Hemmessener Hütte – Karweiler – Hemessener Hütte
END:VEVENT
BEGIN:VEVENT
DTSTART;TZID=Europe/Berlin:20220606T093000
DTEND;TZID=Europe/Berlin:20220606T103000
DTSTAMP:20260424T095505
CREATED:20220530T121913Z
LAST-MODIFIED:20220530T121913Z
UID:3131-1654507800-1654511400@pfarrei-bnaw.de
SUMMARY:Hochamt in der St. Willibrord-Kirche
DESCRIPTION:09:30 Uhr Hochamt in der St. Willibrord-Kirche (Pfr. Stenz) \nfür die Pfarrgemeinde und im Gedenken an die Leb. und Verst. d. Fam. Klara und Robert Witsch
URL:https://pfarrei-bnaw.de/event/hochamt-in-der-st-willibrord-kirche-2/
LOCATION:St. Willibrord-Kirche\, Bad Neuenahr
END:VEVENT
BEGIN:VEVENT
DTSTART;TZID=Europe/Berlin:20220606T100000
DTEND;TZID=Europe/Berlin:20220606T110000
DTSTAMP:20260424T095505
CREATED:20220530T122220Z
LAST-MODIFIED:20220530T122220Z
UID:3134-1654509600-1654513200@pfarrei-bnaw.de
SUMMARY:Kurzwallfahrt zu Pfingsten in Walporzheim
DESCRIPTION:10:00 Uhr Kurzwallfahrt zu Pfingsten in Walporzheim \nStart ist  in der Josefstraße an der ehemaligen St. Josef- Brücke
URL:https://pfarrei-bnaw.de/event/kurzwallfahrt-zu-pfingsten-in-walporzheim/
LOCATION:Walporzheim
END:VEVENT
BEGIN:VEVENT
DTSTART;TZID=Europe/Berlin:20220606T103000
DTEND;TZID=Europe/Berlin:20220606T120000
DTSTAMP:20260424T095505
CREATED:20220530T122536Z
LAST-MODIFIED:20220530T122536Z
UID:3137-1654511400-1654516800@pfarrei-bnaw.de
SUMMARY:Heilige Messe an der Lourdeskapelle\, Bachemer Tal
DESCRIPTION:10:30 Uhr Heilige Messe an der Lourdeskapelle\, Bachemer Tal (Pfr. Marquardsen) \nmitgestaltet vom Männerchor Bachem
URL:https://pfarrei-bnaw.de/event/heilige-messe-an-der-lourdeskapelle-bachemer-tal/
LOCATION:Lourdeskapelle\, Bachem
END:VEVENT
BEGIN:VEVENT
DTSTART;TZID=Europe/Berlin:20220606T110000
DTEND;TZID=Europe/Berlin:20220606T120000
DTSTAMP:20260424T095505
CREATED:20220530T122639Z
LAST-MODIFIED:20220530T122639Z
UID:3140-1654513200-1654516800@pfarrei-bnaw.de
SUMMARY:Heilige Messe in der Klosterkirche Calvarienberg
DESCRIPTION:11:00 Uhr Heilige Messe in der Klosterkirche Calvarienberg (Pfr. Henkel)
URL:https://pfarrei-bnaw.de/event/heilige-messe-in-der-klosterkirche-calvarienberg-2/
LOCATION:Klosterkirche Calvarienberg\, Ahrweiler
END:VEVENT
BEGIN:VEVENT
DTSTART;TZID=Europe/Berlin:20220606T110000
DTEND;TZID=Europe/Berlin:20220606T120000
DTSTAMP:20260424T095505
CREATED:20220530T122836Z
LAST-MODIFIED:20220530T122836Z
UID:3142-1654513200-1654516800@pfarrei-bnaw.de
SUMMARY:Heilige Messe an der Kapelle auf der Landskrone
DESCRIPTION:11:00 Uhr Heilige Messe an der Kapelle auf der Landskrone (Pfr. Meyrer)
URL:https://pfarrei-bnaw.de/event/heilige-messe-an-der-kapelle-auf-der-landskrone/
LOCATION:Kapelle Landskrone
END:VEVENT
BEGIN:VEVENT
DTSTART;TZID=Europe/Berlin:20220607T153000
DTEND;TZID=Europe/Berlin:20220607T163000
DTSTAMP:20260424T095505
CREATED:20220530T122939Z
LAST-MODIFIED:20220530T122939Z
UID:3145-1654615800-1654619400@pfarrei-bnaw.de
SUMMARY:Zeit für mich – Zeit für Gott in der St. Willibrord-Kirche
DESCRIPTION:15:30 Uhr Zeit für mich – Zeit für Gott in der St. Willibrord-Kirche
URL:https://pfarrei-bnaw.de/event/zeit-fuer-mich-zeit-fuer-gott-in-der-st-willibrord-kirche/
LOCATION:St. Willibrord-Kirche\, Bad Neuenahr
END:VEVENT
BEGIN:VEVENT
DTSTART;TZID=Europe/Berlin:20220607T183000
DTEND;TZID=Europe/Berlin:20220607T193000
DTSTAMP:20260424T095505
CREATED:20220530T123113Z
LAST-MODIFIED:20220530T123113Z
UID:3147-1654626600-1654630200@pfarrei-bnaw.de
SUMMARY:Abendmesse in Gimmigen
DESCRIPTION:18:30 Uhr Abendmesse in Gimmigen (Pfr. Henkel) \nim Gedenken an die Leb. und Verst. d. Fam. Kündgen-Steinborn-Kirfel
URL:https://pfarrei-bnaw.de/event/abendmesse-in-gimmigen/
LOCATION:Gimmigen
END:VEVENT
BEGIN:VEVENT
DTSTART;TZID=Europe/Berlin:20220607T183000
DTEND;TZID=Europe/Berlin:20220607T193000
DTSTAMP:20260424T095505
CREATED:20220530T123335Z
LAST-MODIFIED:20220530T123335Z
UID:3150-1654626600-1654630200@pfarrei-bnaw.de
SUMMARY:Abendmesse im Pfarrheim Ahrweiler\, Kolpingraum
DESCRIPTION:18:30 Uhr Abendmesse im Pfarrheim Ahrweiler\, Kolpingraum (Pfr. Meyrer) \nim Gedenken an Dechant Hans Hammes; Gisela Letzel (von der kfd);
URL:https://pfarrei-bnaw.de/event/abendmesse-im-pfarrheim-ahrweiler-kolpingraum/
LOCATION:Pfarrheim Ahrweiler\, Kolpingraum
END:VEVENT
BEGIN:VEVENT
DTSTART;TZID=Europe/Berlin:20220609T183000
DTEND;TZID=Europe/Berlin:20220609T193000
DTSTAMP:20260424T095505
CREATED:20220530T123433Z
LAST-MODIFIED:20220530T123433Z
UID:3153-1654799400-1654803000@pfarrei-bnaw.de
SUMMARY:Abendmesse in St. Anna\, Bachem
DESCRIPTION:18:30 Uhr Abendmesse in St. Anna\, Bachem (Pfr. Marquardsen) \nIm Gedenken an Willi und Elisabeth Kleinwächter; Fam. Kleinwächter-Knieps
URL:https://pfarrei-bnaw.de/event/abendmesse-in-st-anna-bachem/
LOCATION:St. Anna\, Bachem
END:VEVENT
BEGIN:VEVENT
DTSTART;TZID=Europe/Berlin:20220609T183000
DTEND;TZID=Europe/Berlin:20220609T193000
DTSTAMP:20260424T095505
CREATED:20220531T082846Z
LAST-MODIFIED:20220531T082846Z
UID:3225-1654799400-1654803000@pfarrei-bnaw.de
SUMMARY:Abendmesse in St. Anna\, Bachem
DESCRIPTION:18:30 Uhr Abendmesse in St. Anna\, Bachem (Pfr. Marquardsen) \nIm Gedenken an Willi und Elisabeth Kleinwächter; Fam. Kleinwächter-Knieps
URL:https://pfarrei-bnaw.de/event/abendmesse-in-st-anna-bachem-2/
LOCATION:St. Anna\, Bachem
END:VEVENT
BEGIN:VEVENT
DTSTART;TZID=Europe/Berlin:20220610T150000
DTEND;TZID=Europe/Berlin:20220610T160000
DTSTAMP:20260424T095505
CREATED:20220530T123626Z
LAST-MODIFIED:20220530T123626Z
UID:3155-1654873200-1654876800@pfarrei-bnaw.de
SUMMARY:Frauenmesse im Sängerheim des MFC neben der Rosenkranzkirche
DESCRIPTION:15:00 Uhr Frauenmesse im Sängerheim des MFC neben der Rosenkranzkirche (Pfr. Stenz) \nim Gedenken an Stefan Kürsch jun. (1.Jgd.) und Mutter Marlies Kürsch; die Leb. und Verst. d. kfd;
URL:https://pfarrei-bnaw.de/event/frauenmesse-im-saengerheim-des-mfc-neben-der-rosenkranzkirche/
LOCATION:Sängerheim des MFC neben der Rosenkranzkirche
END:VEVENT
BEGIN:VEVENT
DTSTART;TZID=Europe/Berlin:20220610T150000
DTEND;TZID=Europe/Berlin:20220610T160000
DTSTAMP:20260424T095505
CREATED:20220531T082949Z
LAST-MODIFIED:20220531T082949Z
UID:3227-1654873200-1654876800@pfarrei-bnaw.de
SUMMARY:Frauenmesse im Sängerheim des MFC neben der Rosenkranzkirche
DESCRIPTION:15:00 Uhr Frauenmesse im Sängerheim des MFC neben der Rosenkranzkirche (Pfr. Stenz) \nim Gedenken an Stefan Kürsch jun. (1.Jgd.) und Mutter Marlies Kürsch; die Leb. und Verst. d. kfd;
URL:https://pfarrei-bnaw.de/event/frauenmesse-im-saengerheim-des-mfc-neben-der-rosenkranzkirche-2/
LOCATION:Sängerheim des MFC neben der Rosenkranzkirche
END:VEVENT
BEGIN:VEVENT
DTSTART;TZID=Europe/Berlin:20220610T180000
DTEND;TZID=Europe/Berlin:20220610T190000
DTSTAMP:20260424T095505
CREATED:20220531T083110Z
LAST-MODIFIED:20220531T083110Z
UID:3229-1654884000-1654887600@pfarrei-bnaw.de
SUMMARY:Rosenkranzandacht in St. Barbara\, Ramersbach
DESCRIPTION:18:00 Uhr Rosenkranzandacht in St. Barbara\, Ramersbach
URL:https://pfarrei-bnaw.de/event/rosenkranzandacht-in-st-barbara-ramersbach/
LOCATION:St. Barbara\, Ramersbach
END:VEVENT
BEGIN:VEVENT
DTSTART;TZID=Europe/Berlin:20220611T140000
DTEND;TZID=Europe/Berlin:20220611T153000
DTSTAMP:20260424T095505
CREATED:20220531T083205Z
LAST-MODIFIED:20220531T083205Z
UID:3231-1654956000-1654961400@pfarrei-bnaw.de
SUMMARY:Erstkommunionfeier im Hofgarten des Klosters Calvarienberg
DESCRIPTION:14:00 Uhr Erstkommunionfeier im Hofgarten des Klosters Calvarienberg
URL:https://pfarrei-bnaw.de/event/erstkommunionfeier-im-hofgarten-des-klosters-calvarienberg/
LOCATION:Klosterkirche Calvarienberg\, Ahrweiler
END:VEVENT
BEGIN:VEVENT
DTSTART;TZID=Europe/Berlin:20220611T160000
DTEND;TZID=Europe/Berlin:20220611T173000
DTSTAMP:20260424T095505
CREATED:20220531T083252Z
LAST-MODIFIED:20220531T083252Z
UID:3233-1654963200-1654968600@pfarrei-bnaw.de
SUMMARY:Erstkommunionfeier im Hofgarten des Klosters Calvarienberg
DESCRIPTION:16:00 Uhr Erstkommunionfeier im Hofgarten des Klosters Calvarienberg
URL:https://pfarrei-bnaw.de/event/erstkommunionfeier-im-hofgarten-des-klosters-calvarienberg-2/
LOCATION:Klosterkirche Calvarienberg\, Ahrweiler
END:VEVENT
BEGIN:VEVENT
DTSTART;TZID=Europe/Berlin:20220611T170000
DTEND;TZID=Europe/Berlin:20220611T180000
DTSTAMP:20260424T095505
CREATED:20220531T083412Z
LAST-MODIFIED:20220531T083412Z
UID:3235-1654966800-1654970400@pfarrei-bnaw.de
SUMMARY:Vorabendmesse in St. Mauritius\, Heimersheim
DESCRIPTION:17:00 Uhr Vorabendmesse in St. Mauritius\, Heimersheim (Pfr. Marquardsen)
URL:https://pfarrei-bnaw.de/event/vorabendmesse-in-st-mauritius-heimersheim/
LOCATION:St. Mauritius\, Heimersheim
END:VEVENT
BEGIN:VEVENT
DTSTART;TZID=Europe/Berlin:20220612T093000
DTEND;TZID=Europe/Berlin:20220612T103000
DTSTAMP:20260424T095505
CREATED:20220531T083605Z
LAST-MODIFIED:20220531T083605Z
UID:3240-1655026200-1655029800@pfarrei-bnaw.de
SUMMARY:Wortgottesfeier in St. Barbara\, Ramersbach
DESCRIPTION:09:30 Uhr Wortgottesfeier in St. Barbara\, Ramersbach  \nDie Kollekte am heutigen Sonntag ist für die Kirchen und Kapellen unserer Pfarrei bestimmt.
URL:https://pfarrei-bnaw.de/event/wortgottesfeier-in-st-barbara-ramersbach/
LOCATION:St. Barbara\, Ramersbach
END:VEVENT
BEGIN:VEVENT
DTSTART;TZID=Europe/Berlin:20220612T093000
DTEND;TZID=Europe/Berlin:20220612T103000
DTSTAMP:20260424T095505
CREATED:20220531T084038Z
LAST-MODIFIED:20220531T084038Z
UID:3245-1655026200-1655029800@pfarrei-bnaw.de
SUMMARY:Hochamt in der St. Willibrord-Kirche
DESCRIPTION:09:30 Uhr Hochamt in der St. Willibrord-Kirche (Pfr. Stenz) \nDie Kollekte am heutigen Sonntag ist für die Kirchen und Kapellen unserer Pfarrei bestimmt.
URL:https://pfarrei-bnaw.de/event/hochamt-in-der-st-willibrord-kirche-3/
LOCATION:St. Willibrord-Kirche\, Bad Neuenahr
END:VEVENT
BEGIN:VEVENT
DTSTART;TZID=Europe/Berlin:20220612T093000
DTEND;TZID=Europe/Berlin:20220612T120000
DTSTAMP:20260424T095505
CREATED:20220531T083852Z
LAST-MODIFIED:20220531T083852Z
UID:3242-1655026200-1655035200@pfarrei-bnaw.de
SUMMARY:Heilige Messe in St. Lambertus\, Kirchdaun zu Fronleichnam anschl. Fronleichnamsprozession
DESCRIPTION:09:30 Uhr Heilige Messe in St. Lambertus\, Kirchdaun zu Fronleichnam anschl. Fronleichnamsprozession (Pfr. Marquardsen) \nDie Kollekte am heutigen Sonntag ist für die Kirchen und Kapellen unserer Pfarrei bestimmt.
URL:https://pfarrei-bnaw.de/event/heilige-messe-in-st-lambertus-kirchdaun-zu-fronleichnam-anschl-fronleichnamsprozession/
LOCATION:St. Lambertus\, Kirchdaun
END:VEVENT
END:VCALENDAR