BEGIN:VCALENDAR
VERSION:2.0
PRODID:-//Pfarrei Bad Neuenahr-Ahrweiler - ECPv6.15.20//NONSGML v1.0//EN
CALSCALE:GREGORIAN
METHOD:PUBLISH
X-ORIGINAL-URL:https://pfarrei-bnaw.de
X-WR-CALDESC:Veranstaltungen für Pfarrei Bad Neuenahr-Ahrweiler
REFRESH-INTERVAL;VALUE=DURATION:PT1H
X-Robots-Tag:noindex
X-PUBLISHED-TTL:PT1H
BEGIN:VTIMEZONE
TZID:Europe/Berlin
BEGIN:DAYLIGHT
TZOFFSETFROM:+0100
TZOFFSETTO:+0200
TZNAME:CEST
DTSTART:20210328T010000
END:DAYLIGHT
BEGIN:STANDARD
TZOFFSETFROM:+0200
TZOFFSETTO:+0100
TZNAME:CET
DTSTART:20211031T010000
END:STANDARD
BEGIN:DAYLIGHT
TZOFFSETFROM:+0100
TZOFFSETTO:+0200
TZNAME:CEST
DTSTART:20220327T010000
END:DAYLIGHT
BEGIN:STANDARD
TZOFFSETFROM:+0200
TZOFFSETTO:+0100
TZNAME:CET
DTSTART:20221030T010000
END:STANDARD
BEGIN:DAYLIGHT
TZOFFSETFROM:+0100
TZOFFSETTO:+0200
TZNAME:CEST
DTSTART:20230326T010000
END:DAYLIGHT
BEGIN:STANDARD
TZOFFSETFROM:+0200
TZOFFSETTO:+0100
TZNAME:CET
DTSTART:20231029T010000
END:STANDARD
END:VTIMEZONE
BEGIN:VEVENT
DTSTART;TZID=Europe/Berlin:20220701T190000
DTEND;TZID=Europe/Berlin:20220701T220000
DTSTAMP:20260424T083427
CREATED:20220614T175326Z
LAST-MODIFIED:20220614T175326Z
UID:3455-1656702000-1656712800@pfarrei-bnaw.de
SUMMARY:Lesung mit Jörg Meyrer aus seinem Buch Zusammenhalten!
DESCRIPTION:Am Freitag\, 01.07.2022 um 19:00 Uhr in der Kirche St. Laurentius. Jörg Meyrer liest aus seinem Buch Zusammenhalten – Als Seelsorger im Ahrtal. Dazu herzliche Einladung!
URL:https://pfarrei-bnaw.de/event/lesung-mit-joerg-meyrer-aus-seinem-buch-zusammenhalten/
END:VEVENT
BEGIN:VEVENT
DTSTART;TZID=Europe/Berlin:20220703T110000
DTEND;TZID=Europe/Berlin:20220703T120000
DTSTAMP:20260424T083427
CREATED:20220614T175216Z
LAST-MODIFIED:20220614T175216Z
UID:3453-1656846000-1656849600@pfarrei-bnaw.de
SUMMARY:Verabschiedung unseres Dekanat-Kantors Klaus-Dieter Holzberger
DESCRIPTION:Am 1.7.2022 wird Klaus-Dieter Holzberger in den Ruhestand gehen. Nach über 40 Jahren Dienst als Organist\, zuerst in St. Laurentius\, zuletzt an allen Orgel in der Stadt. \nUngezählte Gottesdienste hat er mitgestaltet mit seiner Orgelmusik\, unzählige Feiertage hat er mit seiner Musik begleitet\, – ob privat oder in der Gemeinde\, ob wiederkehrend im Kirchenjahr oder einmalig. \nGottesdienste ohne seine Musik\, sein Feingefühl\, sein Können ist für viele kaum vorstellbar. \nUnd doch kommt jetzt die Zeit des wohlverdienten Ruhestandes. \nAm Sonntag 3. Juli\, werden wir Klaus-Dieter Holzberger in der Messe auf dem Calvarienberg verabschieden\, zusammen mit „seinem“ Kirchenchor. \nAnschließend gibt ein Fest der Begegnung im Hofgarten des Klosters\, zu dem alle bei Sekt und Imbiss eingeladen sind. \nDie Abkürzung i.R. wird bei ihm nicht nur „im Ruhestand“\, sondern auch „in Reichweite“ bedeuten. In den kommenden Monaten\, bis zu einer Nachfolge-Regelung mit der nicht vor dem 1.1.23 zu rechnen ist\, wird er auch weiterhin einige Orgeldienste übernehmen. \nWer sich am Abschiedsgeschenk beteiligen möchte\, der kann einen Betrag im Pfarrhaus abgeben und auf der gemeinsamen Karte unterschreiben.
URL:https://pfarrei-bnaw.de/event/verabschiedung-unseres-dekanat-kantors-klaus-dieter-holzberger/
END:VEVENT
BEGIN:VEVENT
DTSTART;TZID=Europe/Berlin:20220712T200000
DTEND;TZID=Europe/Berlin:20220712T210000
DTSTAMP:20260424T083427
CREATED:20220525T122801Z
LAST-MODIFIED:20220525T123003Z
UID:3044-1657656000-1657659600@pfarrei-bnaw.de
SUMMARY:Lieblingsgebet
DESCRIPTION:
URL:https://pfarrei-bnaw.de/event/lieblingsgebet/
END:VEVENT
BEGIN:VEVENT
DTSTART;TZID=Europe/Berlin:20220714T190000
DTEND;TZID=Europe/Berlin:20220715T000000
DTSTAMP:20260424T083427
CREATED:20220614T185634Z
LAST-MODIFIED:20220614T185634Z
UID:3483-1657825200-1657843200@pfarrei-bnaw.de
SUMMARY:Offener Dom zum Jahrestag
DESCRIPTION:Offener „Dom“ zum Jahrestag \n14.07.\, 19:00-24:00 \nDie Hemmessener Kapelle\, Sebastianstraße 77\, ist anlässlich des Jahrestages der Flutkatastrophe geöffnet und entsprechend stimmungsvoll hergerichtet\, so dass man dort gerne nach eigenem Gusto verweilen und innehalten\, gedenken\, beten oder Kerzen anzünden kann. \nIn der Kapelle befindet sich auch eine kleine Flutopfergedenkstätte.
URL:https://pfarrei-bnaw.de/event/offener-dom-zum-jahrestag/
END:VEVENT
BEGIN:VEVENT
DTSTART;TZID=Europe/Berlin:20220717T110000
DTEND;TZID=Europe/Berlin:20220717T180000
DTSTAMP:20260424T083427
CREATED:20220713T082909Z
LAST-MODIFIED:20220713T082909Z
UID:3721-1658055600-1658080800@pfarrei-bnaw.de
SUMMARY:Rosenkränzchen
DESCRIPTION:
URL:https://pfarrei-bnaw.de/event/rosenkraenzchen/
LOCATION:Rosenkranzkirche
END:VEVENT
BEGIN:VEVENT
DTSTART;TZID=Europe/Berlin:20220717T110000
DTEND;TZID=Europe/Berlin:20220717T180000
DTSTAMP:20260424T083427
CREATED:20220713T082951Z
LAST-MODIFIED:20220713T082951Z
UID:3724-1658055600-1658080800@pfarrei-bnaw.de
SUMMARY:ZDF Fernsehgottesdienst
DESCRIPTION:
URL:https://pfarrei-bnaw.de/event/zdf-fernsehgottesdienst/
LOCATION:St. Laurentius
END:VEVENT
BEGIN:VEVENT
DTSTART;TZID=Europe/Berlin:20220718T190000
DTEND;TZID=Europe/Berlin:20220718T210000
DTSTAMP:20260424T083427
CREATED:20220717T173623Z
LAST-MODIFIED:20220717T173657Z
UID:3764-1658170800-1658178000@pfarrei-bnaw.de
SUMMARY:Frischer Wind in alten Mauern - Heimersheim
DESCRIPTION:
URL:https://pfarrei-bnaw.de/event/frischer-wind-in-alten-mauern-heimersheim/
END:VEVENT
BEGIN:VEVENT
DTSTART;TZID=Europe/Berlin:20220719T200000
DTEND;TZID=Europe/Berlin:20220719T220000
DTSTAMP:20260424T083427
CREATED:20220525T123941Z
LAST-MODIFIED:20220717T175210Z
UID:3057-1658260800-1658268000@pfarrei-bnaw.de
SUMMARY:Sitzung des Pfarrgemeinderats
DESCRIPTION:
URL:https://pfarrei-bnaw.de/event/sitzung-des-pfarrgemeinderats-2/
END:VEVENT
BEGIN:VEVENT
DTSTART;VALUE=DATE:20220722
DTEND;VALUE=DATE:20220730
DTSTAMP:20260424T083427
CREATED:20220525T123729Z
LAST-MODIFIED:20220525T123729Z
UID:3052-1658448000-1659139199@pfarrei-bnaw.de
SUMMARY:Sommerspaß pur! - Familien-Rauszeit im Juli 2022
DESCRIPTION:Sommerspaß pur!\nFamilien-Rauszeit im Juli 22  \n22-29.07.22 – Haus der Familie\, Vallendar\, kostenfrei!  \nVP\, Unterbringung in Familienappartements mit je eigenem Bad.  \nAnmeldungen möglich ab sofort.  \nAbwechslungsreiches\, erholsames und spannendes Programm: Im Fokus sind Naturentdeckungen und spannende Impulse rund um Wald und Wiese\, Wanderung und Ausflüge. Schnipseljagd und Lagerfeuer\, Spiel und Spaß\, und bei allem viel frischem Luft um die Nase. Auch Gebet und Gottesdienst haben ihren Platz\, tiefgründiger Austausch\, Klön und Klaaf. Die Fahrt wird von der Lebensberatungsstelle unterstützt\, sodass Impulse zum Umgang mit den Erlebnissen der Flutnacht und begleitende Gespräche punktuell möglich sind. Kostenfrei! \nDekanat Ahr-Eifel – Markus Hartmann\, 02641-9127811 – markus.hartmann@bistum-trier.de
URL:https://pfarrei-bnaw.de/event/sommerspass-pur-familien-rauszeit-im-juli-2022/
LOCATION:Vallendar
END:VEVENT
BEGIN:VEVENT
DTSTART;VALUE=DATE:20220722
DTEND;VALUE=DATE:20220723
DTSTAMP:20260424T083427
CREATED:20220713T083102Z
LAST-MODIFIED:20220713T083102Z
UID:3730-1658448000-1658534399@pfarrei-bnaw.de
SUMMARY:Messdienergottesdienst
DESCRIPTION:Nähere Infos folgen!
URL:https://pfarrei-bnaw.de/event/messdienergottesdienst/
END:VEVENT
BEGIN:VEVENT
DTSTART;TZID=Europe/Berlin:20220724T110000
DTEND;TZID=Europe/Berlin:20220724T120000
DTSTAMP:20260424T083427
CREATED:20220713T083037Z
LAST-MODIFIED:20220713T083037Z
UID:3727-1658660400-1658664000@pfarrei-bnaw.de
SUMMARY:Familiengottesdienst - Postkartenformat
DESCRIPTION:
URL:https://pfarrei-bnaw.de/event/familiengottesdienst-postkartenformat/
END:VEVENT
BEGIN:VEVENT
DTSTART;TZID=Europe/Berlin:20220724T110000
DTEND;TZID=Europe/Berlin:20220724T120000
DTSTAMP:20260424T083427
CREATED:20220720T234221Z
LAST-MODIFIED:20220720T234221Z
UID:3792-1658660400-1658664000@pfarrei-bnaw.de
SUMMARY:Familienwortgottesdienst mit Reise Segen - Ramersbach
DESCRIPTION:
URL:https://pfarrei-bnaw.de/event/familienwortgottesdienst-mit-reise-segen-ramersbach/
END:VEVENT
END:VCALENDAR