BEGIN:VCALENDAR
VERSION:2.0
PRODID:-//Pfarrei Bad Neuenahr-Ahrweiler - ECPv6.15.20//NONSGML v1.0//EN
CALSCALE:GREGORIAN
METHOD:PUBLISH
X-WR-CALNAME:Pfarrei Bad Neuenahr-Ahrweiler
X-ORIGINAL-URL:https://pfarrei-bnaw.de
X-WR-CALDESC:Veranstaltungen für Pfarrei Bad Neuenahr-Ahrweiler
REFRESH-INTERVAL;VALUE=DURATION:PT1H
X-Robots-Tag:noindex
X-PUBLISHED-TTL:PT1H
BEGIN:VTIMEZONE
TZID:Europe/Berlin
BEGIN:DAYLIGHT
TZOFFSETFROM:+0100
TZOFFSETTO:+0200
TZNAME:CEST
DTSTART:20210328T010000
END:DAYLIGHT
BEGIN:STANDARD
TZOFFSETFROM:+0200
TZOFFSETTO:+0100
TZNAME:CET
DTSTART:20211031T010000
END:STANDARD
BEGIN:DAYLIGHT
TZOFFSETFROM:+0100
TZOFFSETTO:+0200
TZNAME:CEST
DTSTART:20220327T010000
END:DAYLIGHT
BEGIN:STANDARD
TZOFFSETFROM:+0200
TZOFFSETTO:+0100
TZNAME:CET
DTSTART:20221030T010000
END:STANDARD
BEGIN:DAYLIGHT
TZOFFSETFROM:+0100
TZOFFSETTO:+0200
TZNAME:CEST
DTSTART:20230326T010000
END:DAYLIGHT
BEGIN:STANDARD
TZOFFSETFROM:+0200
TZOFFSETTO:+0100
TZNAME:CET
DTSTART:20231029T010000
END:STANDARD
END:VTIMEZONE
BEGIN:VEVENT
DTSTART;VALUE=DATE:20220906
DTEND;VALUE=DATE:20220912
DTSTAMP:20260424T053523
CREATED:20220811T195323Z
LAST-MODIFIED:20220811T195323Z
UID:3933-1662422400-1662940799@pfarrei-bnaw.de
SUMMARY:800 Jahre St. Mauritius - Aktionen in der Jubiläumswoche
DESCRIPTION:plakat_jubiläum
URL:https://pfarrei-bnaw.de/event/800-jahre-st-mauritius-aktionen-in-der-jubilaeumswoche/
END:VEVENT
BEGIN:VEVENT
DTSTART;VALUE=DATE:20220913
DTEND;VALUE=DATE:20220914
DTSTAMP:20260424T053523
CREATED:20220525T130029Z
LAST-MODIFIED:20220525T130104Z
UID:3092-1663027200-1663113599@pfarrei-bnaw.de
SUMMARY:Ewig Gebet in St. Laurentius
DESCRIPTION:Am 13. September 2022 feiert der Pfarrbezirk St. Laurentius das Fest Ewig Gebet. Wer sich an der Vorbereitung dazu beteiligen möchte ist herzlich eingeladen sich bei Ursula Läufer (Tel. 02641-37544) oder im Pfarrbüro zu melden. Das erste Treffen ist am 07. Juni um 19:00 Uhr im Pfarrhaus.
URL:https://pfarrei-bnaw.de/event/ewig-gebet-in-st-laurentius/
END:VEVENT
BEGIN:VEVENT
DTSTART;TZID=Europe/Berlin:20220915T150000
DTEND;TZID=Europe/Berlin:20220915T150000
DTSTAMP:20260424T053523
CREATED:20220525T125913Z
LAST-MODIFIED:20220525T125913Z
UID:3088-1663254000-1663254000@pfarrei-bnaw.de
SUMMARY:AUSZEIT - Meditation-Beten-Singen-Stille in der Kapelle auf der Landskrone
DESCRIPTION:Herzliche Einladung zur monatlichen Andacht jeweils um 15.00 Uhr in der Kapelle auf der Landskrone. Die Termine sind:  23. Juni\, 21. Juli\, 18. August\, 15. September\, 20. Oktober 2022
URL:https://pfarrei-bnaw.de/event/auszeit-meditation-beten-singen-stille-in-der-kapelle-auf-der-landskrone-3/
END:VEVENT
BEGIN:VEVENT
DTSTART;TZID=Europe/Berlin:20220915T190000
DTEND;TZID=Europe/Berlin:20220915T210000
DTSTAMP:20260424T053523
CREATED:20220525T124138Z
LAST-MODIFIED:20220525T124138Z
UID:3065-1663268400-1663275600@pfarrei-bnaw.de
SUMMARY:Sitzung des Pfarrgemeinderats
DESCRIPTION:
URL:https://pfarrei-bnaw.de/event/sitzung-des-pfarrgemeinderats-6/
END:VEVENT
BEGIN:VEVENT
DTSTART;VALUE=DATE:20220924
DTEND;VALUE=DATE:20220925
DTSTAMP:20260424T053523
CREATED:20220811T195111Z
LAST-MODIFIED:20220811T195111Z
UID:3931-1663977600-1664063999@pfarrei-bnaw.de
SUMMARY:Pilgern zum Hl. Jodokus nach Langenfeld 2022
DESCRIPTION:Vieles in unserer Stadt und unserem Tal hat sich seit dem vergangenen Jahr verändert. Das Gehen im Gebet\, das Pilgern aber setzt seine Tradition in gewohnter Weise fort. Auch die traditionelle Wallfahrt zum hl. Jodokus nach Langenfeld findet in diesem Jahr wieder statt. \nAm Samstag\, dem 24. September 2022 trifft sich die Pilgergruppe um 8.00 Uhr vor der St.-Laurentius-Kirche und macht sich gemeinsam auf den Weg\, um nach Langenfeld zu gehen und betend die Anliegen dieser Zeit vor Gott zu bringen. \nDie Brudermeister freuen sich über jeden der Lust hat\, den 26 km langen Pilgerweg durch die herrliche Eifellandschaft mit eigenem Tagesgepäck mitzugehen \nFragen zu Ablauf und Weg beantwortet gerne Jürgen Knieps unter der Mailadressen juergen@knieps-aw.de oder telefonisch 0170-7342056.
URL:https://pfarrei-bnaw.de/event/pilgern-zum-hl-jodokus-nach-langenfeld-2022/
END:VEVENT
BEGIN:VEVENT
DTSTART;VALUE=DATE:20220924
DTEND;VALUE=DATE:20220925
DTSTAMP:20260424T053523
CREATED:20220819T075459Z
LAST-MODIFIED:20220819T075459Z
UID:3995-1663977600-1664063999@pfarrei-bnaw.de
SUMMARY:Pilgern zum Hl. Jodokus nach Langenfeld 2022
DESCRIPTION:Vieles in unserer Stadt und unserem Tal hat sich seit dem vergangenen Jahr verändert. Das Gehen im Gebet\, das Pilgern aber setzt seine Tradition in gewohnter Weise fort. Auch die traditionelle Wallfahrt zum hl. Jodokus nach Langenfeld findet in diesem Jahr wieder statt. \nAm Samstag\, dem 24. September 2022 trifft sich die Pilgergruppe um 8.00 Uhr vor der St.-Laurentius-Kirche und macht sich gemeinsam auf den Weg\, um nach Langenfeld zu gehen und betend die Anliegen dieser Zeit vor Gott zu bringen. \nDie Brudermeister freuen sich über jeden der Lust hat\, den 26 km langen Pilgerweg durch die herrliche Eifellandschaft mit eigenem Tagesgepäck mitzugehen \nFragen zu Ablauf und Weg beantwortet gerne Jürgen Knieps unter der Mailadressen juergen@knieps-aw.de oder telefonisch 0170-7342056.
URL:https://pfarrei-bnaw.de/event/pilgern-zum-hl-jodokus-nach-langenfeld-2022-2/
END:VEVENT
BEGIN:VEVENT
DTSTART;TZID=Europe/Berlin:20220930T133000
DTEND;TZID=Europe/Berlin:20220930T160000
DTSTAMP:20260424T053523
CREATED:20220923T095832Z
LAST-MODIFIED:20220923T095832Z
UID:4316-1664544600-1664553600@pfarrei-bnaw.de
SUMMARY:Ewig Gebet im Pfarrbezirk Rosenkranz
DESCRIPTION:Der Termin für das Ewig Gebet in Bad Neuenahr ist in diesem Jahr um einen Tag verschoben. Am Freitag\, 30. September lädt die kfd um 13.30 Uhr ins Sängerheim des MFC neben der Rosenkranzkirche zu einer Gebetsstunde anlässlich des Ewigen Gebetes ein. Von 14.30 bis 15.00 Uhr ist stille Anbetung. Um 15.00 Uhr wird dann die Heilige Messe mit te deum und eucharistischem Segen gefeiert.
URL:https://pfarrei-bnaw.de/event/ewig-gebet-im-pfarrbezirk-rosenkranz/
END:VEVENT
END:VCALENDAR