BEGIN:VCALENDAR
VERSION:2.0
PRODID:-//Pfarrei Bad Neuenahr-Ahrweiler - ECPv6.15.20//NONSGML v1.0//EN
CALSCALE:GREGORIAN
METHOD:PUBLISH
X-ORIGINAL-URL:https://pfarrei-bnaw.de
X-WR-CALDESC:Veranstaltungen für Pfarrei Bad Neuenahr-Ahrweiler
REFRESH-INTERVAL;VALUE=DURATION:PT1H
X-Robots-Tag:noindex
X-PUBLISHED-TTL:PT1H
BEGIN:VTIMEZONE
TZID:Europe/Berlin
BEGIN:DAYLIGHT
TZOFFSETFROM:+0100
TZOFFSETTO:+0200
TZNAME:CEST
DTSTART:20220327T010000
END:DAYLIGHT
BEGIN:STANDARD
TZOFFSETFROM:+0200
TZOFFSETTO:+0100
TZNAME:CET
DTSTART:20221030T010000
END:STANDARD
BEGIN:DAYLIGHT
TZOFFSETFROM:+0100
TZOFFSETTO:+0200
TZNAME:CEST
DTSTART:20230326T010000
END:DAYLIGHT
BEGIN:STANDARD
TZOFFSETFROM:+0200
TZOFFSETTO:+0100
TZNAME:CET
DTSTART:20231029T010000
END:STANDARD
BEGIN:DAYLIGHT
TZOFFSETFROM:+0100
TZOFFSETTO:+0200
TZNAME:CEST
DTSTART:20240331T010000
END:DAYLIGHT
BEGIN:STANDARD
TZOFFSETFROM:+0200
TZOFFSETTO:+0100
TZNAME:CET
DTSTART:20241027T010000
END:STANDARD
END:VTIMEZONE
BEGIN:VEVENT
DTSTART;TZID=Europe/Berlin:20230103T183000
DTEND;TZID=Europe/Berlin:20230103T183000
DTSTAMP:20260424T003241
CREATED:20230102T130942Z
LAST-MODIFIED:20230102T131352Z
UID:5336-1672770600-1672770600@pfarrei-bnaw.de
SUMMARY:Sterbeamt Papst em. Benedikt XVI.
DESCRIPTION:Die Abendmesse am Dienstag\, 18:30 Uhr in Laurentius wird als Sterbeamt gefeiert.
URL:https://pfarrei-bnaw.de/event/sterbeamt-papst-em-benedikt-xvi/
END:VEVENT
BEGIN:VEVENT
DTSTART;TZID=Europe/Berlin:20230105T193000
DTEND;TZID=Europe/Berlin:20230105T210000
DTSTAMP:20260424T003241
CREATED:20230102T130956Z
LAST-MODIFIED:20230102T131337Z
UID:5338-1672947000-1672952400@pfarrei-bnaw.de
SUMMARY:Familienabend
DESCRIPTION:
URL:https://pfarrei-bnaw.de/event/familienabend/
END:VEVENT
BEGIN:VEVENT
DTSTART;TZID=Europe/Berlin:20230106T140000
DTEND;TZID=Europe/Berlin:20230106T160000
DTSTAMP:20260424T003241
CREATED:20230102T131033Z
LAST-MODIFIED:20230102T131053Z
UID:5340-1673013600-1673020800@pfarrei-bnaw.de
SUMMARY:Krippe St. Anna
DESCRIPTION:Ehrenamtliche Helfer haben in liebevoller Arbeit wieder die Krippe in der St. Anna-Kapelle aufgebaut. Daher bleibt die St. Anna-Kapelle\, außer zu den Gottesdienstzeiten\, tagsüber geschlossen. Die Krippe kann besichtigt werden am ersten und zweiten Weihnachts-Feiertag\, an Neujahr\, an Heilige Dreikönige\, 6.1.2022 und am Sonntag\, 8.1.2022 jeweils von 14.00 bis 16.00 Uhr.
URL:https://pfarrei-bnaw.de/event/krippe-st-anna/
END:VEVENT
BEGIN:VEVENT
DTSTART;VALUE=DATE:20230107
DTEND;VALUE=DATE:20230108
DTSTAMP:20260424T003241
CREATED:20221202T182943Z
LAST-MODIFIED:20221202T182943Z
UID:5049-1673049600-1673135999@pfarrei-bnaw.de
SUMMARY:Sternsinger im Pfarrbezirk St. Laurentius
DESCRIPTION:
URL:https://pfarrei-bnaw.de/event/sternsinger-im-pfarrbezirk-st-laurentius/
END:VEVENT
BEGIN:VEVENT
DTSTART;TZID=Europe/Berlin:20230108T140000
DTEND;TZID=Europe/Berlin:20230108T160000
DTSTAMP:20260424T003241
CREATED:20230102T131117Z
LAST-MODIFIED:20230102T131117Z
UID:5342-1673186400-1673193600@pfarrei-bnaw.de
SUMMARY:Krippe St. Anna
DESCRIPTION:Ehrenamtliche Helfer haben in liebevoller Arbeit wieder die Krippe in der St. Anna-Kapelle aufgebaut. Daher bleibt die St. Anna-Kapelle\, außer zu den Gottesdienstzeiten\, tagsüber geschlossen. Die Krippe kann besichtigt werden am ersten und zweiten Weihnachts-Feiertag\, an Neujahr\, an Heilige Dreikönige\, 6.1.2022 und am Sonntag\, 8.1.2022 jeweils von 14.00 bis 16.00 Uhr.
URL:https://pfarrei-bnaw.de/event/krippe-st-anna-2/
END:VEVENT
BEGIN:VEVENT
DTSTART;TZID=Europe/Berlin:20230114T093000
DTEND;TZID=Europe/Berlin:20230114T113000
DTSTAMP:20260424T003241
CREATED:20230102T131210Z
LAST-MODIFIED:20230102T131210Z
UID:5344-1673688600-1673695800@pfarrei-bnaw.de
SUMMARY:Frauenfrühstück im Neuen Jahr
DESCRIPTION:Für Samstag\, den 14. Januar von 9.30 bis 11.30 Uhr\, ist das erste „Frauenfrühstück“ im Neuen Jahr im Pfarrsaal Heppingen geplant. Ganz herzliche Einladung dazu! Ganz herzliche Einladung an alle Frauen\, die Zeit und Lust haben\, sich auf diese Weise auszutauschen! Wir bitten\, zwecks Planung\, um Anmeldung bis zum Mittwoch vorher (11. Januar) entweder unter der Nr. 0162 6460239 oder unter 02641 21752 oder bei Ria Lindner oder Bea Danko.
URL:https://pfarrei-bnaw.de/event/frauenfruehstueck-im-neuen-jahr/
END:VEVENT
BEGIN:VEVENT
DTSTART;TZID=Europe/Berlin:20230118T190000
DTEND;TZID=Europe/Berlin:20230118T190000
DTSTAMP:20260424T003241
CREATED:20230102T131252Z
LAST-MODIFIED:20230103T093126Z
UID:5346-1674068400-1674068400@pfarrei-bnaw.de
SUMMARY:Lieblingsgebet
DESCRIPTION:Vielleich ist ein Lieblingslied\, ein Bibelzitat oder ein anderer Text mit besonderer Bedeutung für Ihr Leben – schon lange bekannt oder gerade erst kennengelernt. Vielleich möchten Sie lieber zuhören oder in der Gemeinschaft beten – wie auch immer. Herzlich willkommen zum nächsten Lieblingsgebt! Bringen Sie Ihren Text doch gerne mit und zwar am Mittwoch\, 18. Januar um 19.00 Uhr in der Kirche St. Martin oder im Pfarrsaal. \n 
URL:https://pfarrei-bnaw.de/event/lieblingsgebet-3/
END:VEVENT
BEGIN:VEVENT
DTSTART;TZID=Europe/Berlin:20230123T080000
DTEND;TZID=Europe/Berlin:20230123T170000
DTSTAMP:20260424T003241
CREATED:20230123T105723Z
LAST-MODIFIED:20230123T105723Z
UID:5512-1674460800-1674493200@pfarrei-bnaw.de
SUMMARY:Mitmach-Kirche in Heimersheim für Kinder
DESCRIPTION:
URL:https://pfarrei-bnaw.de/event/mitmach-kirche-in-heimersheim-fuer-kinder/
END:VEVENT
BEGIN:VEVENT
DTSTART;TZID=Europe/Berlin:20230127T150000
DTEND;TZID=Europe/Berlin:20230127T150000
DTSTAMP:20260424T003241
CREATED:20230123T103248Z
LAST-MODIFIED:20230123T103248Z
UID:5508-1674831600-1674831600@pfarrei-bnaw.de
SUMMARY:KFD Laurentius Mitgliederversammlung
DESCRIPTION:Das kfd- Leitungsteam St. Laurentius lädt seine Mitglieder zur Mitgliederversammlung herzlich ein\, und zwar am 27.01.2023 in die Zehntscheuer. Sie beginnt mit einer Wortgottesfeier um 15.00 Uhr. Die Tagesordnung ist wie folgt:  \n\nBegrüßung\nGrußwort des Präses\nJahresbericht\nAussprache zum Jahresbericht\nKassenbericht der Kassenwartin\nBericht der Kassenprüferin\nAussprache zum Kassenbericht und Kassenprüfbericht\nEntlastung des Leitungsteams\nWahl der Kassenprüferinnen\nWahl der geistlichen Begleiterin\nVerschiedenes\n\nAnträge zur bestehenden Tagesordnung können bis zum 22.01.2023 an Mailadresse luweaw@web.de gesandt werden.
URL:https://pfarrei-bnaw.de/event/kfd-laurentius-mitgliederversammlung/
END:VEVENT
BEGIN:VEVENT
DTSTART;TZID=Europe/Berlin:20230127T150000
DTEND;TZID=Europe/Berlin:20230127T180000
DTSTAMP:20260424T003241
CREATED:20230123T103104Z
LAST-MODIFIED:20230123T103104Z
UID:5504-1674831600-1674842400@pfarrei-bnaw.de
SUMMARY:Messdiener Aktionstag rund um Lau
DESCRIPTION:
URL:https://pfarrei-bnaw.de/event/messdiener-aktionstag-rund-um-lau/
END:VEVENT
BEGIN:VEVENT
DTSTART;TZID=Europe/Berlin:20230127T190000
DTEND;TZID=Europe/Berlin:20230127T190000
DTSTAMP:20260424T003241
CREATED:20230123T103130Z
LAST-MODIFIED:20230123T103130Z
UID:5506-1674846000-1674846000@pfarrei-bnaw.de
SUMMARY:Spirituelle Weinprobe
DESCRIPTION:
URL:https://pfarrei-bnaw.de/event/spirituelle-weinprobe/
END:VEVENT
END:VCALENDAR