BEGIN:VCALENDAR
VERSION:2.0
PRODID:-//Pfarrei Bad Neuenahr-Ahrweiler - ECPv6.15.20//NONSGML v1.0//EN
CALSCALE:GREGORIAN
METHOD:PUBLISH
X-WR-CALNAME:Pfarrei Bad Neuenahr-Ahrweiler
X-ORIGINAL-URL:https://pfarrei-bnaw.de
X-WR-CALDESC:Veranstaltungen für Pfarrei Bad Neuenahr-Ahrweiler
REFRESH-INTERVAL;VALUE=DURATION:PT1H
X-Robots-Tag:noindex
X-PUBLISHED-TTL:PT1H
BEGIN:VTIMEZONE
TZID:Europe/Berlin
BEGIN:DAYLIGHT
TZOFFSETFROM:+0100
TZOFFSETTO:+0200
TZNAME:CEST
DTSTART:20220327T010000
END:DAYLIGHT
BEGIN:STANDARD
TZOFFSETFROM:+0200
TZOFFSETTO:+0100
TZNAME:CET
DTSTART:20221030T010000
END:STANDARD
BEGIN:DAYLIGHT
TZOFFSETFROM:+0100
TZOFFSETTO:+0200
TZNAME:CEST
DTSTART:20230326T010000
END:DAYLIGHT
BEGIN:STANDARD
TZOFFSETFROM:+0200
TZOFFSETTO:+0100
TZNAME:CET
DTSTART:20231029T010000
END:STANDARD
BEGIN:DAYLIGHT
TZOFFSETFROM:+0100
TZOFFSETTO:+0200
TZNAME:CEST
DTSTART:20240331T010000
END:DAYLIGHT
BEGIN:STANDARD
TZOFFSETFROM:+0200
TZOFFSETTO:+0100
TZNAME:CET
DTSTART:20241027T010000
END:STANDARD
END:VTIMEZONE
BEGIN:VEVENT
DTSTART;TZID=Europe/Berlin:20230301T180000
DTEND;TZID=Europe/Berlin:20230301T180000
DTSTAMP:20260423T215149
CREATED:20230123T111455Z
LAST-MODIFIED:20230123T111455Z
UID:5561-1677693600-1677693600@pfarrei-bnaw.de
SUMMARY:Kreuzwegandacht
DESCRIPTION:Um 18:00 Uhr in der Zehntscheuer bzw. in St. Laurentius! Herzliche Einladung.
URL:https://pfarrei-bnaw.de/event/kreuzwegandacht/
END:VEVENT
BEGIN:VEVENT
DTSTART;TZID=Europe/Berlin:20230307T190000
DTEND;TZID=Europe/Berlin:20230307T190000
DTSTAMP:20260423T215149
CREATED:20230310T154244Z
LAST-MODIFIED:20230310T154244Z
UID:5890-1678215600-1678215600@pfarrei-bnaw.de
SUMMARY:Treffen der Ehren- und Hauptamtlichen im Pfarrbezirk Ahrweiler
DESCRIPTION:Am Dienstag\, 7. März\, lädt das Lokale Team Ahrweiler alle Ehren- und Hauptamtlichen des Pfarrbezirks ein. Treffpunkt 19:00 Uhr Zehntscheuer.
URL:https://pfarrei-bnaw.de/event/treffen-der-ehren-und-hauptamtlichen-im-pfarrbezirk-ahrweiler/
END:VEVENT
BEGIN:VEVENT
DTSTART;TZID=Europe/Berlin:20230308T180000
DTEND;TZID=Europe/Berlin:20230308T180000
DTSTAMP:20260423T215149
CREATED:20230123T111518Z
LAST-MODIFIED:20230123T111518Z
UID:5563-1678298400-1678298400@pfarrei-bnaw.de
SUMMARY:Kreuzwegandacht
DESCRIPTION:Um 18:00 Uhr in der Zehntscheuer bzw. in St. Laurentius! Herzliche Einladung.
URL:https://pfarrei-bnaw.de/event/kreuzwegandacht-2/
END:VEVENT
BEGIN:VEVENT
DTSTART;TZID=Europe/Berlin:20230308T190000
DTEND;TZID=Europe/Berlin:20230308T190000
DTSTAMP:20260423T215149
CREATED:20230123T110419Z
LAST-MODIFIED:20230123T110419Z
UID:5530-1678302000-1678302000@pfarrei-bnaw.de
SUMMARY:Spätschicht in der Fastenzeit - Heimersheim
DESCRIPTION:Das Lokale Team Heimersheim lädt zu Spätschichten in der Fastenzeit ein. Gemeinsam mit Liedern und Texten auf Ostern zugehen. \nOrt: Alte Kirche Heimersheim
URL:https://pfarrei-bnaw.de/event/spaetschicht-in-der-fastenzeit-heimersheim/
END:VEVENT
BEGIN:VEVENT
DTSTART;TZID=Europe/Berlin:20230311T100000
DTEND;TZID=Europe/Berlin:20230311T160000
DTSTAMP:20260423T215149
CREATED:20230310T154406Z
LAST-MODIFIED:20230310T160107Z
UID:5892-1678528800-1678550400@pfarrei-bnaw.de
SUMMARY:Kreativtechniken
DESCRIPTION:
URL:https://pfarrei-bnaw.de/event/kreativtechniken/
END:VEVENT
BEGIN:VEVENT
DTSTART;TZID=Europe/Berlin:20230315T180000
DTEND;TZID=Europe/Berlin:20230315T180000
DTSTAMP:20260423T215149
CREATED:20230123T111539Z
LAST-MODIFIED:20230123T111539Z
UID:5565-1678903200-1678903200@pfarrei-bnaw.de
SUMMARY:Kreuzwegandacht
DESCRIPTION:Um 18:00 Uhr in der Zehntscheuer bzw. in St. Laurentius! Herzliche Einladung.
URL:https://pfarrei-bnaw.de/event/kreuzwegandacht-3/
END:VEVENT
BEGIN:VEVENT
DTSTART;TZID=Europe/Berlin:20230316T190000
DTEND;TZID=Europe/Berlin:20230316T190000
DTSTAMP:20260423T215149
CREATED:20230310T154010Z
LAST-MODIFIED:20230310T154010Z
UID:5887-1678993200-1678993200@pfarrei-bnaw.de
SUMMARY:Wortschatz - Schreibwerkstatt in Walporzheim
DESCRIPTION:
URL:https://pfarrei-bnaw.de/event/wortschatz-schreibwerkstatt-in-walporzheim/
END:VEVENT
BEGIN:VEVENT
DTSTART;TZID=Europe/Berlin:20230322T180000
DTEND;TZID=Europe/Berlin:20230322T180000
DTSTAMP:20260423T215149
CREATED:20230123T111554Z
LAST-MODIFIED:20230123T111554Z
UID:5567-1679508000-1679508000@pfarrei-bnaw.de
SUMMARY:Kreuzwegandacht
DESCRIPTION:Um 18:00 Uhr in der Zehntscheuer bzw. in St. Laurentius! Herzliche Einladung.
URL:https://pfarrei-bnaw.de/event/kreuzwegandacht-4/
END:VEVENT
BEGIN:VEVENT
DTSTART;TZID=Europe/Berlin:20230322T190000
DTEND;TZID=Europe/Berlin:20230322T190000
DTSTAMP:20260423T215149
CREATED:20230123T110448Z
LAST-MODIFIED:20230123T110448Z
UID:5532-1679511600-1679511600@pfarrei-bnaw.de
SUMMARY:Spätschichten in der Fastenzeit in Heimersheim
DESCRIPTION:Das Lokale Team Heimersheim lädt zu Spätschichten in der Fastenzeit ein. Gemeinsam mit Liedern und Texten auf Ostern zugehen. \nOrt: Alte Kirche Heimersheim
URL:https://pfarrei-bnaw.de/event/spaetschichten-in-der-fastenzeit-in-heimersheim/
END:VEVENT
BEGIN:VEVENT
DTSTART;VALUE=DATE:20230324
DTEND;VALUE=DATE:20230325
DTSTAMP:20260423T215149
CREATED:20230123T110837Z
LAST-MODIFIED:20230123T110837Z
UID:5539-1679616000-1679702399@pfarrei-bnaw.de
SUMMARY:Nightfever
DESCRIPTION:Nähere Infos Folgen
URL:https://pfarrei-bnaw.de/event/nightfever/
END:VEVENT
BEGIN:VEVENT
DTSTART;TZID=Europe/Berlin:20230325T100000
DTEND;TZID=Europe/Berlin:20230325T170000
DTSTAMP:20260423T215149
CREATED:20230123T110814Z
LAST-MODIFIED:20230123T110814Z
UID:5536-1679738400-1679763600@pfarrei-bnaw.de
SUMMARY:Zuversicht in unsicheren Zeiten (Resilienz) - Ganztägige Veranstaltung
DESCRIPTION:  \nZuversicht in unsicheren Zeiten\n(Tagesveranstaltung zum Thema „Resilienz“) \nIm Alltag\, insbesondere in herausfordernden und krisenhaften Zeiten ist es für viele Menschen wesentlich\, die eigene innere Widerstandskraft und Stabilität als gute Basis für ein selbstbewusstes und erfülltes Leben zu entdecken und zu stärken. \nDer Tag bietet die Möglichkeit mit thematischen Impulsen\, Zeiten des Austausches und kreativen Angeboten gemeinsam der Frage nach zu gehen\, wie es angesichts verschiedener Herausforderungen und Belastungen mehr und mehr gelingen kann\, gut für uns selbst zu sorgen. \nSamstag\, 25. März 2023\, 10.00 bis 17.00 Uhr in der Jugendherberge Bad Neuenahr-Ahrweiler  \nKursleitung:  \nHans-Jörg Hayer | Dipl.-Kfm.\, Coach\, Supervisor\, Moderator und Elisabeth Hauröder | Pastoralreferentin \nVeranstalter: \nBistum Trier\, Arbeitsbereich Ehrenamtsentwicklung und Pastoraler Raum Bad Neuenahr-Ahrweiler \nAnmeldungen bitte bis 23. Februar bei: elisabeth.hauroeder(at)bistum-trier.de oder Tel.: 02691-932346
URL:https://pfarrei-bnaw.de/event/zuversicht-in-unsicheren-zeiten-resilienz-ganztaegige-veranstaltung/
END:VEVENT
BEGIN:VEVENT
DTSTART;TZID=Europe/Berlin:20230326T110000
DTEND;TZID=Europe/Berlin:20230326T110000
DTSTAMP:20260423T215149
CREATED:20230318T111126Z
LAST-MODIFIED:20230318T111126Z
UID:5983-1679828400-1679828400@pfarrei-bnaw.de
SUMMARY:Familiengottesdienst
DESCRIPTION:
URL:https://pfarrei-bnaw.de/event/familiengottesdienst/
END:VEVENT
BEGIN:VEVENT
DTSTART;TZID=Europe/Berlin:20230329T180000
DTEND;TZID=Europe/Berlin:20230329T180000
DTSTAMP:20260423T215149
CREATED:20230123T111612Z
LAST-MODIFIED:20230123T111612Z
UID:5569-1680112800-1680112800@pfarrei-bnaw.de
SUMMARY:Kreuzwegandacht
DESCRIPTION:Um 18:00 Uhr in der Zehntscheuer bzw. in St. Laurentius! Herzliche Einladung.
URL:https://pfarrei-bnaw.de/event/kreuzwegandacht-5/
END:VEVENT
END:VCALENDAR