BEGIN:VCALENDAR
VERSION:2.0
PRODID:-//Pfarrei Bad Neuenahr-Ahrweiler - ECPv6.15.20//NONSGML v1.0//EN
CALSCALE:GREGORIAN
METHOD:PUBLISH
X-WR-CALNAME:Pfarrei Bad Neuenahr-Ahrweiler
X-ORIGINAL-URL:https://pfarrei-bnaw.de
X-WR-CALDESC:Veranstaltungen für Pfarrei Bad Neuenahr-Ahrweiler
REFRESH-INTERVAL;VALUE=DURATION:PT1H
X-Robots-Tag:noindex
X-PUBLISHED-TTL:PT1H
BEGIN:VTIMEZONE
TZID:Europe/Berlin
BEGIN:DAYLIGHT
TZOFFSETFROM:+0100
TZOFFSETTO:+0200
TZNAME:CEST
DTSTART:20220327T010000
END:DAYLIGHT
BEGIN:STANDARD
TZOFFSETFROM:+0200
TZOFFSETTO:+0100
TZNAME:CET
DTSTART:20221030T010000
END:STANDARD
BEGIN:DAYLIGHT
TZOFFSETFROM:+0100
TZOFFSETTO:+0200
TZNAME:CEST
DTSTART:20230326T010000
END:DAYLIGHT
BEGIN:STANDARD
TZOFFSETFROM:+0200
TZOFFSETTO:+0100
TZNAME:CET
DTSTART:20231029T010000
END:STANDARD
BEGIN:DAYLIGHT
TZOFFSETFROM:+0100
TZOFFSETTO:+0200
TZNAME:CEST
DTSTART:20240331T010000
END:DAYLIGHT
BEGIN:STANDARD
TZOFFSETFROM:+0200
TZOFFSETTO:+0100
TZNAME:CET
DTSTART:20241027T010000
END:STANDARD
END:VTIMEZONE
BEGIN:VEVENT
DTSTART;VALUE=DATE:20230501
DTEND;VALUE=DATE:20230502
DTSTAMP:20260423T185300
CREATED:20230123T111136Z
LAST-MODIFIED:20230123T111136Z
UID:5551-1682899200-1682985599@pfarrei-bnaw.de
SUMMARY:Kommunionfeier in Heimersheim
DESCRIPTION:
URL:https://pfarrei-bnaw.de/event/kommunionfeier-in-heimersheim/
END:VEVENT
BEGIN:VEVENT
DTSTART;TZID=Europe/Berlin:20230502T100000
DTEND;TZID=Europe/Berlin:20230502T113000
DTSTAMP:20260423T185300
CREATED:20230416T182448Z
LAST-MODIFIED:20230416T182448Z
UID:6300-1683021600-1683027000@pfarrei-bnaw.de
SUMMARY:Tanz mit\, bleib fit!
DESCRIPTION:Tanz mit\, bleib fit! \nunter diesem Motto bietet die kfd St. Laurentius ab dem 18. April 2023 wöchentlich von 10:00 – 11.30 Uhr in der Zehntscheuer einen 8- teiligen Kurs an. Sie lernen Schrittfolgen für Kreis-\, Gassen-\, Folklore- und Line- Tänze. Tanzen macht Spaß und ist ein fröhlicher Ausgleich zum Alltag. Tanzen verbessert die Beweglichkeit\, die Konzentration und die Koordination. \nTänzerische Vorkenntnisse sind nicht nötig. Ein Partner ist nicht erforderlich. \nKursleitung: Irmi Kettermann \nKursgebühr: 32 € Mitglieder; 48 € Nichtmitglieder \nAnmeldung erbeten an:\nIrmi Kettermann Tel. 0176 87731077 oder Renate Hermann Tel. 0151 68168792
URL:https://pfarrei-bnaw.de/event/tanz-mit-bleib-fit-3/
END:VEVENT
BEGIN:VEVENT
DTSTART;TZID=Europe/Berlin:20230502T193000
DTEND;TZID=Europe/Berlin:20230502T193000
DTSTAMP:20260423T185300
CREATED:20230416T182754Z
LAST-MODIFIED:20230416T182754Z
UID:6312-1683055800-1683055800@pfarrei-bnaw.de
SUMMARY:Bibliolog
DESCRIPTION:Am Dienstag\, 02. Mai  um 19:30 Uhr in der Zehntscheuer bietet die kfd St. Laurentius nach langer Pause wieder einen Biblioblog mit Uschi Läufer UAC an. Diese Methode ermuntert zum Dialog zwischen biblischem Text und eigener Lebensgeschichte. Die Anwesenden identifizieren sich nacheinander mit mehreren biblischen Gestalten und können sich aus diesen Rollen heraus äußern\, und zwar gerade zu den Text-Zwischenräumen\, in denen das „weiße Feuer“ lodert.
URL:https://pfarrei-bnaw.de/event/bibliolog/
END:VEVENT
BEGIN:VEVENT
DTSTART;TZID=Europe/Berlin:20230508T180000
DTEND;TZID=Europe/Berlin:20230508T180000
DTSTAMP:20260423T185300
CREATED:20230416T183944Z
LAST-MODIFIED:20230416T183944Z
UID:6318-1683568800-1683568800@pfarrei-bnaw.de
SUMMARY:Maiandacht
DESCRIPTION:Montag\, 8. Mai\, 18 Uhr\, Zehntscheuer Ahrweiler!
URL:https://pfarrei-bnaw.de/event/maiandacht/
END:VEVENT
BEGIN:VEVENT
DTSTART;TZID=Europe/Berlin:20230509T100000
DTEND;TZID=Europe/Berlin:20230509T113000
DTSTAMP:20260423T185300
CREATED:20230416T182531Z
LAST-MODIFIED:20230416T182531Z
UID:6302-1683626400-1683631800@pfarrei-bnaw.de
SUMMARY:Tanz mit\, bleib fit!
DESCRIPTION:Tanz mit\, bleib fit! \nunter diesem Motto bietet die kfd St. Laurentius ab dem 18. April 2023 wöchentlich von 10:00 – 11.30 Uhr in der Zehntscheuer einen 8- teiligen Kurs an. Sie lernen Schrittfolgen für Kreis-\, Gassen-\, Folklore- und Line- Tänze. Tanzen macht Spaß und ist ein fröhlicher Ausgleich zum Alltag. Tanzen verbessert die Beweglichkeit\, die Konzentration und die Koordination. \nTänzerische Vorkenntnisse sind nicht nötig. Ein Partner ist nicht erforderlich. \nKursleitung: Irmi Kettermann \nKursgebühr: 32 € Mitglieder; 48 € Nichtmitglieder \nAnmeldung erbeten an:\nIrmi Kettermann Tel. 0176 87731077 oder Renate Hermann Tel. 0151 68168792
URL:https://pfarrei-bnaw.de/event/tanz-mit-bleib-fit-4/
END:VEVENT
BEGIN:VEVENT
DTSTART;TZID=Europe/Berlin:20230509T183000
DTEND;TZID=Europe/Berlin:20230509T183000
DTSTAMP:20260423T185300
CREATED:20230509T093111Z
LAST-MODIFIED:20230509T093111Z
UID:6476-1683657000-1683657000@pfarrei-bnaw.de
SUMMARY:Europatag in der Pfarrei Bad Neuenahr-Ahrweiler
DESCRIPTION:Say cheese ! Aus dem Ahrtal über Brasschaat nach Europa! \nAm 9. Mai wird in Europa der Europatag begangen\, ein Tag für Einheit und Frieden in Europa. Auch in der Pfarrei Bad Neuenahr-Ahrweiler soll dieser Tag gemeinsam begangen werden. Dazu wird Wolfgang Horrmann\, Vorsitzender des Partnerschaftskomitees\, die Gäste in die Partnerstadt der Stadt nach Brasschaat\, Belgien entführen.  \nWas verbindet Europa als hervorragendes Essen! Der Abend wird deshalb immer wieder durch kleine Probe einer europäischen Spezialität unterbrochen werden – und was würde da besser passen als Käse?  \nGouda\, Feta und Mozarella sind vielen ein Begriff\, doch was hat Europa noch zu bieten? Herzliche Einladung an alle am Dienstag\, den 9. Mai 2023 ab 19:30 Uhr  gemeinsam in der Zehntscheune Ahrweiler diesen Europatag zu feiern. Vorab sind alle herzlich eingeladen am Gottesdienst um 18:30 Uhr in der Zehntscheune teilzunehmen. 
URL:https://pfarrei-bnaw.de/event/europatag-in-der-pfarrei-bad-neuenahr-ahrweiler/
END:VEVENT
BEGIN:VEVENT
DTSTART;TZID=Europe/Berlin:20230510T200000
DTEND;TZID=Europe/Berlin:20230510T200000
DTSTAMP:20260423T185300
CREATED:20230416T184356Z
LAST-MODIFIED:20230416T184356Z
UID:6320-1683748800-1683748800@pfarrei-bnaw.de
SUMMARY:Lieblingsgebet
DESCRIPTION:
URL:https://pfarrei-bnaw.de/event/lieblingsgebet-4/
END:VEVENT
BEGIN:VEVENT
DTSTART;TZID=Europe/Berlin:20230516T100000
DTEND;TZID=Europe/Berlin:20230516T113000
DTSTAMP:20260423T185300
CREATED:20230416T182559Z
LAST-MODIFIED:20230416T182559Z
UID:6304-1684231200-1684236600@pfarrei-bnaw.de
SUMMARY:Tanz mit\, bleib fit!
DESCRIPTION:Tanz mit\, bleib fit! \nunter diesem Motto bietet die kfd St. Laurentius ab dem 18. April 2023 wöchentlich von 10:00 – 11.30 Uhr in der Zehntscheuer einen 8- teiligen Kurs an. Sie lernen Schrittfolgen für Kreis-\, Gassen-\, Folklore- und Line- Tänze. Tanzen macht Spaß und ist ein fröhlicher Ausgleich zum Alltag. Tanzen verbessert die Beweglichkeit\, die Konzentration und die Koordination. \nTänzerische Vorkenntnisse sind nicht nötig. Ein Partner ist nicht erforderlich. \nKursleitung: Irmi Kettermann \nKursgebühr: 32 € Mitglieder; 48 € Nichtmitglieder \nAnmeldung erbeten an:\nIrmi Kettermann Tel. 0176 87731077 oder Renate Hermann Tel. 0151 68168792
URL:https://pfarrei-bnaw.de/event/tanz-mit-bleib-fit-5/
END:VEVENT
BEGIN:VEVENT
DTSTART;TZID=Europe/Berlin:20230523T100000
DTEND;TZID=Europe/Berlin:20230523T113000
DTSTAMP:20260423T185300
CREATED:20230416T182626Z
LAST-MODIFIED:20230416T182626Z
UID:6306-1684836000-1684841400@pfarrei-bnaw.de
SUMMARY:Tanz mit\, bleib fit!
DESCRIPTION:Tanz mit\, bleib fit! \nunter diesem Motto bietet die kfd St. Laurentius ab dem 18. April 2023 wöchentlich von 10:00 – 11.30 Uhr in der Zehntscheuer einen 8- teiligen Kurs an. Sie lernen Schrittfolgen für Kreis-\, Gassen-\, Folklore- und Line- Tänze. Tanzen macht Spaß und ist ein fröhlicher Ausgleich zum Alltag. Tanzen verbessert die Beweglichkeit\, die Konzentration und die Koordination. \nTänzerische Vorkenntnisse sind nicht nötig. Ein Partner ist nicht erforderlich. \nKursleitung: Irmi Kettermann \nKursgebühr: 32 € Mitglieder; 48 € Nichtmitglieder \nAnmeldung erbeten an:\nIrmi Kettermann Tel. 0176 87731077 oder Renate Hermann Tel. 0151 68168792
URL:https://pfarrei-bnaw.de/event/tanz-mit-bleib-fit-6/
END:VEVENT
BEGIN:VEVENT
DTSTART;TZID=Europe/Berlin:20230525T150000
DTEND;TZID=Europe/Berlin:20230525T150000
DTSTAMP:20260423T185300
CREATED:20230416T182119Z
LAST-MODIFIED:20230416T182119Z
UID:6289-1685026800-1685026800@pfarrei-bnaw.de
SUMMARY:„Auszeit“ - Meditation - Beten - Singen - Stille - Beisammensein  auf der Landskrone
DESCRIPTION:Herzliche Einladung zur monatlichen Andacht in der Maria Hilf-Kapelle auf der Landskrone jeweils um 15.00 Uhr. Die nächsten Termine sind 20. April\, 25. Mai\, 15. Juni
URL:https://pfarrei-bnaw.de/event/auszeit-meditation-beten-singen-stille-beisammensein-auf-der-landskrone-2/
END:VEVENT
BEGIN:VEVENT
DTSTART;TZID=Europe/Berlin:20230528T100000
DTEND;TZID=Europe/Berlin:20230528T180000
DTSTAMP:20260423T185300
CREATED:20230524T152043Z
LAST-MODIFIED:20230524T152043Z
UID:6584-1685268000-1685296800@pfarrei-bnaw.de
SUMMARY:Offene Kirche - Bad Neuenahr
DESCRIPTION:Am Pfingstsonntag\, den 28. Mai sind alle herzlich eingeladen zur offenen Kirche! Die festlich geschmückte Rosenkranz Kirche lädt ein zum verweilen und ab 17:30 wird die Orgel erklingen – gespielt von Matthias Gampe! ⛪️ 🎹 \n\n\n \n\n\nVon 10 bis 18:30 Uhr besteht die Chance die Kirche zu besuchen. Zum Abschluss besteht die Möglichkeit an der Abendmesse um 18:30 Uhr teilzunehmen. \n\n\n \n\n\nKommen Sie vorbei und besuchen Sie die Kirche! Wir freuen uns auf Sie/Dich!
URL:https://pfarrei-bnaw.de/event/offene-kirche-bad-neuenahr/
END:VEVENT
BEGIN:VEVENT
DTSTART;TZID=Europe/Berlin:20230530T100000
DTEND;TZID=Europe/Berlin:20230530T113000
DTSTAMP:20260423T185300
CREATED:20230416T182702Z
LAST-MODIFIED:20230416T182702Z
UID:6308-1685440800-1685446200@pfarrei-bnaw.de
SUMMARY:Tanz mit\, bleib fit!
DESCRIPTION:Tanz mit\, bleib fit! \nunter diesem Motto bietet die kfd St. Laurentius ab dem 18. April 2023 wöchentlich von 10:00 – 11.30 Uhr in der Zehntscheuer einen 8- teiligen Kurs an. Sie lernen Schrittfolgen für Kreis-\, Gassen-\, Folklore- und Line- Tänze. Tanzen macht Spaß und ist ein fröhlicher Ausgleich zum Alltag. Tanzen verbessert die Beweglichkeit\, die Konzentration und die Koordination. \nTänzerische Vorkenntnisse sind nicht nötig. Ein Partner ist nicht erforderlich. \nKursleitung: Irmi Kettermann \nKursgebühr: 32 € Mitglieder; 48 € Nichtmitglieder \nAnmeldung erbeten an:\nIrmi Kettermann Tel. 0176 87731077 oder Renate Hermann Tel. 0151 68168792
URL:https://pfarrei-bnaw.de/event/tanz-mit-bleib-fit-7/
END:VEVENT
END:VCALENDAR