BEGIN:VCALENDAR
VERSION:2.0
PRODID:-//Pfarrei Bad Neuenahr-Ahrweiler - ECPv6.15.20//NONSGML v1.0//EN
CALSCALE:GREGORIAN
METHOD:PUBLISH
X-ORIGINAL-URL:https://pfarrei-bnaw.de
X-WR-CALDESC:Veranstaltungen für Pfarrei Bad Neuenahr-Ahrweiler
REFRESH-INTERVAL;VALUE=DURATION:PT1H
X-Robots-Tag:noindex
X-PUBLISHED-TTL:PT1H
BEGIN:VTIMEZONE
TZID:Europe/Berlin
BEGIN:DAYLIGHT
TZOFFSETFROM:+0100
TZOFFSETTO:+0200
TZNAME:CEST
DTSTART:20220327T010000
END:DAYLIGHT
BEGIN:STANDARD
TZOFFSETFROM:+0200
TZOFFSETTO:+0100
TZNAME:CET
DTSTART:20221030T010000
END:STANDARD
BEGIN:DAYLIGHT
TZOFFSETFROM:+0100
TZOFFSETTO:+0200
TZNAME:CEST
DTSTART:20230326T010000
END:DAYLIGHT
BEGIN:STANDARD
TZOFFSETFROM:+0200
TZOFFSETTO:+0100
TZNAME:CET
DTSTART:20231029T010000
END:STANDARD
BEGIN:DAYLIGHT
TZOFFSETFROM:+0100
TZOFFSETTO:+0200
TZNAME:CEST
DTSTART:20240331T010000
END:DAYLIGHT
BEGIN:STANDARD
TZOFFSETFROM:+0200
TZOFFSETTO:+0100
TZNAME:CET
DTSTART:20241027T010000
END:STANDARD
END:VTIMEZONE
BEGIN:VEVENT
DTSTART;VALUE=DATE:20230603
DTEND;VALUE=DATE:20230604
DTSTAMP:20260423T173453
CREATED:20230123T111217Z
LAST-MODIFIED:20230123T111217Z
UID:5555-1685750400-1685836799@pfarrei-bnaw.de
SUMMARY:Kommunionfeier in Ahrweiler
DESCRIPTION:
URL:https://pfarrei-bnaw.de/event/kommunionfeier-in-ahrweiler-2/
END:VEVENT
BEGIN:VEVENT
DTSTART;TZID=Europe/Berlin:20230606T100000
DTEND;TZID=Europe/Berlin:20230606T113000
DTSTAMP:20260423T173453
CREATED:20230416T182727Z
LAST-MODIFIED:20230416T182727Z
UID:6310-1686045600-1686051000@pfarrei-bnaw.de
SUMMARY:Tanz mit\, bleib fit!
DESCRIPTION:Tanz mit\, bleib fit! \nunter diesem Motto bietet die kfd St. Laurentius ab dem 18. April 2023 wöchentlich von 10:00 – 11.30 Uhr in der Zehntscheuer einen 8- teiligen Kurs an. Sie lernen Schrittfolgen für Kreis-\, Gassen-\, Folklore- und Line- Tänze. Tanzen macht Spaß und ist ein fröhlicher Ausgleich zum Alltag. Tanzen verbessert die Beweglichkeit\, die Konzentration und die Koordination. \nTänzerische Vorkenntnisse sind nicht nötig. Ein Partner ist nicht erforderlich. \nKursleitung: Irmi Kettermann \nKursgebühr: 32 € Mitglieder; 48 € Nichtmitglieder \nAnmeldung erbeten an:\nIrmi Kettermann Tel. 0176 87731077 oder Renate Hermann Tel. 0151 68168792
URL:https://pfarrei-bnaw.de/event/tanz-mit-bleib-fit-8/
END:VEVENT
BEGIN:VEVENT
DTSTART;TZID=Europe/Berlin:20230615T150000
DTEND;TZID=Europe/Berlin:20230615T150000
DTSTAMP:20260423T173453
CREATED:20230416T182141Z
LAST-MODIFIED:20230416T182141Z
UID:6291-1686841200-1686841200@pfarrei-bnaw.de
SUMMARY:„Auszeit“ - Meditation - Beten - Singen - Stille - Beisammensein  auf der Landskrone
DESCRIPTION:Herzliche Einladung zur monatlichen Andacht in der Maria Hilf-Kapelle auf der Landskrone jeweils um 15.00 Uhr. Die nächsten Termine sind 20. April\, 25. Mai\, 15. Juni
URL:https://pfarrei-bnaw.de/event/auszeit-meditation-beten-singen-stille-beisammensein-auf-der-landskrone-3/
END:VEVENT
BEGIN:VEVENT
DTSTART;VALUE=DATE:20230617
DTEND;VALUE=DATE:20230618
DTSTAMP:20260423T173453
CREATED:20230123T111203Z
LAST-MODIFIED:20230123T111203Z
UID:5553-1686960000-1687046399@pfarrei-bnaw.de
SUMMARY:Kommunionfeier in Ahrweiler
DESCRIPTION:
URL:https://pfarrei-bnaw.de/event/kommunionfeier-in-ahrweiler/
END:VEVENT
END:VCALENDAR