BEGIN:VCALENDAR
VERSION:2.0
PRODID:-//Pfarrei Bad Neuenahr-Ahrweiler - ECPv6.15.20//NONSGML v1.0//EN
CALSCALE:GREGORIAN
METHOD:PUBLISH
X-ORIGINAL-URL:https://pfarrei-bnaw.de
X-WR-CALDESC:Veranstaltungen für Pfarrei Bad Neuenahr-Ahrweiler
REFRESH-INTERVAL;VALUE=DURATION:PT1H
X-Robots-Tag:noindex
X-PUBLISHED-TTL:PT1H
BEGIN:VTIMEZONE
TZID:Europe/Berlin
BEGIN:DAYLIGHT
TZOFFSETFROM:+0100
TZOFFSETTO:+0200
TZNAME:CEST
DTSTART:20220327T010000
END:DAYLIGHT
BEGIN:STANDARD
TZOFFSETFROM:+0200
TZOFFSETTO:+0100
TZNAME:CET
DTSTART:20221030T010000
END:STANDARD
BEGIN:DAYLIGHT
TZOFFSETFROM:+0100
TZOFFSETTO:+0200
TZNAME:CEST
DTSTART:20230326T010000
END:DAYLIGHT
BEGIN:STANDARD
TZOFFSETFROM:+0200
TZOFFSETTO:+0100
TZNAME:CET
DTSTART:20231029T010000
END:STANDARD
BEGIN:DAYLIGHT
TZOFFSETFROM:+0100
TZOFFSETTO:+0200
TZNAME:CEST
DTSTART:20240331T010000
END:DAYLIGHT
BEGIN:STANDARD
TZOFFSETFROM:+0200
TZOFFSETTO:+0100
TZNAME:CET
DTSTART:20241027T010000
END:STANDARD
END:VTIMEZONE
BEGIN:VEVENT
DTSTART;TZID=Europe/Berlin:20230702T160000
DTEND;TZID=Europe/Berlin:20230702T160000
DTSTAMP:20260423T161915
CREATED:20230524T151758Z
LAST-MODIFIED:20230524T151758Z
UID:6582-1688313600-1688313600@pfarrei-bnaw.de
SUMMARY:Bibel und Wein - Weinprobe in der alten Kirche St. Mauritius Heimersheim
DESCRIPTION:Biblische Geschichten von und über den Wein gibt es viele. Jedoch diese Geschichten verbunden mit einer Weinprobe in der 800 Jahre alten St. Mauritius Kirche – das gibt es eher selten! \nDeshalb lädt das Lokale Team Heimersheim gemeinsam mit Manfred R. Linden am Sonntag\, den 2. Juli 2023 um 16 Uhr zu einer spirituellen Weinprobe ein. Linden wird die Gäste in die Welt des Alten Testaments entführen und darbringen\, dass schon damals der Wein sehr geschätzt wurde. In der besonderen Atmosphäre der alten Kirche werden nach einem Sektempfang zwischen den einzelnen Präsentationen fünf verschiedene heimische Weine verkostet.  \nDie Veranstaltung findet im Rahmen des 800 jährigen Jubiläumsjahres der St. Mauritius Kirche statt und wird unterstützt durch die Volksbank Rhein Ahr Eifel eG. Um eine Anmeldung wird bis zum 30.06.2023 bei Manfred Linden Tel. 0176 62662730 oder Maria Hofmann Tel. 02641 26964 (AB) gebeten. Der Erlös der Veranstaltung wird dem Erhalt der historischen St. Mauritius Kirche zu Gute kommen\, weshalb ein Kostenbeitrag von 15 € erhoben wird. 
URL:https://pfarrei-bnaw.de/event/bibel-und-wein-weinprobe-in-der-alten-kirche-st-mauritius-heimersheim/
END:VEVENT
BEGIN:VEVENT
DTSTART;TZID=Europe/Berlin:20230709T103000
DTEND;TZID=Europe/Berlin:20230709T140000
DTSTAMP:20260423T161915
CREATED:20230508T082059Z
LAST-MODIFIED:20230611T191313Z
UID:6444-1688898600-1688911200@pfarrei-bnaw.de
SUMMARY:Sommerbrunch im Pfarrgarten
DESCRIPTION:Statt des bekannten Dinner im Pfarrgarten\, hat sich das Lokale Team etwas Neues überlegt – ein Sommerbrunch im Pfarrgarten. \n  \nGestartet wird um 10:30 Uhr mit einer Andacht und mündet in einen gemütlichen Brunch! \n  \nNähere Infos folgen!
URL:https://pfarrei-bnaw.de/event/sommerbrunch-im-pfarrgarten/
END:VEVENT
BEGIN:VEVENT
DTSTART;TZID=Europe/Berlin:20230716T110000
DTEND;TZID=Europe/Berlin:20230716T110000
DTSTAMP:20260423T161915
CREATED:20230611T185207Z
LAST-MODIFIED:20230611T185207Z
UID:6802-1689505200-1689505200@pfarrei-bnaw.de
SUMMARY:Teile-Fest Mondo-Amiki
DESCRIPTION:„Apthapi“ ist ein indigener Begriff aus dem Bolivianischen und beschreibt ein Treffen von Familien\, Freunden\, Nachbarn oder anderen Gemeinschaften\, bei denen jeder etwas zum gemeinsamen Essen beisteuert. Neudeutsch kennt man dies eher als „Bottle Party“. In Bolivien ist dieser Brauch bereits lange verwurzelt\, wird er dort vor allem bei wichtigen Festen und Zeremonien\, wie Hochzeiten\, Taufe\, Patronatsfesten etc. gelebt. Mondo Amiki greift diese Idee auf und veranstaltet am Sonntag\, dem 16. Juli ein solches Teile-Fest im Anschluss an die Familienmesse in St. Laurentius. Dieses wird in Zusammenarbeit mit dem Familienausschuss als Gemeindetreff auf dem Ahrweiler Marktplatz ausgerichtet. Der Grundgedanke des Teilens\, der Solidarität und der aktiven Gemeindearbeit stehen im Fokus. Jeder kann etwas zu dem Fest beisteuern und für Jung und Alt\, Groß und Klein ist etwas dabei. Der Tisch ist gedeckt und wartet auf viele verzehrfertige Speisen\, z.B. Salate\, Fingerfood\, Kuche\, Nachtisch oder eben alles\, was schmeckt! Für Wasser\, Apfelschorle und Kaffee ist gesorgt\, aber auch hier darf gerne Weiteres mitgebracht und geteilt werden. Der Familienausschuss sorgt außerdem für Spiel und Spaß für den Nachwuchs. Mondo Amiki freut sich über ein buntes Buffet und viele große und kleine teilenden Hände!
URL:https://pfarrei-bnaw.de/event/teile-fest-mondo-amiki/
END:VEVENT
BEGIN:VEVENT
DTSTART;TZID=Europe/Berlin:20230721T201500
DTEND;TZID=Europe/Berlin:20230721T201500
DTSTAMP:20260423T161915
CREATED:20230803T082156Z
LAST-MODIFIED:20230803T082156Z
UID:7210-1689970500-1689970500@pfarrei-bnaw.de
SUMMARY:Pfarrkino in der Pfarrei
DESCRIPTION:Schon mal etwas vom Pfarrkino gehört?\nWenn nicht\, dann wird es Zeit\, dass Sie es kennenlernen! \nPassend zum Start der Ferien haben wir uns in der Pfarrei Bad Neuenahr-Ahrweiler gefragt\, was ist schöner\, als Filme unter freiem Himmel im Pfarrgarten oder gar in der Kirche zu genießen? \nAb dem 21.Juli 2023 wird jeweils freitags um 20:15 Uhr ein Film in einem der Pfarrbezirke gezeigt. \nDas Programm des Pfarrkinos ist abwechslungsreich\, stimmungsvoll und für jeden/jede ist etwas dabei! Leider dürfen wir aus rechtlichen Gründen die Titel vorab nicht veröffentlichen\, aber wir können versichern\, es lohnt sich! Wer die Spannung gar nicht mehr aushält\, kann sich gerne bei den Lokalen Teams informieren. \nGestartet wird am 21.7. um 20:15 Uhr im Pfarrgarten in Ahrweiler! \nDie weiteren Termine sind: 28.7. in Heimersheim / 4.8. vor der St. Pius-Kirche / 18.8. im Pfarrgarten in Heppingen/ 25.8. in Ramersbach / 1.9. beim Rosenkränzchen in Bad Neuenahr \n 
URL:https://pfarrei-bnaw.de/event/pfarrkino-in-der-pfarrei/
ATTACH;FMTTYPE=image/jpeg:https://pfarrei-bnaw.de/wp-content/uploads/2023/07/2.jpg
END:VEVENT
BEGIN:VEVENT
DTSTART;TZID=Europe/Berlin:20230728T201500
DTEND;TZID=Europe/Berlin:20230728T201500
DTSTAMP:20260423T161915
CREATED:20230803T082225Z
LAST-MODIFIED:20230803T082225Z
UID:7212-1690575300-1690575300@pfarrei-bnaw.de
SUMMARY:Pfarrkino in der Pfarrei
DESCRIPTION:Schon mal etwas vom Pfarrkino gehört?\nWenn nicht\, dann wird es Zeit\, dass Sie es kennenlernen! \nPassend zum Start der Ferien haben wir uns in der Pfarrei Bad Neuenahr-Ahrweiler gefragt\, was ist schöner\, als Filme unter freiem Himmel im Pfarrgarten oder gar in der Kirche zu genießen? \nAb dem 21.Juli 2023 wird jeweils freitags um 20:15 Uhr ein Film in einem der Pfarrbezirke gezeigt. \nDas Programm des Pfarrkinos ist abwechslungsreich\, stimmungsvoll und für jeden/jede ist etwas dabei! Leider dürfen wir aus rechtlichen Gründen die Titel vorab nicht veröffentlichen\, aber wir können versichern\, es lohnt sich! Wer die Spannung gar nicht mehr aushält\, kann sich gerne bei den Lokalen Teams informieren. \nGestartet wird am 21.7. um 20:15 Uhr im Pfarrgarten in Ahrweiler! \nDie weiteren Termine sind: 28.7. in Heimersheim / 4.8. vor der St. Pius-Kirche / 18.8. im Pfarrgarten in Heppingen/ 25.8. in Ramersbach / 1.9. beim Rosenkränzchen in Bad Neuenahr \n 
URL:https://pfarrei-bnaw.de/event/pfarrkino-in-der-pfarrei-2/
END:VEVENT
END:VCALENDAR