BEGIN:VCALENDAR
VERSION:2.0
PRODID:-//Pfarrei Bad Neuenahr-Ahrweiler - ECPv6.15.20//NONSGML v1.0//EN
CALSCALE:GREGORIAN
METHOD:PUBLISH
X-WR-CALNAME:Pfarrei Bad Neuenahr-Ahrweiler
X-ORIGINAL-URL:https://pfarrei-bnaw.de
X-WR-CALDESC:Veranstaltungen für Pfarrei Bad Neuenahr-Ahrweiler
REFRESH-INTERVAL;VALUE=DURATION:PT1H
X-Robots-Tag:noindex
X-PUBLISHED-TTL:PT1H
BEGIN:VTIMEZONE
TZID:Europe/Berlin
BEGIN:DAYLIGHT
TZOFFSETFROM:+0100
TZOFFSETTO:+0200
TZNAME:CEST
DTSTART:20220327T010000
END:DAYLIGHT
BEGIN:STANDARD
TZOFFSETFROM:+0200
TZOFFSETTO:+0100
TZNAME:CET
DTSTART:20221030T010000
END:STANDARD
BEGIN:DAYLIGHT
TZOFFSETFROM:+0100
TZOFFSETTO:+0200
TZNAME:CEST
DTSTART:20230326T010000
END:DAYLIGHT
BEGIN:STANDARD
TZOFFSETFROM:+0200
TZOFFSETTO:+0100
TZNAME:CET
DTSTART:20231029T010000
END:STANDARD
BEGIN:DAYLIGHT
TZOFFSETFROM:+0100
TZOFFSETTO:+0200
TZNAME:CEST
DTSTART:20240331T010000
END:DAYLIGHT
BEGIN:STANDARD
TZOFFSETFROM:+0200
TZOFFSETTO:+0100
TZNAME:CET
DTSTART:20241027T010000
END:STANDARD
END:VTIMEZONE
BEGIN:VEVENT
DTSTART;TZID=Europe/Berlin:20230803T121500
DTEND;TZID=Europe/Berlin:20230803T133000
DTSTAMP:20260423T144548
CREATED:20230803T083752Z
LAST-MODIFIED:20230803T083752Z
UID:7242-1691064900-1691069400@pfarrei-bnaw.de
SUMMARY:Mahlzeit - Mal zeit? - immer am 1. Donnerstag
DESCRIPTION:
URL:https://pfarrei-bnaw.de/event/mahlzeit-mal-zeit-immer-am-1-donnerstag/
ATTACH;FMTTYPE=image/jpeg:https://pfarrei-bnaw.de/wp-content/uploads/2023/08/Gelb-Gruen-Illustrativ-Gartenparty-Virtuelle-Einladung-5.jpg
END:VEVENT
BEGIN:VEVENT
DTSTART;TZID=Europe/Berlin:20230804T201500
DTEND;TZID=Europe/Berlin:20230804T201500
DTSTAMP:20260423T144548
CREATED:20230803T082248Z
LAST-MODIFIED:20230803T082248Z
UID:7214-1691180100-1691180100@pfarrei-bnaw.de
SUMMARY:Pfarrkino in der Pfarrei
DESCRIPTION:Schon mal etwas vom Pfarrkino gehört?\nWenn nicht\, dann wird es Zeit\, dass Sie es kennenlernen! \nPassend zum Start der Ferien haben wir uns in der Pfarrei Bad Neuenahr-Ahrweiler gefragt\, was ist schöner\, als Filme unter freiem Himmel im Pfarrgarten oder gar in der Kirche zu genießen? \nAb dem 21.Juli 2023 wird jeweils freitags um 20:15 Uhr ein Film in einem der Pfarrbezirke gezeigt. \nDas Programm des Pfarrkinos ist abwechslungsreich\, stimmungsvoll und für jeden/jede ist etwas dabei! Leider dürfen wir aus rechtlichen Gründen die Titel vorab nicht veröffentlichen\, aber wir können versichern\, es lohnt sich! Wer die Spannung gar nicht mehr aushält\, kann sich gerne bei den Lokalen Teams informieren. \nGestartet wird am 21.7. um 20:15 Uhr im Pfarrgarten in Ahrweiler! \nDie weiteren Termine sind: 28.7. in Heimersheim / 4.8. vor der St. Pius-Kirche / 18.8. im Pfarrgarten in Heppingen/ 25.8. in Ramersbach / 1.9. beim Rosenkränzchen in Bad Neuenahr \n 
URL:https://pfarrei-bnaw.de/event/pfarrkino-in-der-pfarrei-3/
ATTACH;FMTTYPE=image/jpeg:https://pfarrei-bnaw.de/wp-content/uploads/2023/07/1.jpg
END:VEVENT
BEGIN:VEVENT
DTSTART;TZID=Europe/Berlin:20230812T093000
DTEND;TZID=Europe/Berlin:20230812T113000
DTSTAMP:20260423T144548
CREATED:20230803T081712Z
LAST-MODIFIED:20230803T081712Z
UID:7203-1691832600-1691839800@pfarrei-bnaw.de
SUMMARY:Frauenfrühstück in Heppingen
DESCRIPTION:Am Samstag\, dem  12. August von 9.30 bis 11.30 Uhr\, ist wieder ein „Frauenfrühstück“ im Pfarrsaal Heppingen geplant. Ganz herzliche Einladung an alle Frauen\, die Zeit und Lust haben\, sich auf diese Weise auszutauschen! Wir bitten\, zwecks Planung\, um Anmeldung bis zum Mittwoch vorher (09.08.2023) entweder unter der Nr. 0162 6460239 oder unter 02641 21752 oder bei Ria Lindner oder Bea Danko.
URL:https://pfarrei-bnaw.de/event/frauenfruehstueck-in-heppingen/
ATTACH;FMTTYPE=image/jpeg:https://pfarrei-bnaw.de/wp-content/uploads/2023/08/beige-ruhig-Fruehstueck-Instagram-Post-2.jpg
END:VEVENT
BEGIN:VEVENT
DTSTART;VALUE=DATE:20230813
DTEND;VALUE=DATE:20230814
DTSTAMP:20260423T144548
CREATED:20230123T111254Z
LAST-MODIFIED:20230123T111254Z
UID:5557-1691884800-1691971199@pfarrei-bnaw.de
SUMMARY:Laurentiusfest
DESCRIPTION:Das Lokale Team Ahrweiler lädt zum Laurentiusfest! Nähere Infos werden bekannt gegeben.
URL:https://pfarrei-bnaw.de/event/laurentiusfest/
END:VEVENT
BEGIN:VEVENT
DTSTART;TZID=Europe/Berlin:20230813T123000
DTEND;TZID=Europe/Berlin:20230813T123000
DTSTAMP:20260423T144548
CREATED:20230803T081819Z
LAST-MODIFIED:20230803T081819Z
UID:7205-1691929800-1691929800@pfarrei-bnaw.de
SUMMARY:Laurentiusfest
DESCRIPTION:Das lokale Team von St. Laurentius lädt am Sonntag\, den 13. August 2023 herzlich zum Laurentius-Fest ein. \nUm 11.00 Uhr wollen wir gemeinsam Gottesdienst halten und anschließend in der Zehntscheuer und im Pfarrgarten unseren Namenspatron feiern. Der Spielmannszug spielt ab 12.30 Uhr musikalisch für uns auf\, für das leibliche Wohl wird gesorgt. \nWenn Sie sich mit einbringen möchten\, freuen wir uns über viele verschiedene Salatspenden\, welche wir mit und ohne Würstchen zum Mittagstisch anbieten. Der Nachmittag darf mit Kaffee und frisch gebackenen Waffeln gemütlich in Garten und Zehntscheuer ausklingen. \nSofern Sie beim Auf- und Abbau helfen oder einen Dienst am Festtag übernehmen möchten\, melden Sie sich bitte im Pfarrbüro. Die Sekretärinnen tragen Sie dann in die Liste ein. \n 
URL:https://pfarrei-bnaw.de/event/laurentiusfest-2/
ATTACH;FMTTYPE=image/jpeg:https://pfarrei-bnaw.de/wp-content/uploads/2023/07/2023-08-13-Plakat-Laurentiusfest-V1.jpg
END:VEVENT
BEGIN:VEVENT
DTSTART;TZID=Europe/Berlin:20230815T140000
DTEND;TZID=Europe/Berlin:20230815T140000
DTSTAMP:20260423T144548
CREATED:20230803T081633Z
LAST-MODIFIED:20230803T081633Z
UID:7201-1692108000-1692108000@pfarrei-bnaw.de
SUMMARY:Kräutersträuße binden
DESCRIPTION:Die kfd St. Laurentius & der Kappellenverein Walporzheim laden für Dienstag\, den 15.08.2023 um 14:00 Uhr zum Kräutersträuße binden in den Pfarrgarten St. Laurentius ein. Wer noch Kräuter in seinem Garten hat\, kann diese bis 14:00 Uhr am Gartentor des Pfarrhauses abstellen. \nDas Vorbereitungsteam freut sich auf viele Menschen\, die gemeinsam Lust haben\, Kräutersträuße zu binden Die Sträuße werden im Anschluss in der Heiligen Messe um 18:30 Uhr gesegnet und verteilt. \n 
URL:https://pfarrei-bnaw.de/event/kraeuterstraeusse-binden/
ATTACH;FMTTYPE=image/jpeg:https://pfarrei-bnaw.de/wp-content/uploads/2023/08/86F74739-A229-4DFA-9262-0D49C3258976.jpg
END:VEVENT
BEGIN:VEVENT
DTSTART;VALUE=DATE:20230818
DTEND;VALUE=DATE:20230820
DTSTAMP:20260423T144548
CREATED:20230803T082001Z
LAST-MODIFIED:20230803T082001Z
UID:7207-1692316800-1692489599@pfarrei-bnaw.de
SUMMARY:Klettern\, Atemholen\, Grillen - Pfarrei Bad Neuenahr-Ahrweiler lädt zum Männerwochenende ein
DESCRIPTION:Am Freitag\, den 18. August soll nach langer Pause wieder ein Wochenende nur für Männer starten. Das Wochenende beginnt in Manderscheid\, wo zuletzt ein Klettersteig eröffnet wurde. Nicht ganz einfach\, mit durchaus anspruchsvollen Abschnitten\, eröffnet sich hier eine herrliche Landschaft an Lieser und Burgen gelegen. \nGeplant ist die Anreise nach Manderscheid in Fahrgemeinschaften am Freitag\, den 18. August. Dort stehen Übernachtungsmöglichkeiten in einem Pfarrheim bzw. einem Gemeindehaus im Raum Manderscheid bereit. Außerdem kann\, wer will\, auch die Nacht unter dem freien Himmel verbracht werden! \nIm Anschluss steht alles unter dem Stichwort: Kennenlernen\, Austausch und Stärkung. Ein gemeinsamer Spaziergang zum Abendessen mit einem gemeinsamen Grillen rundet den ersten Tag schließlich ab. \nAm Samstag\, den 19. August kann man zwischen zwei Angeboten wählen: Eine Wanderung auf dem Eifelsteig/Lieserpfad nach Schalkenmehren (ca. 16 km) oder einem Besuch des Klettersteiges. stehen dann zwei Angebote zur Verfügung. In Schalkenmehren wird im Anschluss eine gemeinsame Brotzeit im Hotel Schneiders eingenommen. \nAnmeldungen und weitere Infos können gerne im Pfarrbüro (02641/34747) oder bei Pfarrer Jörg Meyrer erfragt werden (j.meyrer@pg-badneuenahr-ahrweiler.de).
URL:https://pfarrei-bnaw.de/event/klettern-atemholen-grillen-pfarrei-bad-neuenahr-ahrweiler-laedt-zum-maennerwochenende-ein/
ATTACH;FMTTYPE=image/jpeg:https://pfarrei-bnaw.de/wp-content/uploads/2023/08/Orange-und-weiss-Camp-Feuer-fuer-Maenner-Instagram-Post.jpg
END:VEVENT
BEGIN:VEVENT
DTSTART;TZID=Europe/Berlin:20230818T201500
DTEND;TZID=Europe/Berlin:20230818T201500
DTSTAMP:20260423T144548
CREATED:20230803T082313Z
LAST-MODIFIED:20230803T082313Z
UID:7216-1692389700-1692389700@pfarrei-bnaw.de
SUMMARY:Pfarrkino in der Pfarrei
DESCRIPTION:Schon mal etwas vom Pfarrkino gehört?\nWenn nicht\, dann wird es Zeit\, dass Sie es kennenlernen! \nPassend zum Start der Ferien haben wir uns in der Pfarrei Bad Neuenahr-Ahrweiler gefragt\, was ist schöner\, als Filme unter freiem Himmel im Pfarrgarten oder gar in der Kirche zu genießen? \nAb dem 21.Juli 2023 wird jeweils freitags um 20:15 Uhr ein Film in einem der Pfarrbezirke gezeigt. \nDas Programm des Pfarrkinos ist abwechslungsreich\, stimmungsvoll und für jeden/jede ist etwas dabei! Leider dürfen wir aus rechtlichen Gründen die Titel vorab nicht veröffentlichen\, aber wir können versichern\, es lohnt sich! Wer die Spannung gar nicht mehr aushält\, kann sich gerne bei den Lokalen Teams informieren. \nGestartet wird am 21.7. um 20:15 Uhr im Pfarrgarten in Ahrweiler! \nDie weiteren Termine sind: 28.7. in Heimersheim / 4.8. vor der St. Pius-Kirche / 18.8. im Pfarrgarten in Heppingen/ 25.8. in Ramersbach / 1.9. beim Rosenkränzchen in Bad Neuenahr \n 
URL:https://pfarrei-bnaw.de/event/pfarrkino-in-der-pfarrei-4/
ATTACH;FMTTYPE=image/jpeg:https://pfarrei-bnaw.de/wp-content/uploads/2023/07/1.jpg
END:VEVENT
BEGIN:VEVENT
DTSTART;TZID=Europe/Berlin:20230825T201500
DTEND;TZID=Europe/Berlin:20230825T201500
DTSTAMP:20260423T144548
CREATED:20230803T082337Z
LAST-MODIFIED:20230803T082337Z
UID:7218-1692994500-1692994500@pfarrei-bnaw.de
SUMMARY:Pfarrkino in der Pfarrei
DESCRIPTION:Schon mal etwas vom Pfarrkino gehört?\nWenn nicht\, dann wird es Zeit\, dass Sie es kennenlernen! \nPassend zum Start der Ferien haben wir uns in der Pfarrei Bad Neuenahr-Ahrweiler gefragt\, was ist schöner\, als Filme unter freiem Himmel im Pfarrgarten oder gar in der Kirche zu genießen? \nAb dem 21.Juli 2023 wird jeweils freitags um 20:15 Uhr ein Film in einem der Pfarrbezirke gezeigt. \nDas Programm des Pfarrkinos ist abwechslungsreich\, stimmungsvoll und für jeden/jede ist etwas dabei! Leider dürfen wir aus rechtlichen Gründen die Titel vorab nicht veröffentlichen\, aber wir können versichern\, es lohnt sich! Wer die Spannung gar nicht mehr aushält\, kann sich gerne bei den Lokalen Teams informieren. \nGestartet wird am 21.7. um 20:15 Uhr im Pfarrgarten in Ahrweiler! \nDie weiteren Termine sind: 28.7. in Heimersheim / 4.8. vor der St. Pius-Kirche / 18.8. im Pfarrgarten in Heppingen/ 25.8. in Ramersbach / 1.9. beim Rosenkränzchen in Bad Neuenahr \n 
URL:https://pfarrei-bnaw.de/event/pfarrkino-in-der-pfarrei-5/
ATTACH;FMTTYPE=image/jpeg:https://pfarrei-bnaw.de/wp-content/uploads/2023/07/1.jpg
END:VEVENT
BEGIN:VEVENT
DTSTART;VALUE=DATE:20230831
DTEND;VALUE=DATE:20230901
DTSTAMP:20260423T144548
CREATED:20230803T083458Z
LAST-MODIFIED:20230803T083458Z
UID:7236-1693440000-1693526399@pfarrei-bnaw.de
SUMMARY:Leev Hännesche Tour
DESCRIPTION:Das kfd- Leitungsteam St. Laurentius lädt  zu einer Fahrt nach Kölle ins lustige Hänneschetheater ein\, damit die Laurentiusfrauen mal wieder „wat zo laache“ haben. Am 31.8.2023 um 15.00 Uhr geht der Vorhang auf. Mit dem Stück „Meisterköch“ gibt’s was für Herz und Sinn. Die Bustour beginnt um 13.00 Uhr in Ahrweiler\, um 15.00 Uhr ist die Aufführung\, danach ist eine Einkehr in ein kölsches Lokal geplant\, gegen 20.30 Uhr ist die voraussichtliche Ankunft in Ahrweiler\, genaue Zeit und Ort werden noch bekannt gegeben. Der Eintritt kostet 21 Euro\, die Busfahrt ist für kfd- Mitglieder kostenfrei\, für Nicht- Mitglieder 10 Euro. Partner\, Freunde und Freundinnen sind herzlich willkommen! Die verbindliche Anmeldung erfolgt durch die Überweisung des Betrages bis zum 12.8.2023. Kontakt:  Hildegard v. Ameln Tel. 02641-3962049 oder Ina Gies per mail: InaGies@web.de
URL:https://pfarrei-bnaw.de/event/leev-haennesche-tour/
END:VEVENT
END:VCALENDAR