BEGIN:VCALENDAR
VERSION:2.0
PRODID:-//Pfarrei Bad Neuenahr-Ahrweiler - ECPv6.15.20//NONSGML v1.0//EN
CALSCALE:GREGORIAN
METHOD:PUBLISH
X-ORIGINAL-URL:https://pfarrei-bnaw.de
X-WR-CALDESC:Veranstaltungen für Pfarrei Bad Neuenahr-Ahrweiler
REFRESH-INTERVAL;VALUE=DURATION:PT1H
X-Robots-Tag:noindex
X-PUBLISHED-TTL:PT1H
BEGIN:VTIMEZONE
TZID:Europe/Berlin
BEGIN:DAYLIGHT
TZOFFSETFROM:+0100
TZOFFSETTO:+0200
TZNAME:CEST
DTSTART:20220327T010000
END:DAYLIGHT
BEGIN:STANDARD
TZOFFSETFROM:+0200
TZOFFSETTO:+0100
TZNAME:CET
DTSTART:20221030T010000
END:STANDARD
BEGIN:DAYLIGHT
TZOFFSETFROM:+0100
TZOFFSETTO:+0200
TZNAME:CEST
DTSTART:20230326T010000
END:DAYLIGHT
BEGIN:STANDARD
TZOFFSETFROM:+0200
TZOFFSETTO:+0100
TZNAME:CET
DTSTART:20231029T010000
END:STANDARD
BEGIN:DAYLIGHT
TZOFFSETFROM:+0100
TZOFFSETTO:+0200
TZNAME:CEST
DTSTART:20240331T010000
END:DAYLIGHT
BEGIN:STANDARD
TZOFFSETFROM:+0200
TZOFFSETTO:+0100
TZNAME:CET
DTSTART:20241027T010000
END:STANDARD
END:VTIMEZONE
BEGIN:VEVENT
DTSTART;TZID=Europe/Berlin:20230901T201500
DTEND;TZID=Europe/Berlin:20230901T201500
DTSTAMP:20260423T130127
CREATED:20230803T082401Z
LAST-MODIFIED:20230803T082401Z
UID:7220-1693599300-1693599300@pfarrei-bnaw.de
SUMMARY:Pfarrkino in der Pfarrei
DESCRIPTION:Schon mal etwas vom Pfarrkino gehört?\nWenn nicht\, dann wird es Zeit\, dass Sie es kennenlernen! \nPassend zum Start der Ferien haben wir uns in der Pfarrei Bad Neuenahr-Ahrweiler gefragt\, was ist schöner\, als Filme unter freiem Himmel im Pfarrgarten oder gar in der Kirche zu genießen? \nAb dem 21.Juli 2023 wird jeweils freitags um 20:15 Uhr ein Film in einem der Pfarrbezirke gezeigt. \nDas Programm des Pfarrkinos ist abwechslungsreich\, stimmungsvoll und für jeden/jede ist etwas dabei! Leider dürfen wir aus rechtlichen Gründen die Titel vorab nicht veröffentlichen\, aber wir können versichern\, es lohnt sich! Wer die Spannung gar nicht mehr aushält\, kann sich gerne bei den Lokalen Teams informieren. \nGestartet wird am 21.7. um 20:15 Uhr im Pfarrgarten in Ahrweiler! \nDie weiteren Termine sind: 28.7. in Heimersheim / 4.8. vor der St. Pius-Kirche / 18.8. im Pfarrgarten in Heppingen/ 25.8. in Ramersbach / 1.9. beim Rosenkränzchen in Bad Neuenahr \n 
URL:https://pfarrei-bnaw.de/event/pfarrkino-in-der-pfarrei-6/
ATTACH;FMTTYPE=image/jpeg:https://pfarrei-bnaw.de/wp-content/uploads/2023/07/1.jpg
END:VEVENT
BEGIN:VEVENT
DTSTART;TZID=Europe/Berlin:20230905T150000
DTEND;TZID=Europe/Berlin:20230905T150000
DTSTAMP:20260423T130127
CREATED:20230821T094524Z
LAST-MODIFIED:20230821T094524Z
UID:7468-1693926000-1693926000@pfarrei-bnaw.de
SUMMARY:Rosenkränzchen feiert mit seinen Nachbarn
DESCRIPTION:Nachbarschaft leben und erleben. Nachbarschaft mit allen Sinnen genießen. Mit Nachbarn gärtnern. Mit Nachbarn reden. Mit Nachbarn teilen. Mit Nachbarn feiern. Dafür steht das offene Nachbarschaftsprojekt im Garten des Pfarrhauses in der Weststraße 2 im Zentrum von Bad Neuenahr seit inzwischen einem Jahr. \nIn diesem ersten Jahr sind 25 kleine Gärtchen rund um das bei der Flut schwer beschädigte Pfarrhaus entstanden. Geschaffen wurden vollkommen unterschiedliche Gärten. Große Gärten. Kleine Gärten. Gärten voller Gemüse ebenso\, wie Gärten\, deren Blütenpracht die Passanten auf der Straße stehenbleiben lassen und Anlass für schöne Gespräche am Gartenzaun sind. Diese Gärten und ihre Gärtner jeden Alters bilden das Rosenkränzchen\, ein offenes Nachbarschaftsprojekt im Garten und darüber hinaus. \nDiese Gärten haben sich\, insbesondere Dienstag Nachmittags\, zu einem Treffpunkt entwickelt\, bei dem sich sowohl von der Flut getroffene Anwohner\, als auch neu Zugezogene bei einem Kaffee in den Gärten des Rosenkränzchen zu Gesprächen und gemeinsamen Gärtnern treffen. \nDas einjährige Bestehen des Rosenkränzchens soll nun zusammen mit der Nachbarschaft mit einem kleinen Fest gefeiert werden: am 5. September ab 15:00 sind alle Nachbarn rings um die Rosenkranzkirche eingeladen\, zu Kaffee und Kuchen\, offenem Singen\, sowie einem gemeinsamen Essen in den Garten zu kommen. Jeder sollte eine Kleinigkeit\, die er selber gerne isst und die er mit anderen teilen möchte\, mitbringen: ein paar Stücke Kuchen\, ein Salat oder ähnliches. Die Getränke stellt das Rosenkränzchen zur Verfügung. \nDie Gärtner und Gärtnerinnen des Rosenkränzchens freuen sich darauf alte und neue Nachbarn wieder zu treffen oder kennenzulernen und gemeinsam eine gute Zeit zu verbringen. Kontakt: Oliver Serwas\, oliver.serwas@bistum-trier.de \nMedienkontakt: Nadine Kreuser\,  nadine.kreuser@bistum-trier.de
URL:https://pfarrei-bnaw.de/event/rosenkraenzchen-feiert-mit-seinen-nachbarn/
END:VEVENT
BEGIN:VEVENT
DTSTART;TZID=Europe/Berlin:20230907T093000
DTEND;TZID=Europe/Berlin:20230907T093000
DTSTAMP:20260423T130127
CREATED:20230803T082604Z
LAST-MODIFIED:20230803T082604Z
UID:7222-1694079000-1694079000@pfarrei-bnaw.de
SUMMARY:We AHR Family - Cafe
DESCRIPTION:Komm! Mach mit! We AHR Family – macht Sommerpause \nAm 07. September startet der Treffpunkt für Schwangere\, Mütter\, Väter und Großeltern aus dem Ahrtal mit Kindern bis zum 4. Lebensjahr wieder. Immer donnerstags jeweils von 09:30 bis 11:00 Uhr. Angeboten wird ein Raum für Austausch\, Vernetzung\, gemeinsame Aktionen\, Informationen\, Spiel und Spaß. Eine Anmeldung ist nicht erforderlich. \nAdresse: Marktplatz 13\, 53474 Bad Neuenahr-Ahrweiler\, Eingang der Bücherei (rechts vom Pfarrbüro) dann in der ersten Etage. \nKontakt über: Caritasverband Rhein-Mosel-Ahr e.V. in Ahrweiler; Tel. 02641-75 98 60 oder Mail: familiy@caritas-rma.de \nDie nächsten Termine sind:  14.09. / 21.9. / 28.9. /  5.10. / 12.10.
URL:https://pfarrei-bnaw.de/event/we-ahr-family-cafe/
END:VEVENT
BEGIN:VEVENT
DTSTART;TZID=Europe/Berlin:20230907T121500
DTEND;TZID=Europe/Berlin:20230907T133000
DTSTAMP:20260423T130127
CREATED:20230803T083837Z
LAST-MODIFIED:20230803T083837Z
UID:7245-1694088900-1694093400@pfarrei-bnaw.de
SUMMARY:Mahlzeit - mal Zeit? - Jeden 1. Donnerstag im Monat
DESCRIPTION:
URL:https://pfarrei-bnaw.de/event/mahlzeit-mal-zeit-jeden-1-donnerstag-im-monat/
ATTACH;FMTTYPE=image/jpeg:https://pfarrei-bnaw.de/wp-content/uploads/2023/08/Gelb-Gruen-Illustrativ-Gartenparty-Virtuelle-Einladung-5.jpg
END:VEVENT
BEGIN:VEVENT
DTSTART;TZID=Europe/Berlin:20230909T090000
DTEND;TZID=Europe/Berlin:20230909T170000
DTSTAMP:20260423T130127
CREATED:20230821T094750Z
LAST-MODIFIED:20230821T094750Z
UID:7470-1694250000-1694278800@pfarrei-bnaw.de
SUMMARY:Damit du weißt\, was im Notfall zu tun ist! - Erste Hilfe Kurs für Ehrenamtliche in der Pfarrei Bad Neuenahr-Ahrweiler
DESCRIPTION:Damit du weißt\, was im Notfall zu tun ist! – Erste Hilfe Kurs für Ehrenamtliche in der Pfarrei Bad Neuenahr-Ahrweiler
URL:https://pfarrei-bnaw.de/event/damit-du-weisst-was-im-notfall-zu-tun-ist-erste-hilfe-kurs-fuer-ehrenamtliche-in-der-pfarrei-bad-neuenahr-ahrweiler/
END:VEVENT
BEGIN:VEVENT
DTSTART;TZID=Europe/Berlin:20230914T093000
DTEND;TZID=Europe/Berlin:20230914T093000
DTSTAMP:20260423T130127
CREATED:20230803T082632Z
LAST-MODIFIED:20230803T082632Z
UID:7224-1694683800-1694683800@pfarrei-bnaw.de
SUMMARY:We AHR Family - Cafe
DESCRIPTION:Komm! Mach mit! We AHR Family – macht Sommerpause \nAm 07. September startet der Treffpunkt für Schwangere\, Mütter\, Väter und Großeltern aus dem Ahrtal mit Kindern bis zum 4. Lebensjahr wieder. Immer donnerstags jeweils von 09:30 bis 11:00 Uhr. Angeboten wird ein Raum für Austausch\, Vernetzung\, gemeinsame Aktionen\, Informationen\, Spiel und Spaß. Eine Anmeldung ist nicht erforderlich. \nAdresse: Marktplatz 13\, 53474 Bad Neuenahr-Ahrweiler\, Eingang der Bücherei (rechts vom Pfarrbüro) dann in der ersten Etage. \nKontakt über: Caritasverband Rhein-Mosel-Ahr e.V. in Ahrweiler; Tel. 02641-75 98 60 oder Mail: familiy@caritas-rma.de \nDie nächsten Termine sind:  14.09. / 21.9. / 28.9. /  5.10. / 12.10.
URL:https://pfarrei-bnaw.de/event/we-ahr-family-cafe-2/
END:VEVENT
BEGIN:VEVENT
DTSTART;TZID=Europe/Berlin:20230919T190000
DTEND;TZID=Europe/Berlin:20230919T190000
DTSTAMP:20260423T130127
CREATED:20230823T092739Z
LAST-MODIFIED:20230823T093447Z
UID:7492-1695150000-1695150000@pfarrei-bnaw.de
SUMMARY:Gartengeschichten
DESCRIPTION:Gartengeschichten – ein Bibelerzählabend im Rosenkränzchen in Bad Neuenahr  \nDas Erzählen biblischer Geschichten ist ein jahrtausendealtes Handwerk – genauer gesagt: ein Mundwerk – und darüber hinaus eine Kunst. Bibelerzähler*innen nehmen ihre Zuhörer*innen mit auf eine Reise durch bekannte und unbekannte biblische Geschichten und bieten neue Zugänge an.   \nBibelerzählen ermöglicht es\, biblischen Texten und Persönlichkeiten auf eine neue Art und Weise zu begegnen. Dabei kann man entdecken\, wieviel Leben in den uralten Geschichten steckt.  \nAm 19. September findet um 19.00 Uhr ein Bibelerzählabend im Rosenkränzchen in der Weststr. 4 in Bad Neuenahr-Ahrweiler statt . Ausgebildete Erzähler*innen werden dann unter der Überschrift „Gartengeschichten“ Geschichten aus der Bibel ganz nah bei uns\, lebendig und bewegend\, gefühlvoll und spannend präsentieren.  \nDer Bibelerzählabend ist ein Angebot von:     \nProjekt Rosenkränzchen der Pfarrei Bad Neuenahr-Ahrweiler und dem Pastoralen Raum Bad Neuenahr-Ahrweiler. 
URL:https://pfarrei-bnaw.de/event/gartengeschichten/
ATTACH;FMTTYPE=image/jpeg:https://pfarrei-bnaw.de/wp-content/uploads/2023/08/Plakat-BibelerzaehlenRosenkraenzchen19Sept2023-scaled.jpg
END:VEVENT
BEGIN:VEVENT
DTSTART;TZID=Europe/Berlin:20230921T093000
DTEND;TZID=Europe/Berlin:20230921T093000
DTSTAMP:20260423T130127
CREATED:20230803T082656Z
LAST-MODIFIED:20230803T082656Z
UID:7226-1695288600-1695288600@pfarrei-bnaw.de
SUMMARY:We AHR Family - Cafe
DESCRIPTION:Komm! Mach mit! We AHR Family – macht Sommerpause \nAm 07. September startet der Treffpunkt für Schwangere\, Mütter\, Väter und Großeltern aus dem Ahrtal mit Kindern bis zum 4. Lebensjahr wieder. Immer donnerstags jeweils von 09:30 bis 11:00 Uhr. Angeboten wird ein Raum für Austausch\, Vernetzung\, gemeinsame Aktionen\, Informationen\, Spiel und Spaß. Eine Anmeldung ist nicht erforderlich. \nAdresse: Marktplatz 13\, 53474 Bad Neuenahr-Ahrweiler\, Eingang der Bücherei (rechts vom Pfarrbüro) dann in der ersten Etage. \nKontakt über: Caritasverband Rhein-Mosel-Ahr e.V. in Ahrweiler; Tel. 02641-75 98 60 oder Mail: familiy@caritas-rma.de \nDie nächsten Termine sind:  14.09. / 21.9. / 28.9. /  5.10. / 12.10.
URL:https://pfarrei-bnaw.de/event/we-ahr-family-cafe-3/
END:VEVENT
BEGIN:VEVENT
DTSTART;VALUE=DATE:20230923
DTEND;VALUE=DATE:20230924
DTSTAMP:20260423T130127
CREATED:20230803T083343Z
LAST-MODIFIED:20230803T083343Z
UID:7234-1695427200-1695513599@pfarrei-bnaw.de
SUMMARY:Pilgern zum Heiligen Jodokus Langenfeld
DESCRIPTION:Pilgern zum Hl. Jodokus nach Langenfeld   \nDie Pilgerzeit im Herbst wirft ihre Schatten voraus. Auch in diesem Jahr geht die Pilgergruppe aus St. Laurentius wieder zum hl. Jodokus nach Langenfeld.  \nAm Samstag\, dem 23. September trifft sich die Pilgergruppe um 8.00 Uhr an der St. Laurentius-Kirche\, um von dort aus sich auf den Weg zu machen. Betend in der Gemeinschaft sollen die Anliegen\, die jeder Mitpilger mit sich nimmt\, vor Gott gebracht werden. Am Pilgerort angekommen\, findet der Tag seinen Abschluss in einem gemeinsamen Gottesdienst in der Pfarrkirche von Langenfeld.  \nWer also Lust und Interesse am Mitpilgern hat\, möge sich gerne diesen Termin in den Kalender schreiben. Jeder Mitpilger ist herzlich willkommen. 
URL:https://pfarrei-bnaw.de/event/pilgern-zum-heiligen-jodokus-langenfeld/
END:VEVENT
BEGIN:VEVENT
DTSTART;VALUE=DATE:20230926
DTEND;VALUE=DATE:20230927
DTSTAMP:20260423T130127
CREATED:20230803T083632Z
LAST-MODIFIED:20230803T083632Z
UID:7240-1695686400-1695772799@pfarrei-bnaw.de
SUMMARY:Atempause
DESCRIPTION:Nähere Infos folgen!
URL:https://pfarrei-bnaw.de/event/atempause/
END:VEVENT
BEGIN:VEVENT
DTSTART;TZID=Europe/Berlin:20230928T093000
DTEND;TZID=Europe/Berlin:20230928T093000
DTSTAMP:20260423T130127
CREATED:20230803T082717Z
LAST-MODIFIED:20230803T082717Z
UID:7228-1695893400-1695893400@pfarrei-bnaw.de
SUMMARY:We AHR Family - Cafe
DESCRIPTION:Komm! Mach mit! We AHR Family – macht Sommerpause \nAm 07. September startet der Treffpunkt für Schwangere\, Mütter\, Väter und Großeltern aus dem Ahrtal mit Kindern bis zum 4. Lebensjahr wieder. Immer donnerstags jeweils von 09:30 bis 11:00 Uhr. Angeboten wird ein Raum für Austausch\, Vernetzung\, gemeinsame Aktionen\, Informationen\, Spiel und Spaß. Eine Anmeldung ist nicht erforderlich. \nAdresse: Marktplatz 13\, 53474 Bad Neuenahr-Ahrweiler\, Eingang der Bücherei (rechts vom Pfarrbüro) dann in der ersten Etage. \nKontakt über: Caritasverband Rhein-Mosel-Ahr e.V. in Ahrweiler; Tel. 02641-75 98 60 oder Mail: familiy@caritas-rma.de \nDie nächsten Termine sind:  14.09. / 21.9. / 28.9. /  5.10. / 12.10.
URL:https://pfarrei-bnaw.de/event/we-ahr-family-cafe-4/
END:VEVENT
END:VCALENDAR