BEGIN:VCALENDAR
VERSION:2.0
PRODID:-//Pfarrei Bad Neuenahr-Ahrweiler - ECPv6.15.20//NONSGML v1.0//EN
CALSCALE:GREGORIAN
METHOD:PUBLISH
X-ORIGINAL-URL:https://pfarrei-bnaw.de
X-WR-CALDESC:Veranstaltungen für Pfarrei Bad Neuenahr-Ahrweiler
REFRESH-INTERVAL;VALUE=DURATION:PT1H
X-Robots-Tag:noindex
X-PUBLISHED-TTL:PT1H
BEGIN:VTIMEZONE
TZID:Europe/Berlin
BEGIN:DAYLIGHT
TZOFFSETFROM:+0100
TZOFFSETTO:+0200
TZNAME:CEST
DTSTART:20230326T010000
END:DAYLIGHT
BEGIN:STANDARD
TZOFFSETFROM:+0200
TZOFFSETTO:+0100
TZNAME:CET
DTSTART:20231029T010000
END:STANDARD
BEGIN:DAYLIGHT
TZOFFSETFROM:+0100
TZOFFSETTO:+0200
TZNAME:CEST
DTSTART:20240331T010000
END:DAYLIGHT
BEGIN:STANDARD
TZOFFSETFROM:+0200
TZOFFSETTO:+0100
TZNAME:CET
DTSTART:20241027T010000
END:STANDARD
BEGIN:DAYLIGHT
TZOFFSETFROM:+0100
TZOFFSETTO:+0200
TZNAME:CEST
DTSTART:20250330T010000
END:DAYLIGHT
BEGIN:STANDARD
TZOFFSETFROM:+0200
TZOFFSETTO:+0100
TZNAME:CET
DTSTART:20251026T010000
END:STANDARD
END:VTIMEZONE
BEGIN:VEVENT
DTSTART;TZID=Europe/Berlin:20240103T080000
DTEND;TZID=Europe/Berlin:20240113T170000
DTSTAMP:20260423T065001
CREATED:20240105T095048Z
LAST-MODIFIED:20240105T095048Z
UID:8514-1704268800-1705165200@pfarrei-bnaw.de
SUMMARY:Die Sternsinger kommen!
DESCRIPTION:Die Sternsinger werden zwischen Mittwoch\, dem 3.1. und Sonntag\, 7. 1. in Heimersheim\, Ehlingen\, Green und Lohrsdorf unterwegs sein. \nDie Sternsinger werden am Samstag\, 06. Januar in Walporzheim unterwegs sein. \nDie Sternsinger werden am Samstag\, 06. Januar in Gimmigen\, Kirchdaun und Heppingen unterwegs sein \nDie Sternsinger werden am Samstag\, 06 Januar in Ramersbach unterwegs sein. \nIn Ahrweiler\, Bachem und Bad Neuenahr werden die Sternsinger am Samstag und Sonntag (6./7. Januar) sowie voraussichtlich auch am Samstag (13. Januar) unterwegs sein!  \nDa sich von Jahr zu Jahr immer weniger Kinder als Sternsinger anmelden\, ist es nicht sicher\, dass alle Haushalte besucht werden können. \nWir versuchen aber trotzdem die Segensaufkleber zu allen Haushalten zu bringen und dort in die Briefkästen einzuwerfen.
URL:https://pfarrei-bnaw.de/event/die-sternsinger-kommen/
ATTACH;FMTTYPE=image/jpeg:https://pfarrei-bnaw.de/wp-content/uploads/2023/12/DKS_zeitlos_Illu_Sternsingerkinder_rechts.jpg
END:VEVENT
BEGIN:VEVENT
DTSTART;TZID=Europe/Berlin:20240106T093000
DTEND;TZID=Europe/Berlin:20240106T103000
DTSTAMP:20260423T065001
CREATED:20240105T095104Z
LAST-MODIFIED:20240105T095331Z
UID:8526-1704533400-1704537000@pfarrei-bnaw.de
SUMMARY:Aussendung der Sternsinger in Ahrweiler
DESCRIPTION:Die Sternsingeraktion Bad Neuenahr\, Ahrweiler und Bachem beginnt mit einer gemeinsamen Aussendungsfeier\, am Samstag\, 6. Januar um 09:30 Uhr in St. Laurentius.
URL:https://pfarrei-bnaw.de/event/aussendung-der-sternsinger-in-ahrweiler/
ATTACH;FMTTYPE=image/png:https://pfarrei-bnaw.de/wp-content/uploads/2023/12/SocialMediaMotivationSegenGeben.png
END:VEVENT
BEGIN:VEVENT
DTSTART;TZID=Europe/Berlin:20240107T110000
DTEND;TZID=Europe/Berlin:20240107T120000
DTSTAMP:20260423T065001
CREATED:20240105T095115Z
LAST-MODIFIED:20240105T095115Z
UID:8528-1704625200-1704628800@pfarrei-bnaw.de
SUMMARY:Aussendung der Sternsinger in Ramersbach
DESCRIPTION:Die Sternsingeraktion in Ramersbach beginnt am Sonntag\, 07. Januar nach der Aussendung im Familienwortgottesdienst um 11 Uhr in St. Barbara.
URL:https://pfarrei-bnaw.de/event/aussendung-der-sternsinger-in-ramersbach/
LOCATION:St. Barbara\, Ramersbach
ATTACH;FMTTYPE=image/png:https://pfarrei-bnaw.de/wp-content/uploads/2023/12/SocialMediaMotivationSegenGeben.png
END:VEVENT
BEGIN:VEVENT
DTSTART;TZID=Europe/Berlin:20240107T163000
DTEND;TZID=Europe/Berlin:20240107T173000
DTSTAMP:20260423T065001
CREATED:20240105T095131Z
LAST-MODIFIED:20240105T095259Z
UID:8519-1704645000-1704648600@pfarrei-bnaw.de
SUMMARY:Abschluss der Sternsingeraktion Heimersheim
DESCRIPTION:Zum Abschluss der Sternsingeraktion in Heimersheim\, Ehlingen\, Green und Lohrsdorf\, findet am Sonntag\, 7. Januar um 16:30 Uhr ein Mitmach-Wortgottesdienst zum Thema Licht und Segen mit viel Musik in St. Mauritius\, Heimersheim statt. \nAlle Kinder sind eingeladen ein Musikinstrument mitzubringen!
URL:https://pfarrei-bnaw.de/event/abschluss-der-sternsingeraktion-in-heimersheim/
LOCATION:St. Mauritius\, Heimersheim
ATTACH;FMTTYPE=image/png:https://pfarrei-bnaw.de/wp-content/uploads/2023/12/Mitmach-Wortgottesdienst-Licht-und-Segen-mit-Musik.png
END:VEVENT
BEGIN:VEVENT
DTSTART;TZID=Europe/Berlin:20240115T200000
DTEND;TZID=Europe/Berlin:20240115T210000
DTSTAMP:20260423T065001
CREATED:20240112T151427Z
LAST-MODIFIED:20240112T151427Z
UID:8621-1705348800-1705352400@pfarrei-bnaw.de
SUMMARY:Bibelteilen
DESCRIPTION:Das nächste Treffen „Bibelteilen“ ist am Montag\, 15.01.2024 um 20:00 Uhr im Pfarrheim Laurentiussaal in Ahrweiler.
URL:https://pfarrei-bnaw.de/event/bibelteilen/
LOCATION:Pfarrheim Ahrweiler\, Laurentiussaal\, Ahrweiler\, RLP\, 53474\, Deutschland
ATTACH;FMTTYPE=image/jpeg:https://pfarrei-bnaw.de/wp-content/uploads/2022/03/chuttersnap-yTMx6ao87L0-unsplash-scaled.jpg
END:VEVENT
BEGIN:VEVENT
DTSTART;TZID=Europe/Berlin:20240118T093000
DTEND;TZID=Europe/Berlin:20240118T110000
DTSTAMP:20260423T065001
CREATED:20240112T152202Z
LAST-MODIFIED:20240112T152202Z
UID:8624-1705570200-1705575600@pfarrei-bnaw.de
SUMMARY:Mach mit! We AHR Family
DESCRIPTION:Immer donnerstags jeweils von 09:30 bis 11:00 Uhr findet der Treffpunkt für Schwangere\, Mütter\, Väter und Großeltern aus dem Ahrtal mit Kindern bis zum 4. Lebensjahr statt. Angeboten wird ein Raum für Austausch\, Vernetzung\, gemeinsame Aktionen\, Informationen\, Spiel und Spaß. Eine Anmeldung ist nicht erforderlich. \nAdresse: Marktplatz 13\, Eingang der Bücherei (rechts vom Pfarrbüro) dann in der 1. Etage. \nKontakt über: Caritasverband Rhein-Mosel-Ahr e.V. in Ahrweiler; Tel. 02641-75 98 60 oder Mail: familiy@caritas-rma.de \nDie nächsten Termine nach den Ferien:  18.01.2024 / 25.01.2024
URL:https://pfarrei-bnaw.de/event/mach-mit-we-ahr-family/
LOCATION:Marktplatz 13\, 53474\, Ahrweiler\, hinter dem Pfarrhaus
ATTACH;FMTTYPE=image/jpeg:https://pfarrei-bnaw.de/wp-content/uploads/2022/10/myriam-zilles-zrNJ2YcYXG4-unsplash-scaled.jpg
END:VEVENT
BEGIN:VEVENT
DTSTART;TZID=Europe/Berlin:20240121T110000
DTEND;TZID=Europe/Berlin:20240121T123000
DTSTAMP:20260423T065001
CREATED:20240112T152625Z
LAST-MODIFIED:20240112T152625Z
UID:8626-1705834800-1705840200@pfarrei-bnaw.de
SUMMARY:Gastprediger: Gerold Vorländer in St. Laurentius
DESCRIPTION:Am Sonntag\, 21. Januar wird es in der 11:00 Uhr-Messe in St. Laurentius einen Gastprediger geben. Gerold Vorländer ist Leiter des Dienstbereiches Mission der Berliner Stadtmission\, Autor und Coach. Im Anschluss an die Messe wird Gerold Vorländer bei einer Matinee aus seinem Arbeitsfeld erzählen\, dies mit Liedern begleiten und mit Abschnitten aus seinem neuesten Buch bereichern. \nFür Getränke ist gesorgt.
URL:https://pfarrei-bnaw.de/event/gastprediger-gerold-vorlaender-in-st-laurentius/
LOCATION:St. Laurentius
END:VEVENT
END:VCALENDAR