BEGIN:VCALENDAR
VERSION:2.0
PRODID:-//Pfarrei Bad Neuenahr-Ahrweiler - ECPv6.15.20//NONSGML v1.0//EN
CALSCALE:GREGORIAN
METHOD:PUBLISH
X-ORIGINAL-URL:https://pfarrei-bnaw.de
X-WR-CALDESC:Veranstaltungen für Pfarrei Bad Neuenahr-Ahrweiler
REFRESH-INTERVAL;VALUE=DURATION:PT1H
X-Robots-Tag:noindex
X-PUBLISHED-TTL:PT1H
BEGIN:VTIMEZONE
TZID:Europe/Berlin
BEGIN:DAYLIGHT
TZOFFSETFROM:+0100
TZOFFSETTO:+0200
TZNAME:CEST
DTSTART:20230326T010000
END:DAYLIGHT
BEGIN:STANDARD
TZOFFSETFROM:+0200
TZOFFSETTO:+0100
TZNAME:CET
DTSTART:20231029T010000
END:STANDARD
BEGIN:DAYLIGHT
TZOFFSETFROM:+0100
TZOFFSETTO:+0200
TZNAME:CEST
DTSTART:20240331T010000
END:DAYLIGHT
BEGIN:STANDARD
TZOFFSETFROM:+0200
TZOFFSETTO:+0100
TZNAME:CET
DTSTART:20241027T010000
END:STANDARD
BEGIN:DAYLIGHT
TZOFFSETFROM:+0100
TZOFFSETTO:+0200
TZNAME:CEST
DTSTART:20250330T010000
END:DAYLIGHT
BEGIN:STANDARD
TZOFFSETFROM:+0200
TZOFFSETTO:+0100
TZNAME:CET
DTSTART:20251026T010000
END:STANDARD
END:VTIMEZONE
BEGIN:VEVENT
DTSTART;TZID=Europe/Berlin:20240204T111100
DTEND;TZID=Europe/Berlin:20240204T123000
DTSTAMP:20260423T053129
CREATED:20240202T141927Z
LAST-MODIFIED:20240202T143759Z
UID:8827-1707045060-1707049800@pfarrei-bnaw.de
SUMMARY:Familienwortgottesfeier zu Karneval
DESCRIPTION:Was hat Karneval eigentlich mit Gottesdiensten zutun? Die Auflösung gibt es am Sonntag\, 04.02. um 11.11 Uhr in St. Barbara\, Ramersbach! Der Freundeskreis St. Barbara lädt herzlich ein zur karnevalistischen Wortgottesfeier! \nKeine Pflicht aber herzliche Einladung zur Teilnahme im Kostüm.
URL:https://pfarrei-bnaw.de/event/familienwortgottesfeier-zu-karneval/
LOCATION:St. Barbara\, Ramersbach
ATTACH;FMTTYPE=image/jpeg:https://pfarrei-bnaw.de/wp-content/uploads/2024/01/Gelb-Violett-Bunt-Kind-Karneval-Fasching-Kindergarten-Poster-6.jpg
END:VEVENT
BEGIN:VEVENT
DTSTART;TZID=Europe/Berlin:20240206T183000
DTEND;TZID=Europe/Berlin:20240206T193000
DTSTAMP:20260423T053129
CREATED:20240202T140350Z
LAST-MODIFIED:20240202T143856Z
UID:8808-1707244200-1707247800@pfarrei-bnaw.de
SUMMARY:Ökumenischer Karnevalsgottesdienst
DESCRIPTION:Am Dienstag\, den 6. Februar findet um 18:30 Uhr ein ökumenischer Karnevalsgottesdienst mit allen KGs der Stadt in St. Mauritius\, Heimersheim statt – Herzliche Einladung!
URL:https://pfarrei-bnaw.de/event/oekumenischer-karnevalsgottesdienst/
LOCATION:Heimersheim\, wird noch bekanntgegeben!
ATTACH;FMTTYPE=image/jpeg:https://pfarrei-bnaw.de/wp-content/uploads/2024/01/Pink-Weiss-Bunt-Froehlich-Konfetti-Luftschlangen-Fasching-Karneval-Poster-8.jpg
END:VEVENT
BEGIN:VEVENT
DTSTART;TZID=Europe/Berlin:20240215T193000
DTEND;TZID=Europe/Berlin:20240215T203000
DTSTAMP:20260423T053129
CREATED:20230803T083602Z
LAST-MODIFIED:20240213T133019Z
UID:7238-1708025400-1708029000@pfarrei-bnaw.de
SUMMARY:Lieblingsgebet in Heppingen
DESCRIPTION:Vielleicht ist ein Lieblingslied\, ein Bibelzitat oder ein anderer Text mit besonderer Bedeutung für Ihr Leben – schon lange bekannt oder gerade erst kennengelernt. Vielleich möchten Sie lieber zuhören oder in der Gemeinschaft beten – wie auch immer. Herzlich willkommen zum nächsten Lieblingsgebt! \nBringen Sie Ihren Text doch gerne mit und zwar am 15. Februar um 19:30 Uhr im Pfarrsaal Heppingen.
URL:https://pfarrei-bnaw.de/event/lieblingsgebet-in-heppingen-2/
LOCATION:Pfarrsaal Heppingen
ATTACH;FMTTYPE=image/jpeg:https://pfarrei-bnaw.de/wp-content/uploads/2024/02/Braun-Gruen-Fotorealistisch-Weihnachten-Flyer.jpg
END:VEVENT
BEGIN:VEVENT
DTSTART;TZID=Europe/Berlin:20240217T100000
DTEND;TZID=Europe/Berlin:20240217T120000
DTSTAMP:20260423T053129
CREATED:20240112T153213Z
LAST-MODIFIED:20240213T132346Z
UID:8631-1708164000-1708171200@pfarrei-bnaw.de
SUMMARY:Wir machen Musik - Kinder-Treff in der Bücherei Ahrweiler 
DESCRIPTION:Am Samstag\, den 17. Februar lädt Erika Heinen mit Unterstützung des Bücherei-Teams Kinder von drei bis ca. acht Jahren zu einem Mitmachkonzert in der Zehntscheuer\, Marktplatz 13 in Ahrweiler ein. \nVon 10 bis 12 Uhr werden kleine Rassel-Instrumente gefertigt\, die bei einem Mitmachkonzert für Kinder und Eltern zum Einsatz kommen. Die Leitung des Konzertes hat Michael Bruchmann\, Musiker\, Dipl. Musiklehrer und Dozent der Familienbildungsstätte. Die Aktion findet im Rahmen des Projektes „Zeit für Familien“ statt und wird gefördert vom Land Rheinland Pfalz\,  Ministerium für Familien\, Frauen\, Kultur und Integration. \nDie Kinder können entweder alleine teilnehmen oder auch in Begleitung von Elternteilen. \nDas Angebot ist kostenlos. Eine Voranmeldung ist nicht erforderlich.
URL:https://pfarrei-bnaw.de/event/kinder-treff-in-der-buecherei-basteln-spielen-vorlesen/
LOCATION:Pfarrbücherei Ahrweiler\, Ahrweiler\, RLP\, 53474\, Deutschland
ATTACH;FMTTYPE=image/jpeg:https://pfarrei-bnaw.de/wp-content/uploads/2024/02/1.jpg
END:VEVENT
BEGIN:VEVENT
DTSTART;TZID=Europe/Berlin:20240218T180000
DTEND;TZID=Europe/Berlin:20240218T200000
DTSTAMP:20260423T053129
CREATED:20240202T141211Z
LAST-MODIFIED:20240202T141211Z
UID:8819-1708279200-1708286400@pfarrei-bnaw.de
SUMMARY:Messe Anders zum Valentinstag (18.2.)
DESCRIPTION:Am Sonntag\, den 18. Februar\, findet um 18 Uhr das beliebte Format Messe Anders in der Klosterkirche auf dem Calvarienberg statt. \nWir feiern Valentinstag und laden ALLE Liebenden zu diesem Segensgottesdienst ein. Das „Wort“ wird dem Anlass entsprechend von einem Paar übernommen -allerdings Anders… Lassen Sie sich überraschen! \nUnd für ALLE Liebenden wird ein persönlicher Segen angeboten. Herzliche Einladung ❣
URL:https://pfarrei-bnaw.de/event/messe-anders-zum-valentinstag-18-2/
LOCATION:Klosterkirche Calvarienberg\, Ahrweiler
ATTACH;FMTTYPE=image/jpeg:https://pfarrei-bnaw.de/wp-content/uploads/2024/02/Flyer_MA_Valentinstag_A6_2024.jpg
END:VEVENT
BEGIN:VEVENT
DTSTART;TZID=Europe/Berlin:20240224T103000
DTEND;TZID=Europe/Berlin:20240224T160000
DTSTAMP:20260423T053129
CREATED:20240213T132713Z
LAST-MODIFIED:20240213T132713Z
UID:8920-1708770600-1708790400@pfarrei-bnaw.de
SUMMARY:Kindergarten-Flohmarkt in der Zehntscheuer
DESCRIPTION:Der Elternausschuss der Kita St. Laurentius veranstaltet auch in diesem Jahr wieder einen Flohmarkt. Dieser ist erstmalig vorsortiert – Anmeldungen werden noch bis 17.02.2024 unter www.basalino.de/4718 entgegengenommen. \nAm 24.02.2024 öffnet die Zehntscheuer auf dem Marktplatz in Ahrweiler ihre Tore ab 10.30 Uhr\, mit einer angemeldeten Kuchenspende bereits ab 10 Uhr. Wir würden uns freuen\, wenn wir Verkaufstag zahlreich besucht werden.
URL:https://pfarrei-bnaw.de/event/kindergarten-flohmarkt-in-der-zehntscheuer/
LOCATION:Zehntscheuer\, Marktplatz 13\, Ahrweiler\, RLP\, 53474\, Deutschland
ATTACH;FMTTYPE=image/jpeg:https://pfarrei-bnaw.de/wp-content/uploads/2024/02/Kita_StLaurentius_Plakat_A3_Flohmarkt_2024_neuer-Termin_gruen_Druck-scaled.jpg
END:VEVENT
END:VCALENDAR