BEGIN:VCALENDAR
VERSION:2.0
PRODID:-//Pfarrei Bad Neuenahr-Ahrweiler - ECPv6.15.20//NONSGML v1.0//EN
CALSCALE:GREGORIAN
METHOD:PUBLISH
X-ORIGINAL-URL:https://pfarrei-bnaw.de
X-WR-CALDESC:Veranstaltungen für Pfarrei Bad Neuenahr-Ahrweiler
REFRESH-INTERVAL;VALUE=DURATION:PT1H
X-Robots-Tag:noindex
X-PUBLISHED-TTL:PT1H
BEGIN:VTIMEZONE
TZID:Europe/Berlin
BEGIN:DAYLIGHT
TZOFFSETFROM:+0100
TZOFFSETTO:+0200
TZNAME:CEST
DTSTART:20230326T010000
END:DAYLIGHT
BEGIN:STANDARD
TZOFFSETFROM:+0200
TZOFFSETTO:+0100
TZNAME:CET
DTSTART:20231029T010000
END:STANDARD
BEGIN:DAYLIGHT
TZOFFSETFROM:+0100
TZOFFSETTO:+0200
TZNAME:CEST
DTSTART:20240331T010000
END:DAYLIGHT
BEGIN:STANDARD
TZOFFSETFROM:+0200
TZOFFSETTO:+0100
TZNAME:CET
DTSTART:20241027T010000
END:STANDARD
BEGIN:DAYLIGHT
TZOFFSETFROM:+0100
TZOFFSETTO:+0200
TZNAME:CEST
DTSTART:20250330T010000
END:DAYLIGHT
BEGIN:STANDARD
TZOFFSETFROM:+0200
TZOFFSETTO:+0100
TZNAME:CET
DTSTART:20251026T010000
END:STANDARD
END:VTIMEZONE
BEGIN:VEVENT
DTSTART;TZID=Europe/Berlin:20240414T110000
DTEND;TZID=Europe/Berlin:20240414T123000
DTSTAMP:20260423T023644
CREATED:20240408T075209Z
LAST-MODIFIED:20240630T205550Z
UID:9329-1713092400-1713097800@pfarrei-bnaw.de
SUMMARY:St. Laurentius: Kinderkirche
DESCRIPTION:Am 07. Juli sind Kinder zwischen drei und acht Jahren während der Heiligen Messe in der Zehntscheuer in Ahrweiler zur Kinderkirche eingeladen.
URL:https://pfarrei-bnaw.de/event/st-laurentius-kinderkirche/
LOCATION:Zehntscheuer\, Marktplatz 13\, Ahrweiler\, RLP\, 53474\, Deutschland
END:VEVENT
BEGIN:VEVENT
DTSTART;TZID=Europe/Berlin:20240414T180000
DTEND;TZID=Europe/Berlin:20240414T200000
DTSTAMP:20260423T023644
CREATED:20240415T084911Z
LAST-MODIFIED:20240415T084911Z
UID:9414-1713117600-1713124800@pfarrei-bnaw.de
SUMMARY:Benefizkonzert in der St. Anna-Kapelle in Bachem
DESCRIPTION:Am Sonntag\, 14. April um 18.00 Uhr spielt das „Chorensemble belCanto“. In der Pause besteht die Möglichkeit sich im Kapellengarten beim Winzerausschank vom Weingut Stefan Kurth zu erfrischen und das ein oder andere angeregte Gespräch zu führen. Die Moderation liegt in den bewährten Händen von Ortsvorsteher Ulrich Stieber. Der Eintritt ist frei\, der Kapellenverein Bachem e. V. bittet um Spenden für seine verschiedenen Projekte.
URL:https://pfarrei-bnaw.de/event/benefizkonzert-in-der-st-anna-kapelle-in-bachem/
LOCATION:St. Anna\, Bachem
END:VEVENT
BEGIN:VEVENT
DTSTART;TZID=Europe/Berlin:20240419T170000
DTEND;TZID=Europe/Berlin:20240419T170000
DTSTAMP:20260423T023644
CREATED:20240317T193620Z
LAST-MODIFIED:20240317T193802Z
UID:9178-1713546000-1713546000@pfarrei-bnaw.de
SUMMARY:St. Laurentius: Gruppenstunde – Jugendtreff
DESCRIPTION:Jugendtreff für alle Messdienerinnen und Messdiener\, Kinder und Jugendliche jeden 3. Freitag im Monat um 17:00 Uhr im Jugendraum St. Laurentius\, Marktplatz 13. Nächste Gruppenstunde: 19. April
URL:https://pfarrei-bnaw.de/event/st-laurentius-gruppenstunde-jugendtreff/
LOCATION:Marktplatz 13\, 53474\, Ahrweiler\, hinter dem Pfarrhaus
END:VEVENT
BEGIN:VEVENT
DTSTART;TZID=Europe/Berlin:20240423T193000
DTEND;TZID=Europe/Berlin:20240423T210000
DTSTAMP:20260423T023644
CREATED:20240408T075812Z
LAST-MODIFIED:20240421T160655Z
UID:9337-1713900600-1713906000@pfarrei-bnaw.de
SUMMARY:kfd St. Laurentius lädt ein zum Bibliolog
DESCRIPTION:Am Dienstag\, den 23. April 2024\, lädt die kfd St. Laurentius Ahrweiler um 19:30 Uhr zu einem Bibliolog ein\, den Uschi Läufer UAC gestalten wird. \nBibliolog ist eine mögliche Art\, in einer Gruppe eine biblische Geschichte neu zu entdecken. Die Teilnehmenden versetzen sich dabei in die biblischen Gestalten hinein. In diesen Rollen kommen sie mit ihren Erfahrungen und ihrer Phantasie zu Wort\, indem sie auf Fragen antworten\, die in der Bibel offen bleiben. Sie entdecken den Bibeltext neu und erfahren die Bedeutung der Bibel für ihr Leben heute. \nHerzliche Einladung an alle Frauen\, sich auf diese Methode einzulassen. Bitte melden Sie sich bis Freitag\, den 19. April\, verbindlich an bei Uschi Läufer\, 02641/37544 (AB) oder bei Hildegard von Ameln\, 02641/3962049 oder 0176 4340 1904. Bitte geben Sie Ihre Mailadresse oder Telefonnummer an\, damit wir Sie rechtzeitig informieren können\, falls der Termin nicht zustande kommt. Die Veranstaltung kann nur stattfinden\, wenn sich genügend Frauen anmelden.
URL:https://pfarrei-bnaw.de/event/kfd-st-laurentius-laedt-ein-zum-bibliolog/
LOCATION:Zehntscheuer\, Marktplatz 13\, Ahrweiler\, RLP\, 53474\, Deutschland
END:VEVENT
BEGIN:VEVENT
DTSTART;TZID=Europe/Berlin:20240424T163000
DTEND;TZID=Europe/Berlin:20240424T180000
DTSTAMP:20260423T023644
CREATED:20240317T194943Z
LAST-MODIFIED:20240402T120533Z
UID:9193-1713976200-1713981600@pfarrei-bnaw.de
SUMMARY:Pastoraler Raum: Frühlings-Gedanken
DESCRIPTION:Unter dieser Überschrift lädt der Pastorale Raum Bad Neuenahr-Ahrweiler zu drei Veranstaltungen ein. Es geht um den Frühling\, um Wachsen und Werden und darum\, zu entdecken\, was uns Kraft gibt. \nMi. 24.4.2024\, 16.30 Uhr – Bad Neuenahr-Waschbar\nFrühlingspoesie – oder: Aus alt mach neu\nEine Entdeckungsreise\, in literarischen Texten Worte\, die ganz persönlich ansprechen zu finden und daraus neues entstehen zu lassen. \nFreuen Sie sich auf unterschiedliche Impulse und Anregungen. Der Austausch in der Gruppe kommt nicht zu kurz. Eine Teilnahme an einzelnen Veranstaltungen ist möglich. Melden Sie sich bitte spätestens 1 Woche vorher an unter: elisabeth.hauroeder@bistum-trier.de\nDie Leitung der Veranstaltungen haben Sr. Simone Remmert und Pastoralreferentin Elisabeth Hauröder. Veranstalter ist der Pastorale Raum Bad Neuenahr-Ahrweiler. Es entstehen den Teilnehmenden keine Kosten.
URL:https://pfarrei-bnaw.de/event/pastoraler-raum-fruehlings-gedanken-2/
LOCATION:Bad Neuenahr\, Wird noch bekannt gegeben!
END:VEVENT
END:VCALENDAR