BEGIN:VCALENDAR
VERSION:2.0
PRODID:-//Pfarrei Bad Neuenahr-Ahrweiler - ECPv6.15.20//NONSGML v1.0//EN
CALSCALE:GREGORIAN
METHOD:PUBLISH
X-WR-CALNAME:Pfarrei Bad Neuenahr-Ahrweiler
X-ORIGINAL-URL:https://pfarrei-bnaw.de
X-WR-CALDESC:Veranstaltungen für Pfarrei Bad Neuenahr-Ahrweiler
REFRESH-INTERVAL;VALUE=DURATION:PT1H
X-Robots-Tag:noindex
X-PUBLISHED-TTL:PT1H
BEGIN:VTIMEZONE
TZID:Europe/Berlin
BEGIN:DAYLIGHT
TZOFFSETFROM:+0100
TZOFFSETTO:+0200
TZNAME:CEST
DTSTART:20230326T010000
END:DAYLIGHT
BEGIN:STANDARD
TZOFFSETFROM:+0200
TZOFFSETTO:+0100
TZNAME:CET
DTSTART:20231029T010000
END:STANDARD
BEGIN:DAYLIGHT
TZOFFSETFROM:+0100
TZOFFSETTO:+0200
TZNAME:CEST
DTSTART:20240331T010000
END:DAYLIGHT
BEGIN:STANDARD
TZOFFSETFROM:+0200
TZOFFSETTO:+0100
TZNAME:CET
DTSTART:20241027T010000
END:STANDARD
BEGIN:DAYLIGHT
TZOFFSETFROM:+0100
TZOFFSETTO:+0200
TZNAME:CEST
DTSTART:20250330T010000
END:DAYLIGHT
BEGIN:STANDARD
TZOFFSETFROM:+0200
TZOFFSETTO:+0100
TZNAME:CET
DTSTART:20251026T010000
END:STANDARD
END:VTIMEZONE
BEGIN:VEVENT
DTSTART;TZID=Europe/Berlin:20240803T140000
DTEND;TZID=Europe/Berlin:20240803T170000
DTSTAMP:20260423T131059
CREATED:20240715T063552Z
LAST-MODIFIED:20240715T063552Z
UID:10116-1722693600-1722704400@pfarrei-bnaw.de
SUMMARY:Begegnungen im Weinberg
DESCRIPTION:Herzliche Einladung zu einer spirituellen Auszeit im Weinberg am Samstag\, 3. August 2024 von 14.00 bis 17.00 Uhr in den Weinbergen in Dernau. Impulse\, Begegnung\, Zeit für persönliche Entdeckungen und Gespräche – all das bietet diese Auszeit in den Weinbergen. Begleitet wird der Nachmittag von Sr. Simone Remmert und Pastoralreferentin Elisabeth Hauröder. Da die Zahl der Teilnehmenden begrenzt ist\, ist eine Anmeldung bis zum 25. Juli unter: elisabeth.hauroede@bgv-trier.de oder Tel.: 02691-932346 erforderlich. Veranstalter ist der Pastorale Raum Bad Neuenahr-Ahrweiler.
URL:https://pfarrei-bnaw.de/event/begegnungen-im-weinberg/
ATTACH;FMTTYPE=image/png:https://pfarrei-bnaw.de/wp-content/uploads/2024/07/Begegnungen-im-Weinberg.png
END:VEVENT
BEGIN:VEVENT
DTSTART;VALUE=DATE:20240805
DTEND;VALUE=DATE:20240806
DTSTAMP:20260423T131059
CREATED:20240617T085058Z
LAST-MODIFIED:20240630T210437Z
UID:9927-1722816000-1722902399@pfarrei-bnaw.de
SUMMARY:Wallfahrt nach Kevelaer
DESCRIPTION:Die diesjährige Wallfahrt des Pastoralen Raums Bad Neuenahr-Ahrweiler nach Kevelaer findet am Montag\, den 5. August 2024 statt. Nach dem Gebet am Gnadenbild um 08:45 Uhr ist um 10:00 Uhr Gelegenheit zur Teilnahme am Pilgeramt in der Basilika. Um 11:15 Uhr ist der große Kreuzweg geplant und um 15:00 Uhr ist dann Gelegenheit zur Teilnahme an der Pilgerandacht in der Basilika. Um 16:45 Uhr Schlussandacht. \nAnmeldungen werden im Reisebüro Alfredo\, Johanniswall 55\, Tel. 900225 oder 900226 entgegengenommen. Der Fahrpreis beträgt 30 €.
URL:https://pfarrei-bnaw.de/event/wallfahrt-nach-kevelaer/
ATTACH;FMTTYPE=image/jpeg:https://pfarrei-bnaw.de/wp-content/uploads/2024/06/Kevelaer-.jpg
END:VEVENT
BEGIN:VEVENT
DTSTART;TZID=Europe/Berlin:20240809T200000
DTEND;TZID=Europe/Berlin:20240809T220000
DTSTAMP:20260423T131059
CREATED:20240815T142823Z
LAST-MODIFIED:20240815T142823Z
UID:10289-1723233600-1723240800@pfarrei-bnaw.de
SUMMARY:Pfarrkino in Heimersheim
DESCRIPTION:Auch in diesem Jahr wird es in den Sommerferien freitags um 20:15 Uhr in den einzelnen Pfarrbezirken wieder ein Pfarrkino geben. Gestartet wird am Freitag\, dem 9. August um 20:15 Uhr im ASB-Container im Schatten der St. Mauritius-Kirche in Heimersheim. \nDas Programm des Pfarrkinos ist abwechslungsreich\, stimmungsvoll und für jeden/jede ist etwas dabei! Leider dürfen wir aus rechtlichen Gründen die Titel vorab nicht veröffentlichen\, aber wir können versichern\, es lohnt sich! Wer die Spannung gar nicht mehr aushält\, kann sich gerne bei den Lokalen Teams informieren. \nWeitere Filmabende folgen.
URL:https://pfarrei-bnaw.de/event/pfarrkino-in-heimersheim/
LOCATION:Heimersheim\, wird noch bekanntgegeben!
ATTACH;FMTTYPE=image/jpeg:https://pfarrei-bnaw.de/wp-content/uploads/2024/08/1.jpg
END:VEVENT
BEGIN:VEVENT
DTSTART;VALUE=DATE:20240811
DTEND;VALUE=DATE:20240812
DTSTAMP:20260423T131059
CREATED:20240815T142900Z
LAST-MODIFIED:20240815T142900Z
UID:10291-1723334400-1723420799@pfarrei-bnaw.de
SUMMARY:Laurentiusfest am 11. August 
DESCRIPTION:„Laurentius\, heil’ger Diakon\, bitt‘ für uns an Gottes Thron!“ Am 11. August feiern wir in Ahrweiler wieder unser Laurentiusfest mit einem Gottesdienst im Pfarrgarten. Sollte der Festtag in den Regen fallen\, weichen wir in die Zehntscheuer aus. In jedem Fall wird der Gottesdienst vom Kirchenchor unter der Leitung von Thomas Schnorr begleitet! \nIm Anschluss an den Gottesdienst besteht die Möglichkeit zum gemütlichen Beisammensein: stimmungsvolle Töne des Spielmannszug Ahrweiler versprechen einen heiteren Frühschoppen mit Würstchen vom Grill und Salatbuffet. Bei Kaffee und Waffeln\, besteht die Möglichkeit\, sich am Stand von Mondo Amiki zu informieren. Kinder und Jugendliche werden durch das Büchereiteam\, den Familienausschuss und die Messdiener an St. Laurentius bestens versorgt. Sie haben am 11. August noch nichts vor? Dann schauen Sie doch mal vorbei! \nDie Dingelgruppe um Werner Bergmann wird das Patrozinium an folgenden Tagen mitgestalten: Freitag\,  09.08.24 um 18:00 Uhr  – am Samstag\, 10.08.24 um 12:00 Uhr und am Sonntag\, 11.08.24 nach der Heiligen Messe um ca. 12:00 Uhr. \nEs wird  jeweils geboten das „Festliche“ Angelus (mit Glockenspiel „salve regina“ zwischen den Angelusschlägen)\, das eigentliches Dingeln und zum Abschluss div. Glockenspiele.
URL:https://pfarrei-bnaw.de/event/laurentiusfest-am-11-august/
LOCATION:Pfarrgarten St. Laurentius\, Marktplatz 13\, 53474 Ahrweiler\, Pfarrgarten St. Laurentius
END:VEVENT
BEGIN:VEVENT
DTSTART;VALUE=DATE:20240817
DTEND;VALUE=DATE:20240831
DTSTAMP:20260423T131059
CREATED:20240819T082831Z
LAST-MODIFIED:20240819T082844Z
UID:10318-1723852800-1725062399@pfarrei-bnaw.de
SUMMARY:"Die Hühner op jück" – Ein tierisches Sommer-Highlight im Pfarrgarten Ahrweiler
DESCRIPTION:Der Pfarrbezirk Ahrweiler lädt alle Bürgerinnen und Bürger herzlich zu einem ganz besonderen Sommerereignis ein: „Die Hühner op jück“ im Pfarrgarten St. Laurentius Ahrweiler. Vom 17. bis 31. August 2024 erwartet die Besucherinnen und Besucher ein abwechslungsreiches Programm rund um die Hühner. \nDer Pfarrbezirk Ahrweiler lädt alle Bürgerinnen und Bürger herzlich zu einem ganz besonderen Sommerereignis ein: „Die Hühner op jück“ im Pfarrgarten St. Laurentius Ahrweiler. Vom 17. bis 31. August 2024 erwartet die Besucherinnen und Besucher ein abwechslungsreiches Programm rund um die Hühner. \nProgrammübersicht: \n\n17. August 2024: Am Nachmittag ziehen die Hühner in den Pfarrgarten ein.\n18. August 2024: Sonntagsruhe – Ein Tag der Entspannung.\n19. August 2024: Spiel & Spaß für junge Familien am Nachmittag.\n21. August 2024: Erneut Spiel & Spaß für junge Familien am Nachmittag.\n23. August 2024: Kaffee & Kuchen am Hühnerstall – Ein gemütlicher Nachmittag.\n24. August 2024: Ein Tag für die Jugend im Pfarrgarten.\n25. August 2024: Sonntagsruhe – Zeit für Erholung.\n26. August 2024: Spiel & Spaß für junge Familien am Nachmittag.\n27. August 2024: Nach der Abendmesse gibt es Strammer Max & Veggie Max – Abendbrot für jedermann.\n29. August 2024: Familienpicknick mit Spiel & Spaß von 9:30 Uhr bis 12:00 Uhr.\n30. August 2024: Am Nachmittag heißt es Abschied nehmen – Auszug der Hühner.\n\nDas Programm bietet eine bunte Mischung aus Spiel & Spaß für Familien\, Jugendaktivitäten\, gemütlichen Kaffee-Nachmittagen und einem Familienpicknick. Ergänzt wird das Ganze durch entspannte Sonntage\, ein gemeinsames Abendbrot und den feierlichen Ein- und Auszug der Hühner. Auch weitere Programm-Punkte können gerne ergänzt werden! \nSchauen Sie einfach vorbei\, um mitzuspielen oder einfach nur\, um die Hühner zu besuchen. Das Programm kann noch erweitert werden\, also bleiben Sie gespannt! \nErleben Sie unvergessliche Tage mit der ganzen Familie im Herzen von Ahrweiler – Wir freuen uns auf Ihren Besuch!
URL:https://pfarrei-bnaw.de/event/die-huehner-op-jueck-ein-tierisches-sommer-highlight-im-pfarrgarten-ahrweiler/
LOCATION:Pfarrgarten St. Laurentius\, Marktplatz 13\, 53474 Ahrweiler\, Pfarrgarten St. Laurentius
ATTACH;FMTTYPE=image/jpeg:https://pfarrei-bnaw.de/wp-content/uploads/2024/08/2-1.jpg
END:VEVENT
BEGIN:VEVENT
DTSTART;TZID=Europe/Berlin:20240818T113000
DTEND;TZID=Europe/Berlin:20240818T123000
DTSTAMP:20260423T131059
CREATED:20240815T143047Z
LAST-MODIFIED:20240815T143047Z
UID:10294-1723980600-1723984200@pfarrei-bnaw.de
SUMMARY:Weinfest in Heimersheim
DESCRIPTION:Am Sonntag\, 18. August wird um 11:30 Uhr eine Wort-Gottes-Feier anlässlich des Weinfestes in Heimersheim gefeiert. Die Vorabendmesse am Samstag entfällt. Die für diesen Termin bestellten Messintentionen werden verlegt auf die Vorabendmesse in Heimersheim am 7. September. \n 
URL:https://pfarrei-bnaw.de/event/weinfest-in-heimersheim/
LOCATION:Heimersheim\, wird noch bekanntgegeben!
END:VEVENT
BEGIN:VEVENT
DTSTART;TZID=Europe/Berlin:20240821T150000
DTEND;TZID=Europe/Berlin:20240821T190000
DTSTAMP:20260423T131059
CREATED:20240815T143223Z
LAST-MODIFIED:20240815T143307Z
UID:10296-1724252400-1724266800@pfarrei-bnaw.de
SUMMARY:Kirchdaun: Oldies-Treff 2.0
DESCRIPTION:Am Mittwoch\, 21. August um 15:00 Uhr\, wird in Kirchdaun Seniorenmesse gefeiert. Im Anschluss \nan die Messe sind alle Oldies ab 65+ ganz herzlich zu Kaffee und Kuchen\, Bier oder Wein ins Bürgerhaus einladen. Kuchenspenden und Mithilfe sind erwünscht! Zwecks Organisation von beidem bitte bei Hanni Küpper melden (Tel. 0171/5448384)
URL:https://pfarrei-bnaw.de/event/kirchdaun-oldies-treff-2-0/
END:VEVENT
BEGIN:VEVENT
DTSTART;TZID=Europe/Berlin:20240823T150000
DTEND;TZID=Europe/Berlin:20240823T170000
DTSTAMP:20260423T131059
CREATED:20240815T143911Z
LAST-MODIFIED:20240815T143911Z
UID:10298-1724425200-1724432400@pfarrei-bnaw.de
SUMMARY:Ausstellungseröffnung: Gesichter und Geschichten
DESCRIPTION:Herzliche Einladung zur Ausstellungseröffnung am 23. August 2024. Nach dem Gottesdienst um 15:00 Uhr in der Rosenkranzkirche lädt die Fluthilfe des Malteser Hilfsdienstes alle Interessierten zur Eröffnung im Pfarrheim nebenan (Telegrafenstr.4) ein. \nDie Ausstellung ist zu erleben am Samstag\, 24.8. von 14:00 bis 17:00 Uhr und Sonntag\, 25. 8. von 10.30 bis 14:00 Uhr. Zusätzlich ist sie geöffnet in der Zeit vom 26.08. bis 30.08.2024 während der Öffnungszeiten  der Waschbar (Mo\, Mi\, Fr 09 – 16 h / Di 13 – 18 h / Do 09 – 18 h)
URL:https://pfarrei-bnaw.de/event/ausstellungseroeffnung-gesichter-und-geschichten/
END:VEVENT
BEGIN:VEVENT
DTSTART;TZID=Europe/Berlin:20240825T113000
DTEND;TZID=Europe/Berlin:20240825T130000
DTSTAMP:20260423T131059
CREATED:20240819T083248Z
LAST-MODIFIED:20240819T083248Z
UID:10323-1724585400-1724590800@pfarrei-bnaw.de
SUMMARY:Pfarrkino in Gimmigen
DESCRIPTION:Am Sonntag\, 25. August wird in Gimmigen um 11:30 Uhr ein Film für Kinder und Familien gezeigt.  Für Getränke und Snacks wird gesorgt! \nAus rechtlichen Gründen können die Titel vorab nicht veröffentlicht\, aber gerne im Pfarrbüro erfragt werden. \nDie Filme werden in der Kirche bzw. in naheliegenden Gebäuden gezeigt.
URL:https://pfarrei-bnaw.de/event/pfarrkino-in-gimmigen/
LOCATION:Gimmigen
ATTACH;FMTTYPE=image/jpeg:https://pfarrei-bnaw.de/wp-content/uploads/2024/08/1.jpg
END:VEVENT
BEGIN:VEVENT
DTSTART;TZID=Europe/Berlin:20240830T160000
DTEND;TZID=Europe/Berlin:20240830T180000
DTSTAMP:20260423T131059
CREATED:20240819T083035Z
LAST-MODIFIED:20240819T083035Z
UID:10320-1725033600-1725040800@pfarrei-bnaw.de
SUMMARY:Kirchdaun-Gimmigen: Verschönerung im Kapellengarten
DESCRIPTION:Fleißige Hände für den Kapellengarten gesucht \nGesucht werden tatkräftige Engel mit Gartenwerkzeugen aller Art (Gartenschere\, Schaufel\, Besen\, Eimer\, Handschuhe usw.)! \nDie St. Lambertus-Stiftung Kirchdaun-Gimmigen möchte nochmals in einer gemeinsamen Aktion mit den Gimmiger Bürgerinnen und Bürgern am 30.08.2024 von 16.00 – 18.00 Uhr Pflegearbeiten in der Außenanlage rund um die Kapelle durchführen. Für Getränke wird gesorgt. \nDie gemeinnützige St. Lambertus-Stiftung verfolgt den Zweck\, die Kirchengebäude in Kirchdaun und Gimmigen zu erhalten sowie Menschen aus der Pfarrei zu unterstützen\, die in eine Not geraten sind. \nFür Rückfragen steht der Vorsitzende der Stiftung\, Armin Küpper\, unter der Telefonnummer 0151-28835534\, gerne zur Verfügung.
URL:https://pfarrei-bnaw.de/event/kirchdaun-gimmigen-verschoenerung-im-kapellengarten/
END:VEVENT
BEGIN:VEVENT
DTSTART;TZID=Europe/Berlin:20240830T160000
DTEND;TZID=Europe/Berlin:20240901T160000
DTSTAMP:20260423T131059
CREATED:20240707T170836Z
LAST-MODIFIED:20240707T170836Z
UID:10075-1725033600-1725206400@pfarrei-bnaw.de
SUMMARY:Den Papa nur für mich...
DESCRIPTION:Ein Wochenende nur für Väter mit ihren Kindern ab Grundschulalter von Freitag\, 30. August\, 16:00 Uhr bis 01. September\, ca. 16:00 Uhr in Vallendar. Neben Grillen und Toben\, Lagerfeuer und Spiel\, mit dem Kanu auf der Lahn\, Natur erleben\, Kletterpark oder Schmetterlinge wird es auch Zeit zum Austausch und Gebet geben. \nUnterbringung in Familienappartements im Haus der Familie der Schönstätter Gemeinschaft. Kosten 100 € für Vollpension und Eintritte. Anreise auf eigene Kosten. \nVoranmeldung und Rückfragen bei Markus Hartmann\, 0171-1827107 odermarkus.hartmann@bistum-trier.de
URL:https://pfarrei-bnaw.de/event/den-papa-nur-fuer-mich/
LOCATION:Vallendar
END:VEVENT
BEGIN:VEVENT
DTSTART;TZID=Europe/Berlin:20240830T160000
DTEND;TZID=Europe/Berlin:20240901T160000
DTSTAMP:20260423T131059
CREATED:20240715T063705Z
LAST-MODIFIED:20240715T063705Z
UID:10118-1725033600-1725206400@pfarrei-bnaw.de
SUMMARY:Den Papa nur für mich...
DESCRIPTION:Ein Wochenende nur für Väter mit ihren Kindern ab Grundschulalter von Freitag\, 30. August\, 16:00 Uhr bis 01. September\, ca. 16:00 Uhr in Vallendar. Neben Grillen und Toben\, Lagerfeuer und Spiel\, mit dem Kanu auf der Lahn\, Natur erleben\, Kletterpark oder Schmetterlinge wird es auch Zeit zum Austausch und Gebet geben. \nUnterbringung in Familienappartements im Haus der Familie der Schönstätter Gemeinschaft. Kosten 100 € für Vollpension und Eintritte. Anreise auf eigene Kosten. \nVoranmeldung und Rückfragen bei Markus Hartmann\, 0171-1827107 oder markus.hartmann@bistum-trier.de
URL:https://pfarrei-bnaw.de/event/den-papa-nur-fuer-mich-2/
END:VEVENT
BEGIN:VEVENT
DTSTART;TZID=Europe/Berlin:20240830T180000
DTEND;TZID=Europe/Berlin:20240830T220000
DTSTAMP:20260423T131059
CREATED:20240819T083400Z
LAST-MODIFIED:20240819T083400Z
UID:10325-1725040800-1725055200@pfarrei-bnaw.de
SUMMARY:Pfarrkino in Ramersbach
DESCRIPTION:Am Freitag\, 30. August startet das Pfarrkino im Pfarrbezirk St. Barbara bereits um 18:00 Uhr für die Kleinen und setzt sich um 20:15 Uhr mit einem Film für die Großen fort. \nFür Getränke und Snacks wird gesorgt! \nAus rechtlichen Gründen können die Titel vorab nicht veröffentlicht\, aber gerne im Pfarrbüro erfragt werden. \nDie Filme werden in der Kirche bzw. in naheliegenden Gebäuden gezeigt.
URL:https://pfarrei-bnaw.de/event/pfarrkino-in-ramersbach/
LOCATION:St. Barbara\, Ramersbach
ATTACH;FMTTYPE=image/jpeg:https://pfarrei-bnaw.de/wp-content/uploads/2024/08/1.jpg
END:VEVENT
BEGIN:VEVENT
DTSTART;TZID=Europe/Berlin:20240831T200000
DTEND;TZID=Europe/Berlin:20240831T220000
DTSTAMP:20260423T131059
CREATED:20240819T083509Z
LAST-MODIFIED:20240819T083509Z
UID:10327-1725134400-1725141600@pfarrei-bnaw.de
SUMMARY:Pfarrkino in Bachem
DESCRIPTION:Am Samstag\, 31. August schließt das Pfarrkino mit einem Filmabend in St. Anna in Bachem um 20:15 Uhr. \nFür Getränke und Snacks wird gesorgt! \nAus rechtlichen Gründen können die Titel vorab nicht veröffentlicht\, aber gerne im Pfarrbüro erfragt werden. \nDie Filme werden in der Kirche bzw. in naheliegenden Gebäuden gezeigt.
URL:https://pfarrei-bnaw.de/event/pfarrkino-in-bachem/
LOCATION:St. Anna\, Bachem
ATTACH;FMTTYPE=image/jpeg:https://pfarrei-bnaw.de/wp-content/uploads/2024/08/1.jpg
END:VEVENT
END:VCALENDAR