BEGIN:VCALENDAR
VERSION:2.0
PRODID:-//Pfarrei Bad Neuenahr-Ahrweiler - ECPv6.15.20//NONSGML v1.0//EN
CALSCALE:GREGORIAN
METHOD:PUBLISH
X-ORIGINAL-URL:https://pfarrei-bnaw.de
X-WR-CALDESC:Veranstaltungen für Pfarrei Bad Neuenahr-Ahrweiler
REFRESH-INTERVAL;VALUE=DURATION:PT1H
X-Robots-Tag:noindex
X-PUBLISHED-TTL:PT1H
BEGIN:VTIMEZONE
TZID:Europe/Berlin
BEGIN:DAYLIGHT
TZOFFSETFROM:+0100
TZOFFSETTO:+0200
TZNAME:CEST
DTSTART:20230326T010000
END:DAYLIGHT
BEGIN:STANDARD
TZOFFSETFROM:+0200
TZOFFSETTO:+0100
TZNAME:CET
DTSTART:20231029T010000
END:STANDARD
BEGIN:DAYLIGHT
TZOFFSETFROM:+0100
TZOFFSETTO:+0200
TZNAME:CEST
DTSTART:20240331T010000
END:DAYLIGHT
BEGIN:STANDARD
TZOFFSETFROM:+0200
TZOFFSETTO:+0100
TZNAME:CET
DTSTART:20241027T010000
END:STANDARD
BEGIN:DAYLIGHT
TZOFFSETFROM:+0100
TZOFFSETTO:+0200
TZNAME:CEST
DTSTART:20250330T010000
END:DAYLIGHT
BEGIN:STANDARD
TZOFFSETFROM:+0200
TZOFFSETTO:+0100
TZNAME:CET
DTSTART:20251026T010000
END:STANDARD
END:VTIMEZONE
BEGIN:VEVENT
DTSTART;TZID=Europe/Berlin:20240830T160000
DTEND;TZID=Europe/Berlin:20240901T160000
DTSTAMP:20260423T112738
CREATED:20240707T170836Z
LAST-MODIFIED:20240707T170836Z
UID:10075-1725033600-1725206400@pfarrei-bnaw.de
SUMMARY:Den Papa nur für mich...
DESCRIPTION:Ein Wochenende nur für Väter mit ihren Kindern ab Grundschulalter von Freitag\, 30. August\, 16:00 Uhr bis 01. September\, ca. 16:00 Uhr in Vallendar. Neben Grillen und Toben\, Lagerfeuer und Spiel\, mit dem Kanu auf der Lahn\, Natur erleben\, Kletterpark oder Schmetterlinge wird es auch Zeit zum Austausch und Gebet geben. \nUnterbringung in Familienappartements im Haus der Familie der Schönstätter Gemeinschaft. Kosten 100 € für Vollpension und Eintritte. Anreise auf eigene Kosten. \nVoranmeldung und Rückfragen bei Markus Hartmann\, 0171-1827107 odermarkus.hartmann@bistum-trier.de
URL:https://pfarrei-bnaw.de/event/den-papa-nur-fuer-mich/
LOCATION:Vallendar
END:VEVENT
BEGIN:VEVENT
DTSTART;TZID=Europe/Berlin:20240830T160000
DTEND;TZID=Europe/Berlin:20240901T160000
DTSTAMP:20260423T112738
CREATED:20240715T063705Z
LAST-MODIFIED:20240715T063705Z
UID:10118-1725033600-1725206400@pfarrei-bnaw.de
SUMMARY:Den Papa nur für mich...
DESCRIPTION:Ein Wochenende nur für Väter mit ihren Kindern ab Grundschulalter von Freitag\, 30. August\, 16:00 Uhr bis 01. September\, ca. 16:00 Uhr in Vallendar. Neben Grillen und Toben\, Lagerfeuer und Spiel\, mit dem Kanu auf der Lahn\, Natur erleben\, Kletterpark oder Schmetterlinge wird es auch Zeit zum Austausch und Gebet geben. \nUnterbringung in Familienappartements im Haus der Familie der Schönstätter Gemeinschaft. Kosten 100 € für Vollpension und Eintritte. Anreise auf eigene Kosten. \nVoranmeldung und Rückfragen bei Markus Hartmann\, 0171-1827107 oder markus.hartmann@bistum-trier.de
URL:https://pfarrei-bnaw.de/event/den-papa-nur-fuer-mich-2/
END:VEVENT
BEGIN:VEVENT
DTSTART;TZID=Europe/Berlin:20240901T163000
DTEND;TZID=Europe/Berlin:20240901T180000
DTSTAMP:20260423T112738
CREATED:20240824T070558Z
LAST-MODIFIED:20240824T070645Z
UID:10351-1725208200-1725213600@pfarrei-bnaw.de
SUMMARY:St. Pius: Gemeinsam-Gottesdienst vor der Kirche
DESCRIPTION:Am Sonntag\, 01. September heißt es um 16:30 Uhr „Gemeinsam feiern“. Nach dem Gottesdienst sind alle zum gemeinsamen Grillen und Feiern eingeladen.
URL:https://pfarrei-bnaw.de/event/st-pius-gemeinsam-gottesdienst-vor-der-kirche/
LOCATION:St. Pius\, Schützenstraße 125\, Bad Neuenahr-Ahrweiler\, Rheinland-Pfalz\, 53474\, Deutschland
ATTACH;FMTTYPE=image/jpeg:https://pfarrei-bnaw.de/wp-content/uploads/2023/11/Pius1.jpg
END:VEVENT
BEGIN:VEVENT
DTSTART;TZID=Europe/Berlin:20240904T150000
DTEND;TZID=Europe/Berlin:20240904T170000
DTSTAMP:20260423T112738
CREATED:20240824T071022Z
LAST-MODIFIED:20240824T071022Z
UID:10355-1725462000-1725469200@pfarrei-bnaw.de
SUMMARY:Heppingen: Seniorenmesse
DESCRIPTION:Herzliche Einladung am Mittwoch\, 4. September um 15:00 Uhr zur Seniorenmesse in St. Martin\, Heppingen. Das Team\, das sonst anschließend den Kaffee anbietet macht zwar noch ein Sommer-Päuschen\, ist aber ab Oktober wieder da.
URL:https://pfarrei-bnaw.de/event/heppingen-seniorenmesse/
LOCATION:St. Martin\, Heppingen
END:VEVENT
BEGIN:VEVENT
DTSTART;TZID=Europe/Berlin:20240908T093000
DTEND;TZID=Europe/Berlin:20240908T140000
DTSTAMP:20260423T112738
CREATED:20240824T071615Z
LAST-MODIFIED:20240830T111724Z
UID:10363-1725787800-1725804000@pfarrei-bnaw.de
SUMMARY:Rosenkranzkirche: Patrozinium
DESCRIPTION:Rosenkranz feiert! \nAm Sonntag\, dem 8. September lädt das lokale Team Rosenkranz nach der Heiligen Messe um 9:30 Uhr herzlich zum Feiern rund um die Rosenkranzkirche ein. Neben Imbiss und  Getränken  können Sie sich auch auf Kaffee und  Kuchen freuen. Ab 13:00 Uhr bietet das Team des Blandine-Merten-Hauses Spiel und Spaß für die Kinder an.
URL:https://pfarrei-bnaw.de/event/rosenkranzkirche-patrozinium/
LOCATION:Rosenkranzkirche
ATTACH;FMTTYPE=image/jpeg:https://pfarrei-bnaw.de/wp-content/uploads/2024/08/Rosenkranz-feiert-2.jpg
END:VEVENT
BEGIN:VEVENT
DTSTART;TZID=Europe/Berlin:20240908T110000
DTEND;TZID=Europe/Berlin:20240908T123000
DTSTAMP:20260423T112738
CREATED:20240830T111542Z
LAST-MODIFIED:20240830T111542Z
UID:10400-1725793200-1725798600@pfarrei-bnaw.de
SUMMARY:St. Laurentius: Kinderkirche
DESCRIPTION:Kinderkirche – Am 8. September sind Kinder zwischen drei und acht Jahren während der Heiligen Messe in der Zehntscheuer in Ahrweiler zur Kinderkirche eingeladen.
URL:https://pfarrei-bnaw.de/event/st-laurentius-kinderkirche-2/
END:VEVENT
BEGIN:VEVENT
DTSTART;TZID=Europe/Berlin:20240908T180000
DTEND;TZID=Europe/Berlin:20240908T200000
DTSTAMP:20260423T112738
CREATED:20240824T071458Z
LAST-MODIFIED:20240824T071458Z
UID:10361-1725818400-1725825600@pfarrei-bnaw.de
SUMMARY:St. Anna: Benefizkonzert
DESCRIPTION:„Immer wieder geht die Sonne auf“ –  Benefizkonzert in der St. Anna-Kapelle in Bachem \nAm Sonntag\, 8. September um 18.00 Uhr spielt das GiesenSchoenmackers Trio.\nIn der Pause besteht die Möglichkeit sich im Kapellengarten beim Winzerausschank vom Weingut Stefan Kurth zu erfrischen und das ein oder andere angeregte Gespräch zu führen. \nDer Eintritt ist frei\, der Kapellenverein Bachem e. V. bittet um Spenden für seine verschiedenen Projekte.
URL:https://pfarrei-bnaw.de/event/st-anna-benefizkonzert/
LOCATION:St. Anna\, Bachem
END:VEVENT
BEGIN:VEVENT
DTSTART;TZID=Europe/Berlin:20240911T150000
DTEND;TZID=Europe/Berlin:20240911T170000
DTSTAMP:20260423T112738
CREATED:20240830T111652Z
LAST-MODIFIED:20240830T111652Z
UID:10402-1726066800-1726074000@pfarrei-bnaw.de
SUMMARY:kfd: Einladung zum ökumenischen Nachmittag
DESCRIPTION:Am Mittwoch\, den 11. September 2024\, lädt die kfd St. Laurentius Ahrweiler die Frauen der Evangelischen Frauenhilfe Bad Neuenahr zu einem ökumenischen Nachmittag in die Zehntscheuer nach Ahrweiler\, Am Markt\, ein. Wir beginnen um 15 Uhr mit leckerem Kaffee und Kuchen und beschäftigen uns im Anschluss mit den sieben Ich-bin-Worten Jesu im Johannes-Evangelium. Das Vorbereitungsteam würde sich freuen\, wenn viele Frauen der kfd und der Frauenhilfe an diesem gemeinsamen Nachmittag teilnehmen würden.
URL:https://pfarrei-bnaw.de/event/kfd-einladung-zum-oekumenischen-nachmittag/
LOCATION:Zehntscheuer\, Marktplatz 13\, Ahrweiler\, RLP\, 53474\, Deutschland
END:VEVENT
BEGIN:VEVENT
DTSTART;TZID=Europe/Berlin:20240912T183000
DTEND;TZID=Europe/Berlin:20240913T120000
DTSTAMP:20260423T112738
CREATED:20240830T111903Z
LAST-MODIFIED:20240907T113522Z
UID:10404-1726165800-1726228800@pfarrei-bnaw.de
SUMMARY:St. Laurentius: Tag des Ewigen Gebetes
DESCRIPTION:Die Pfarrei Bad Neuenahr-Ahrweiler lädt zur Teilnahme am diesjährigen Tag des Ewigen Gebetes ein\, der am 12. und 13. September 2024 in Ahrweiler stattfindet. Unter dem Motto „stay and pray“ wird ein vielfältiges Programm geboten\, das Raum für Gebet\, Stille und Besinnung bietet. \nDer Tag des Ewigen Gebetes beginnt am Donnerstag\, den 12. September\, um 18:30 Uhr mit einer feierlichen Abendmesse.  Der Chor Taizé-Plus wird musikalisch begleiten und so eine besondere spirituelle Stimmung schaffen. Im Anschluss daran sind alle herzlich zur Agapefeier mit Brot und Wein eingeladen. Besinnliche Texte\, Momente der Stille und gemeinsamer Gesang laden die Anwesenden ein\, zur Ruhe zu kommen und die Hektik des Alltags hinter sich zu lassen. Im Anschluss an das Abendlob um 20:30 Uhr besteht bis 22:30 Uhr die Möglichkeit zur stillen Anbetung. Diese intensive Form des Gebets wird von einer abschließenden Komplet und Nachtwache begleitet. \nDer Tag des Ewigen Gebetes endet am Freitag\, den 13. September um 12:00 Uhr mit einem gemeinsamen Mittagsgebet und dem Schlusssegen auf dem Marktplatz in Ahrweiler. Die Gemeinde lädt herzlich dazu ein\, dieses besondere Ereignis im Herzen der Stadt abzuschließen und die besinnliche Zeit gemeinsam ausklingen zu lassen.
URL:https://pfarrei-bnaw.de/event/st-laurentius-tag-des-ewigen-gebetes/
ATTACH;FMTTYPE=image/jpeg:https://pfarrei-bnaw.de/wp-content/uploads/2024/08/1-2.jpg
END:VEVENT
BEGIN:VEVENT
DTSTART;TZID=Europe/Berlin:20240914T100000
DTEND;TZID=Europe/Berlin:20240914T163000
DTSTAMP:20260423T112738
CREATED:20240715T063813Z
LAST-MODIFIED:20240715T063813Z
UID:10120-1726308000-1726331400@pfarrei-bnaw.de
SUMMARY:MessdienerInnen-Tag in Maria Laach am 14. September 2024
DESCRIPTION:Gemeinsam stark sein und wissen\, dass es auch noch Andere gibt\, die Ähnliches tun\, ähnlich ticken\, die auch Freude daran haben\, in ihren Gemeinden und Kirchen als Messdiener*innen aktiv zu sein. \nAm 14. September 2024 laden der Pastoraler Raum Sinzig\, der Pastoraler Raum Mayen\, der Pastoraler Raum Bad Neuenahr-Ahrweiler sowie die Fachstelle Jugend Koblenz zum Messdienertag nach Maria Laach ein. \nEs wird ein vielfältiges Programm mit verschiedenen Workshops geben. \nBeginn ist um 10:00 Uhr. Vor und nach dem Mittagessen ist Gelegenheit für verschiedene Workshops wie zum Beispiel Trommeln\, Escape-Room\, Klosterführung; Erste-Hilfe-Workshop\, Musikworkshop\, Upcycling\, Feuerwehrworkshop mit Drehleiter\, Fragen rund um den Glauben\, „Wir gegen Rassismus“\, eine Olympiade oder auch eine Klosterrallye. Zum Abschluss feiern alle zusammen einen Jugendgottesdienst. Der Tag endet gegen 16:30 Uhr. \nDie Anmeldung erfolgt online über: www.pastoraler-raumsinzig.de/pastoral-wirksam-vorort/kinder-und-jugendpastoral/messdienertag-2024 \nBei Fragen schreibt eine E-Mail an sheila.weiler@bistum-trier.de
URL:https://pfarrei-bnaw.de/event/messdienerinnen-tag-in-maria-laach-am-14-september-2024/
END:VEVENT
BEGIN:VEVENT
DTSTART;TZID=Europe/Berlin:20240914T110000
DTEND;TZID=Europe/Berlin:20240914T170000
DTSTAMP:20260423T112738
CREATED:20240815T144050Z
LAST-MODIFIED:20240830T112121Z
UID:10300-1726311600-1726333200@pfarrei-bnaw.de
SUMMARY:Walk and Talk in der Pfarrei: Neue Menschen kennenlernen und gemeinsam das Ahrtal entdecken
DESCRIPTION:Am 14. September lädt die Pfarrei Bad Neuenahr-Ahrweiler zu einem besonderen Event ein: „Walk and Talk“. \nTreffpunkt ist um 11:00 Uhr auf dem Marktplatz in Ahrweiler. „Möchten Sie neue Menschen vor Ort kennenlernen oder sind Sie gerade erst hierher gezogen und haben Lust\, das Ahrtal näher kennenzulernen? Dann sind Sie hier genau richtig!“\, erklärt Nadine Kreuser\, die dieses Format für die Pfarrei begleitet. Hintergrund sind die „Walk and Talk“-Formate in Großstädten\, die besonders nach der Corona Zeit zugenommen haben\, um Menschen zu verbinden. \nDie Idee entstand bei einer Wanderung in den Weinbergen. „Bei einem Weinstand stand ich plötzlich neben einer jungen Frau und wir kamen ins Gespräch. Ich hatte sie noch nie gesehen\, dabei wohnten wir in der gleichen Straße\, wie sich später herausstellte. “\, berichtet Kreuser. Aufgrund dieser Erfahrung und der Tatsache\, dass das aus den USA kommende Format in Großstädten Fuß fasst\, entstand die Idee auch in der Pfarrei Bad Neuenahr-Ahrweiler. \n„Walk and Talk“ bietet die perfekte Gelegenheit\, das malerische Ahrtal zu entdecken und zu genießen. Unterwegs wird es eine Erfrischungspause geben\, die für zusätzliche Energie sorgt.Der Spaziergang endet in geselliger Runde mit einer Einkehr\, bei der ein Glas Wein oder Traubensaft nicht fehlen wird. Dies ist die ideale Gelegenheit\, um den Tag gemeinsam ausklingen zu lassen und neu geknüpfte Kontakte zu vertiefen. \nDiese Veranstaltung verspricht nicht nur körperliche Aktivität\, sondern auch eine bereichernde soziale Erfahrung in der wunderschönen Umgebung des Ahrtals. Kommen Sie vorbei und genießen Sie einen Tag voller Begegnungen und Entdeckungen! \nBei Fragen oder zur Anmeldung schreiben Sie bitte eine E-Mail an: nadine.kreuser@bistum-trier.de. Spontane Teilnehmer sind ebenfalls herzlich willkommen. Für eine bessere Planung wird jedoch um vorherige Anmeldung gebeten.
URL:https://pfarrei-bnaw.de/event/walk-and-talk-in-der-pfarrei-neue-menschen-kennenlernen-und-gemeinsam-das-ahrtal-entdecken/
LOCATION:Marktschänke am Marktplatz Ahrweiler
ATTACH;FMTTYPE=image/jpeg:https://pfarrei-bnaw.de/wp-content/uploads/2024/07/2-1.jpg
END:VEVENT
BEGIN:VEVENT
DTSTART;TZID=Europe/Berlin:20240914T170000
DTEND;TZID=Europe/Berlin:20240914T203000
DTSTAMP:20260423T112738
CREATED:20240830T112041Z
LAST-MODIFIED:20240830T112041Z
UID:10406-1726333200-1726345800@pfarrei-bnaw.de
SUMMARY:Heppingen: Dinner im Pfarrgarten
DESCRIPTION:Das Dinner im Pfarrgarten findet am Samstag\, 14. September ab 17.00 Uhr statt! \nJeder bringt etwas zu Essen und zu trinken mit. Eigenes Geschirr wäre schön. Als Einstieg wird es einen kleinen Impuls geben! Das lokale Team lädt herzlich ein draußen hinter der Kirche zu sitzen und gemeinsam einen schönen Abend zu genießen.
URL:https://pfarrei-bnaw.de/event/heppingen-dinner-im-pfarrgarten/
LOCATION:St. Martin\, Heppingen
END:VEVENT
BEGIN:VEVENT
DTSTART;TZID=Europe/Berlin:20240922T110000
DTEND;TZID=Europe/Berlin:20240922T150000
DTSTAMP:20260423T112738
CREATED:20240907T114221Z
LAST-MODIFIED:20240922T095154Z
UID:10474-1727002800-1727017200@pfarrei-bnaw.de
SUMMARY:Familienwanderung mit Lotta der Weinbergschnecke
DESCRIPTION:Der Sachausschuss Familie im Pfarrbezirk Ahrweiler lädt am Sonntag\, dem 22. September nach der Familienmesse zu einer Familienwanderung ein.  Auf dem Pfad von Lotta der Weinbergschnecke erleben die Teilnehmenden die Natur. Der Ausflug ist perfekt geplant für Jung und Alt. Im Anschluss kehren die Teilnehmenden zu einem gemeinsamen Essen in die Zehntscheuer ein.
URL:https://pfarrei-bnaw.de/event/familienwanderung-mit-lotta-der-weinbergschnecke/
ATTACH;FMTTYPE=image/jpeg:https://pfarrei-bnaw.de/wp-content/uploads/2024/09/PHOTO-2024-08-29-08-18-24.jpg
END:VEVENT
BEGIN:VEVENT
DTSTART;TZID=Europe/Berlin:20240922T160000
DTEND;TZID=Europe/Berlin:20240922T180000
DTSTAMP:20260423T112738
CREATED:20240907T114323Z
LAST-MODIFIED:20240922T095216Z
UID:10476-1727020800-1727028000@pfarrei-bnaw.de
SUMMARY:„Jubilate Deo“ - Geistliche Musik in der Klosterkirche Calvarienberg
DESCRIPTION:Unter dem Titel „Jubilate Deo“ erklingt am Sonntag\, den 22. September 2024\, um 16.00 Uhr festliche Musik für Chor\, Bläser und Orgel in der Klosterkirche auf dem Calvarienberg in Ahrweiler. Mitwirkende sind der Chor der Laurentiuskirche Ahrweiler\, das Blechbläserensemble „Quartettino“ aus Emmelshausen sowie der junge Organist Markus Busch aus Mayen. Unter der Leitung von Dekanatskantor Thomas Schnorr darf sich das Publikum auf ein vielgestaltiges Programm freuen mit Werken aus alter und neuer Zeit. \nIm Zentrum steht die Missa „Jubilate Deo“ für Chor und Bläser von Wolfram Menschick\, der von 1969 bis 2002 als Domkapellmeister in Eichstätt wirkte. \nDaneben steht auch doppelchörige Musik in der Kombination Chor und Bläser bzw. Orgel und Bläser auf dem Programm. So etwa in Kompositionen von Jacobus Gallus\, Johann Pachelbel oder Johann Pezel. \nAm Ende des Konzertes ist schließlich auch das Publikum eingeladen mit einzustimmen in die Liedkantate „Nun danket alle Gott“\, die Thomas Schnorr für Chor\, Bläser\, Orgel und Gemeinde geschrieben hat. \nSeit über dreißig Jahren steht das Blechbläserensemble „Quartettino“ für die professionelle Darbietung konzertanter Bläsermusik von der Renaissance bis zur Moderne und ist regelmäßig bei Kirchenkonzerten und Gottesdiensten zu hören. \nEinen Schwerpunkt bildet dabei seit jeher auch die Kooperation mit ambitionierten Chören der gesamten Region. Nun auch erstmals mit dem Chor von St. Laurentius\, der sich freut\, nach längerer Zeit einmal wieder mit einem geistlichen Konzert in die Öffentlichkeit zu treten. \nDer Eintritt beträgt 10 Euro\, ermäßigt 8 Euro (Schüler und Studenten). Für Kinder bis 14 Jahre ist der Eintritt frei.
URL:https://pfarrei-bnaw.de/event/jubilate-deo-geistliche-musik-in-der-klosterkirche-calvarienberg/
LOCATION:Klosterkirche Calvarienberg\, Ahrweiler
ATTACH;FMTTYPE=image/jpeg:https://pfarrei-bnaw.de/wp-content/uploads/2024/09/3.jpg
END:VEVENT
BEGIN:VEVENT
DTSTART;TZID=Europe/Berlin:20240928T080000
DTEND;TZID=Europe/Berlin:20240928T180000
DTSTAMP:20260423T112738
CREATED:20240815T144200Z
LAST-MODIFIED:20240922T095134Z
UID:10302-1727510400-1727546400@pfarrei-bnaw.de
SUMMARY:Pilgern zum Hl. Jodokus nach Langenfeld
DESCRIPTION:Am Samstag\, den 28. September\, bietet sich eine besondere Gelegenheit für alle\, die gerne pilgern möchten. Um 8:00 Uhr startet die Pilgergruppe an der St. Laurentius-Kirche zur alljährlichen Pilgerung zum Hl. Jodokus nach Langenfeld. Teilnehmende bringen persönliche Anliegen mit\, die im Laufe des Tages gemeinsam im Gebet vor Gott getragen werden können. Es ist eine Chance\, innerlich zur Ruhe zu kommen und die Kraft des Glaubens auf einem gemeinschaftlichen Pilgerweg zu erleben. \nDer Pilgertag endet feierlich um 18:00 Uhr mit einem stimmungsvollen Gottesdienst in der Pfarrkirche von Langenfeld. Wer sich nach einer spirituellen Auszeit sehnt oder einfach das Pilgern einmal ausprobieren möchte\, sollte sich diesen Termin nicht entgehen lassen. Alle Interessierten sind herzlich eingeladen\, an diesem besonderen Tag teilzunehmen.
URL:https://pfarrei-bnaw.de/event/pilgern-zum-hl-jodokus-nach-langenfeld/
ATTACH;FMTTYPE=image/jpeg:https://pfarrei-bnaw.de/wp-content/uploads/2024/09/1.jpg
END:VEVENT
BEGIN:VEVENT
DTSTART;TZID=Europe/Berlin:20240929T163000
DTEND;TZID=Europe/Berlin:20240929T190000
DTSTAMP:20260423T112738
CREATED:20240922T093050Z
LAST-MODIFIED:20240922T093050Z
UID:10586-1727627400-1727636400@pfarrei-bnaw.de
SUMMARY:Kirchdaun: Wunderzeit zum Erntedank
DESCRIPTION:Segen – Dank – Wunder  \nStationengang von Kirchdaun zur Landskrone mit abschließender gemeinsamer Agapefeier für Familien und alle Interessierten am Sonntag\, 29. September ab 16:30 Uhr. \nZu einer etwas anderen gottesdienstlichen Feier laden wir herzlich ein. Beginnend in der Kirchdauner Lambertuskirche wollen wir bis zur Landskroner Kapelle gemeinsam singend\, betend\, hörend\, lachend\, entdeckend auf dem Weg sein\, um die Spuren Gottes inmitten seiner Schöpfung und in unserem Leben ausfindig zu machen. \nAußer gutem Schuhwerk\, Freude und einen Beitrag (Essen oder Trinken) zur anschließenden gemeinsamen Agape ist nichts vonnöten. Rückkehr ca. 19:00 Uhr. \nDas Vorbereitungsteam freut sich auf Sie/Euch.
URL:https://pfarrei-bnaw.de/event/kirchdaun-wunderzeit-zum-erntedank/
LOCATION:St. Lambertus\, Kirchdaun
END:VEVENT
END:VCALENDAR