BEGIN:VCALENDAR
VERSION:2.0
PRODID:-//Pfarrei Bad Neuenahr-Ahrweiler - ECPv6.15.20//NONSGML v1.0//EN
CALSCALE:GREGORIAN
METHOD:PUBLISH
X-ORIGINAL-URL:https://pfarrei-bnaw.de
X-WR-CALDESC:Veranstaltungen für Pfarrei Bad Neuenahr-Ahrweiler
REFRESH-INTERVAL;VALUE=DURATION:PT1H
X-Robots-Tag:noindex
X-PUBLISHED-TTL:PT1H
BEGIN:VTIMEZONE
TZID:Europe/Berlin
BEGIN:DAYLIGHT
TZOFFSETFROM:+0100
TZOFFSETTO:+0200
TZNAME:CEST
DTSTART:20230326T010000
END:DAYLIGHT
BEGIN:STANDARD
TZOFFSETFROM:+0200
TZOFFSETTO:+0100
TZNAME:CET
DTSTART:20231029T010000
END:STANDARD
BEGIN:DAYLIGHT
TZOFFSETFROM:+0100
TZOFFSETTO:+0200
TZNAME:CEST
DTSTART:20240331T010000
END:DAYLIGHT
BEGIN:STANDARD
TZOFFSETFROM:+0200
TZOFFSETTO:+0100
TZNAME:CET
DTSTART:20241027T010000
END:STANDARD
BEGIN:DAYLIGHT
TZOFFSETFROM:+0100
TZOFFSETTO:+0200
TZNAME:CEST
DTSTART:20250330T010000
END:DAYLIGHT
BEGIN:STANDARD
TZOFFSETFROM:+0200
TZOFFSETTO:+0100
TZNAME:CET
DTSTART:20251026T010000
END:STANDARD
END:VTIMEZONE
BEGIN:VEVENT
DTSTART;TZID=Europe/Berlin:20241103T153000
DTEND;TZID=Europe/Berlin:20241103T180000
DTSTAMP:20260423T114058
CREATED:20240922T093816Z
LAST-MODIFIED:20241108T052823Z
UID:10594-1730647800-1730656800@pfarrei-bnaw.de
SUMMARY:St. Pius: Gemeinsam-Gottesdienst
DESCRIPTION:Gemeinsam-Gottesdienst  \nDie beliebten Gemeinsam-Gottesdienste mit Begegnung auf dem Vorplatz der St. Piuskirche werden ab Oktober im evangelischen Gemeindehaus in Bad Neuenahr gefeiert. \nAm Sonntag\, dem 3. November gibt es ab 15:30 Uhr das Willkommen bei Kaffee und einem Stückchen Kuchen im evangelischen Gemeindehaus in der Wolfgang-Müller-Straße\, Bad Neuenahr. Um 16:00 Uhr beginnt der Gottesdienst. Anschließend können die Besucher noch zum Klönen und Spielen beisammenbleiben. \nDiese Begegnungsnachmittage werden jeweils am ersten Sonntag im Monat angeboten. \nWegen der Ortveränderung wird von der Vorbereitungsgruppe ein Fahrservice ab der St. Pius-Kirche angeboten. Wer diesen nutzen möchte\, kann sich bis 12:00 Uhr am Freitag vorher im Pfarrbüro melden.
URL:https://pfarrei-bnaw.de/event/st-pius-gemeinsam-gottesdienst/
LOCATION:Bad Neuenahr\, Wird noch bekannt gegeben!
END:VEVENT
BEGIN:VEVENT
DTSTART;TZID=Europe/Berlin:20241107T180000
DTEND;TZID=Europe/Berlin:20241107T200000
DTSTAMP:20260423T114058
CREATED:20241108T053040Z
LAST-MODIFIED:20241108T053040Z
UID:11039-1731002400-1731009600@pfarrei-bnaw.de
SUMMARY:Frauenstammtisch in Ahrweiler
DESCRIPTION:Am Donnerstag\, 7. November um 18:00 Uhr sind alle interessierten Frauen herzlich eingeladen\, in gemütlicher Runde zusammenzukommen. Ob allein oder mit Freundinnen – alle sind willkommen\, um bei einem guten Glas Wein und anregenden Gesprächen einen unbeschwerten und lustigen Abend zu verbringen. Treffpunkt ist der Brunnen auf dem Ahrweiler Marktplatz. \nWer Lust hat\, dabei zu sein\, kann einfach vorbeikommen und Teil dieser neuen und wachsenden Gemeinschaft werden. Die Pfarrei und die kfd St. Laurentius freuen sich auf viele bekannte und neue Gesichter! Weitere Infos: www.pfarrei-bnaw.de
URL:https://pfarrei-bnaw.de/event/frauenstammtisch-in-ahrweiler/
END:VEVENT
BEGIN:VEVENT
DTSTART;TZID=Europe/Berlin:20241107T190000
DTEND;TZID=Europe/Berlin:20241107T210000
DTSTAMP:20260423T114058
CREATED:20241014T100239Z
LAST-MODIFIED:20241014T100709Z
UID:10854-1731006000-1731013200@pfarrei-bnaw.de
SUMMARY:Glaubenskurs in der Pfarrei Bad Neuenahr-Ahrweiler
DESCRIPTION:„Alles beginnt mit einer Sehnsucht“ \nDie Pfarrei Bad Neuenahr-Ahrweiler lädt zu einem Glaubenskurs unter dem Motto „Alles beginnt mit einer Sehnsucht“ ein. Der Kurs richtet sich an Menschen\, die sich tiefer mit den Fragen des Lebens und der Spiritualität auseinandersetzen möchten. Es wird ein Raum geschaffen\, der Achtsamkeit\, Verbundenheit und tiefgehende Gespräche ermöglicht – ein Weg\, das eigene Leben und die eigene Sehnsucht neu zu verstehen. Der Kurs umfasst sieben Abende und startet am 21. Oktober 2024 im Studienhaus St. Lambert\, Grafschaft/Lantershofen\, jeweils um 19:00 Uhr. Eine Anmeldung für den ersten Abend ist bis zum 18. Oktober 2024 möglich.\nTermine: 7. November / 14. November / 19. November / 27. November / 3. Dezember \nDer Kurs beginnt jeweils mit einem gemeinsamen Abendessen und setzt dann mit Impulsen zu existenziellen Fragen wie „Was gibt meinem Leben Sinn?“\, „Wie finde ich inneren Frieden?“ und „Warum gibt es Leid?“ fort. Dabei wird Wert auf Stillezeiten\, Reflexion und Dialog gelegt. Inspirierende Musik und Poesie begleiten die Abende und bieten einen ganzheitlichen Ansatz\, um in die eigenen Lebensfragen einzutauchen. Dieser Kurs basiert auf einem offenen\, dialogischen Format\, das auf persönliche Erfahrungen und tiefgehende Reflexion setzt\, ohne dogmatische Antworten zu geben. Es lädt die Teilnehmenden ein\, ihren Lebensweg neu zu betrachten und spirituelle Schätze zu entdecken. \nDie Teilnahme ist kostenlos\, inklusive der Verpflegung. Anmeldungen für das Schnuppertreffen am 21. Oktober 2024 sind unter info@pfarrei-bnaw.de oder telefonisch unter 02641/34737 möglich. Weitere Informationen zum Glaubenskurs sowie zur Methodik der Abende finden Sie auf der Webseite der Pfarrei oder im persönlichen Gespräch. Die Pfarrei Bad Neuenahr-Ahrweiler freut sich auf inspirierende Abende voller Austausch und Reflexion. ￼
URL:https://pfarrei-bnaw.de/event/glaubenskurs-in-der-pfarrei-bad-neuenahr-ahrweiler-3/
END:VEVENT
BEGIN:VEVENT
DTSTART;TZID=Europe/Berlin:20241114T190000
DTEND;TZID=Europe/Berlin:20241114T210000
DTSTAMP:20260423T114058
CREATED:20241014T100334Z
LAST-MODIFIED:20241014T100741Z
UID:10856-1731610800-1731618000@pfarrei-bnaw.de
SUMMARY:Glaubenskurs in der Pfarrei Bad Neuenahr-Ahrweiler
DESCRIPTION:„Alles beginnt mit einer Sehnsucht“ \nDie Pfarrei Bad Neuenahr-Ahrweiler lädt zu einem Glaubenskurs unter dem Motto „Alles beginnt mit einer Sehnsucht“ ein. Der Kurs richtet sich an Menschen\, die sich tiefer mit den Fragen des Lebens und der Spiritualität auseinandersetzen möchten. Es wird ein Raum geschaffen\, der Achtsamkeit\, Verbundenheit und tiefgehende Gespräche ermöglicht – ein Weg\, das eigene Leben und die eigene Sehnsucht neu zu verstehen. Der Kurs umfasst sieben Abende und startet am 21. Oktober 2024 im Studienhaus St. Lambert\, Grafschaft/Lantershofen\, jeweils um 19:00 Uhr. Eine Anmeldung für den ersten Abend ist bis zum 18. Oktober 2024 möglich.\nTermine: 14. November / 19. November / 27. November / 3. Dezember \nDer Kurs beginnt jeweils mit einem gemeinsamen Abendessen und setzt dann mit Impulsen zu existenziellen Fragen wie „Was gibt meinem Leben Sinn?“\, „Wie finde ich inneren Frieden?“ und „Warum gibt es Leid?“ fort. Dabei wird Wert auf Stillezeiten\, Reflexion und Dialog gelegt. Inspirierende Musik und Poesie begleiten die Abende und bieten einen ganzheitlichen Ansatz\, um in die eigenen Lebensfragen einzutauchen. Dieser Kurs basiert auf einem offenen\, dialogischen Format\, das auf persönliche Erfahrungen und tiefgehende Reflexion setzt\, ohne dogmatische Antworten zu geben. Es lädt die Teilnehmenden ein\, ihren Lebensweg neu zu betrachten und spirituelle Schätze zu entdecken. \nDie Teilnahme ist kostenlos\, inklusive der Verpflegung. Anmeldungen für das Schnuppertreffen am 21. Oktober 2024 sind unter info@pfarrei-bnaw.de oder telefonisch unter 02641/34737 möglich. Weitere Informationen zum Glaubenskurs sowie zur Methodik der Abende finden Sie auf der Webseite der Pfarrei oder im persönlichen Gespräch. Die Pfarrei Bad Neuenahr-Ahrweiler freut sich auf inspirierende Abende voller Austausch und Reflexion. ￼
URL:https://pfarrei-bnaw.de/event/glaubenskurs-in-der-pfarrei-bad-neuenahr-ahrweiler-4/
END:VEVENT
BEGIN:VEVENT
DTSTART;TZID=Europe/Berlin:20241115T150000
DTEND;TZID=Europe/Berlin:20241115T170000
DTSTAMP:20260423T114058
CREATED:20241025T154110Z
LAST-MODIFIED:20241025T154110Z
UID:10953-1731682800-1731690000@pfarrei-bnaw.de
SUMMARY:kfd St. Laurentius: Meditatives Tanzen
DESCRIPTION:Herzliche Einladung an alle Frauen der Stadt\, unabhängig von der Religionszugehörigkeit\, zu einem Nachmittag mit meditativen Tänzen. \nDazu lädt die kfd St. Laurentius ein am Freitag\, den 15. November\, von 15 bis 17 Uhr in den Laurentiussaal (Eingang rechts vom Pfarrhaus). \nMeditative Tänze sind langsame\, besinnliche Kreistänze mit einfachen Schritten\, die schnell zu lernen sind. Angeleitet werden die Tänze von Eva Kaltenbach\, die eine sehr gute Ausbildung genossen hat und mit Leib und Seele für diese Art zu tanzen brennt. \nNatürlich wird es auch eine Pause für Kaffee und Gebäck geben. Der Kostenbeitrag beläuft sich auf 3 Euro. \nBitte melden Sie sich unbedingt bis Montag\, den 11.11.\, an\, entweder bei Hildegard von Ameln (02641/ 3962049) oder bei Uschi Läufer (0176 4760 8638). Das Tanzen kann nur stattfinden\, wenn sich genügend Frauen anmelden.
URL:https://pfarrei-bnaw.de/event/kfd-st-laurentius-meditatives-tanzen/
LOCATION:Pfarrheim Ahrweiler\, Laurentiussaal\, Ahrweiler\, RLP\, 53474\, Deutschland
END:VEVENT
BEGIN:VEVENT
DTSTART;TZID=Europe/Berlin:20241117T153000
DTEND;TZID=Europe/Berlin:20241117T173000
DTSTAMP:20260423T114058
CREATED:20241118T141618Z
LAST-MODIFIED:20241118T141618Z
UID:11086-1731857400-1731864600@pfarrei-bnaw.de
SUMMARY:Kids-Treff der Pfarrei Bad Neuenahr-Ahrweiler: Adventliches Treffen für Kinder von 7 bis 8 Jahren
DESCRIPTION:Die Pfarrei Bad Neuenahr-Ahrweiler lädt herzlich zum Kids-Treff für Kinder im Alter von 7 bis 8 Jahren ein. Am Freitag\, den 22. November 2024\, von 15:30 bis 17:30 Uhr treffen sich die Kinder im LAU am Marktplatz 13 in Ahrweiler\, um gemeinsam die Adventszeit einzuläuten. \nDas Treffen verspricht eine fröhliche und kreative Einstimmung auf die Weihnachtszeit. Unter dem Motto „Advent“ hat das Leitungsteam rund um Elena Platz ein spannendes Programm zusammengestellt\, das die Kinder in die festliche Stimmung eintauchen lässt und ihnen die Gelegenheit gibt\, gemeinsam mit Gleichaltrigen den Advent zu feiern. \nDie Pfarrei Bad Neuenahr-Ahrweiler bittet um eine Anmeldung bis zum 17. November 2024. Interessierte Eltern können sich bei Elena Platz unter der E-Mail-Adresse elena.platz@online.de melden. Es wird empfohlen\, frühzeitig zu reservieren\, da die Teilnehmerzahl begrenzt ist.
URL:https://pfarrei-bnaw.de/event/kids-treff-der-pfarrei-bad-neuenahr-ahrweiler-adventliches-treffen-fuer-kinder-von-7-bis-8-jahren/
LOCATION:Marktplatz 13\, 53474\, Ahrweiler\, hinter dem Pfarrhaus
ATTACH;FMTTYPE=image/jpeg:https://pfarrei-bnaw.de/wp-content/uploads/2024/11/thumbnail_Green-And-Beige-Reading-Meeting-Book-Club-Illustrative-Flyer-4.jpg
END:VEVENT
BEGIN:VEVENT
DTSTART;TZID=Europe/Berlin:20241119T190000
DTEND;TZID=Europe/Berlin:20241119T210000
DTSTAMP:20260423T114058
CREATED:20241014T100412Z
LAST-MODIFIED:20241014T100810Z
UID:10858-1732042800-1732050000@pfarrei-bnaw.de
SUMMARY:Glaubenskurs in der Pfarrei Bad Neuenahr-Ahrweiler
DESCRIPTION:„Alles beginnt mit einer Sehnsucht“ \nDie Pfarrei Bad Neuenahr-Ahrweiler lädt zu einem Glaubenskurs unter dem Motto „Alles beginnt mit einer Sehnsucht“ ein. Der Kurs richtet sich an Menschen\, die sich tiefer mit den Fragen des Lebens und der Spiritualität auseinandersetzen möchten. Es wird ein Raum geschaffen\, der Achtsamkeit\, Verbundenheit und tiefgehende Gespräche ermöglicht – ein Weg\, das eigene Leben und die eigene Sehnsucht neu zu verstehen. Der Kurs umfasst sieben Abende und startet am 21. Oktober 2024 im Studienhaus St. Lambert\, Grafschaft/Lantershofen\, jeweils um 19:00 Uhr. Eine Anmeldung für den ersten Abend ist bis zum 18. Oktober 2024 möglich.\nTermine: 19. November / 27. November / 3. Dezember \nDer Kurs beginnt jeweils mit einem gemeinsamen Abendessen und setzt dann mit Impulsen zu existenziellen Fragen wie „Was gibt meinem Leben Sinn?“\, „Wie finde ich inneren Frieden?“ und „Warum gibt es Leid?“ fort. Dabei wird Wert auf Stillezeiten\, Reflexion und Dialog gelegt. Inspirierende Musik und Poesie begleiten die Abende und bieten einen ganzheitlichen Ansatz\, um in die eigenen Lebensfragen einzutauchen. Dieser Kurs basiert auf einem offenen\, dialogischen Format\, das auf persönliche Erfahrungen und tiefgehende Reflexion setzt\, ohne dogmatische Antworten zu geben. Es lädt die Teilnehmenden ein\, ihren Lebensweg neu zu betrachten und spirituelle Schätze zu entdecken. \nDie Teilnahme ist kostenlos\, inklusive der Verpflegung. Anmeldungen für das Schnuppertreffen am 21. Oktober 2024 sind unter info@pfarrei-bnaw.de oder telefonisch unter 02641/34737 möglich. Weitere Informationen zum Glaubenskurs sowie zur Methodik der Abende finden Sie auf der Webseite der Pfarrei oder im persönlichen Gespräch. Die Pfarrei Bad Neuenahr-Ahrweiler freut sich auf inspirierende Abende voller Austausch und Reflexion. ￼
URL:https://pfarrei-bnaw.de/event/glaubenskurs-in-der-pfarrei-bad-neuenahr-ahrweiler-5/
END:VEVENT
BEGIN:VEVENT
DTSTART;TZID=Europe/Berlin:20241120T190000
DTEND;TZID=Europe/Berlin:20241120T210000
DTSTAMP:20260423T114058
CREATED:20241118T141936Z
LAST-MODIFIED:20241118T141936Z
UID:11092-1732129200-1732136400@pfarrei-bnaw.de
SUMMARY:Buß- und Bettag
DESCRIPTION:Am Buß- und Bettag\, 20. November lädt die evangelische Kirche um 19:00 Uhr in die Friedenskirche Ahrweiler (Burgunderstraße) ein. Dieser Gottesdienst wird mitgestaltet von der ev. Kantorei\, die Motetten & Liedsätze von Heinrich Kaminski\, Giovanni Pierluigi da Palestrina\, Will Todd u. a. singt.
URL:https://pfarrei-bnaw.de/event/buss-und-bettag/
END:VEVENT
BEGIN:VEVENT
DTSTART;TZID=Europe/Berlin:20241121T093000
DTEND;TZID=Europe/Berlin:20241121T110000
DTSTAMP:20260423T114058
CREATED:20241118T142154Z
LAST-MODIFIED:20241118T142154Z
UID:11094-1732181400-1732186800@pfarrei-bnaw.de
SUMMARY:!Mach mit! We AHR Family 
DESCRIPTION:Am Donnerstag\, den 21. November findet von 09:30 bis 11:00 Uhr wieder der Treffpunkt für Schwangere\, Mütter\, Väter und Großeltern aus dem Ahrtal mit Kindern bis zum vierten Lebensjahr statt. Angeboten wird ein Raum für Austausch\, Vernetzung\, gemeinsame Aktionen\, Informationen\, Spiel und Spaß.  Eine Anmeldung ist nicht erforderlich. Adresse: Marktplatz 13\, Eingang der Bücherei (rechts vom Pfarrbüro) dann in der ersten Etage. Caritasverband Rhein-Mosel-Ahr e.V. in Ahrweiler; Tel. 02641-75 98 60 / familiy@caritas-rma.de
URL:https://pfarrei-bnaw.de/event/mach-mit-we-ahr-family-3/
LOCATION:Marktplatz 13\, 53474\, Ahrweiler\, hinter dem Pfarrhaus
END:VEVENT
BEGIN:VEVENT
DTSTART;TZID=Europe/Berlin:20241122T190000
DTEND;TZID=Europe/Berlin:20241122T210000
DTSTAMP:20260423T114058
CREATED:20241118T142239Z
LAST-MODIFIED:20241118T142625Z
UID:11096-1732302000-1732309200@pfarrei-bnaw.de
SUMMARY:Zuversicht -  Die Kraft\, die an das Morgen glaubt
DESCRIPTION:Die Telefonseelsorge Bad Neunahr-Ahrweiler e.V. lädt herzlich ein zu einem inspirierenden Vortrag mit der Spiegel-Bestsellerautorin und Podcasterin Melanie Wolfers\, die in ihren Büchern und in ihrem Podcast wichtige Frage stellt. Es gelingt ihr durch bewegende Geschichten und praktische Tipps ihre Leser und Zuhörer zu ermutigen und das Vertrauen in die eigene Gestaltungskraft und damit in eine positive Zukunft zu stärken. \nVortrag und Gespräch am Freitag 22. November um 19:00 Uhr im Augustinum in Bad Neuenahr. \nDer Eintritt ist frei.
URL:https://pfarrei-bnaw.de/event/zuversicht-die-kraft-die-an-das-morgen-glaubt/
END:VEVENT
BEGIN:VEVENT
DTSTART;TZID=Europe/Berlin:20241123T110000
DTEND;TZID=Europe/Berlin:20241123T170000
DTSTAMP:20260423T114058
CREATED:20240922T094922Z
LAST-MODIFIED:20240922T094922Z
UID:10610-1732359600-1732381200@pfarrei-bnaw.de
SUMMARY:Walk and talk - Plauderwandern
DESCRIPTION:Die Veranstaltung ist ideal für alle\, die: \n\nAndere Menschen kennenlernen oder einfach in Gesellschaft sein möchten\nInteresse an inspirierenden Gesprächen und dem Austausch von Lebenserfahrungen haben\nDas Ahrtal entdecken und genießen möchten\n\nWir enden mit einer Einkehr in geselliger Runde bei einem Glas Wein/Traubensaft\nBequeme Schuhe und wetterangepasste Kleidung bitte mitbringen. Für eine Erfrischung unterwegs wird gesorgt. \nDie nächsten „Walk and Talk“ – Termine sind geplant am 13. Oktober und am 23. November\, letzterer als „Glühwein-Walk and Talk“. Start ist jeweils um 11:00 Uhr auf dem Ahrweiler Marktplatz. Es bietet sich eine wunderbare Gelegenheit\, neue Menschen kennenzulernen\, gemeinsam die Natur zu entdecken und interessante Gespräche zu führen. \nAlle Interessierten sind herzlich willkommen!\nKontakt und weitere Informationen:\nnadine.kreuser@bistum-trier.de
URL:https://pfarrei-bnaw.de/event/walk-and-talk-plauderwandern/
LOCATION:Marktplatz 13\, 53474\, Ahrweiler\, hinter dem Pfarrhaus
ATTACH;FMTTYPE=image/jpeg:https://pfarrei-bnaw.de/wp-content/uploads/2024/09/60cdd1d3-3267-4bd6-bce7-6cbb8a5ea16e.jpg
END:VEVENT
BEGIN:VEVENT
DTSTART;VALUE=DATE:20241124
DTEND;VALUE=DATE:20241125
DTSTAMP:20260423T114058
CREATED:20241118T143052Z
LAST-MODIFIED:20241118T143052Z
UID:11100-1732406400-1732492799@pfarrei-bnaw.de
SUMMARY:Verkauf von Schoko-Nikoläusen (keine Weihnachtsmänner!!)
DESCRIPTION:Die Messdiener unserer Pfarrei bieten wieder Schoko-Nikoläuse zum Kauf an. \nBereits am Christkönig-Sonntag\, 24. November nach der Heiligen Messe in der Klosterkirche Calvarienberg. \nUnd am Wochenende des ersten Adventes \nin Bachem nach der Vorabendmesse\, am 30. November in der St. Anna-Kapelle \nin Bad Neuenahr nach der Heiligen Messe am 1. Dezember in der Rosenkranzkirche \nin Ramersbach am Barbarafest am ersten Advent.
URL:https://pfarrei-bnaw.de/event/verkauf-von-schoko-nikolaeusen-keine-weihnachtsmaenner/
LOCATION:Klosterkirche Calvarienberg\, Ahrweiler
END:VEVENT
BEGIN:VEVENT
DTSTART;TZID=Europe/Berlin:20241127T190000
DTEND;TZID=Europe/Berlin:20241127T210000
DTSTAMP:20260423T114058
CREATED:20241014T100452Z
LAST-MODIFIED:20241014T100831Z
UID:10860-1732734000-1732741200@pfarrei-bnaw.de
SUMMARY:Glaubenskurs in der Pfarrei Bad Neuenahr-Ahrweiler
DESCRIPTION:„Alles beginnt mit einer Sehnsucht“ \nDie Pfarrei Bad Neuenahr-Ahrweiler lädt zu einem Glaubenskurs unter dem Motto „Alles beginnt mit einer Sehnsucht“ ein. Der Kurs richtet sich an Menschen\, die sich tiefer mit den Fragen des Lebens und der Spiritualität auseinandersetzen möchten. Es wird ein Raum geschaffen\, der Achtsamkeit\, Verbundenheit und tiefgehende Gespräche ermöglicht – ein Weg\, das eigene Leben und die eigene Sehnsucht neu zu verstehen. Der Kurs umfasst sieben Abende und startet am 21. Oktober 2024 im Studienhaus St. Lambert\, Grafschaft/Lantershofen\, jeweils um 19:00 Uhr. Eine Anmeldung für den ersten Abend ist bis zum 18. Oktober 2024 möglich.\nTermine: 27. November / 3. Dezember \nDer Kurs beginnt jeweils mit einem gemeinsamen Abendessen und setzt dann mit Impulsen zu existenziellen Fragen wie „Was gibt meinem Leben Sinn?“\, „Wie finde ich inneren Frieden?“ und „Warum gibt es Leid?“ fort. Dabei wird Wert auf Stillezeiten\, Reflexion und Dialog gelegt. Inspirierende Musik und Poesie begleiten die Abende und bieten einen ganzheitlichen Ansatz\, um in die eigenen Lebensfragen einzutauchen. Dieser Kurs basiert auf einem offenen\, dialogischen Format\, das auf persönliche Erfahrungen und tiefgehende Reflexion setzt\, ohne dogmatische Antworten zu geben. Es lädt die Teilnehmenden ein\, ihren Lebensweg neu zu betrachten und spirituelle Schätze zu entdecken. \nDie Teilnahme ist kostenlos\, inklusive der Verpflegung. Anmeldungen für das Schnuppertreffen am 21. Oktober 2024 sind unter info@pfarrei-bnaw.de oder telefonisch unter 02641/34737 möglich. Weitere Informationen zum Glaubenskurs sowie zur Methodik der Abende finden Sie auf der Webseite der Pfarrei oder im persönlichen Gespräch. Die Pfarrei Bad Neuenahr-Ahrweiler freut sich auf inspirierende Abende voller Austausch und Reflexion. ￼
URL:https://pfarrei-bnaw.de/event/glaubenskurs-in-der-pfarrei-bad-neuenahr-ahrweiler-6/
END:VEVENT
BEGIN:VEVENT
DTSTART;VALUE=DATE:20241130
DTEND;VALUE=DATE:20241202
DTSTAMP:20260423T114058
CREATED:20241118T143153Z
LAST-MODIFIED:20241118T143153Z
UID:11102-1732924800-1733097599@pfarrei-bnaw.de
SUMMARY:Barbarafest in Ramersbach
DESCRIPTION:Zu Ehren der Schutzpatronin feiert der Pfarrbezirk Ramersbach am 30.11. und am 01.12.2024 das Barbarafest. \nZur Eröffnung findet am Samstag\, um 18.00 Uhr ein Taizé-Gebet in der Kirche statt. Am Sonntag beginnen die Feierlichkeiten um 09:30 Uhr mit einem Hochamt. \nIm Anschluss lädt der Freundeskreis ins Bürgerhaus\, wo das Barbarfest bei Mittagessen und anschließendem Kaffee und Kuchen fortgesetzt wird. \nAuch für Kinder wird ein Programm mit verschiedenen Aktivitäten angeboten. \nSo wird es neben einer Bastelecke auch wieder das traditionelle Eselreiten geben und darüber hinaus wird es Führungen in der St. Barbara-Kirche geben.
URL:https://pfarrei-bnaw.de/event/barbarafest-in-ramersbach-2/
END:VEVENT
BEGIN:VEVENT
DTSTART;TZID=Europe/Berlin:20241130T093000
DTEND;TZID=Europe/Berlin:20241130T113000
DTSTAMP:20260423T114058
CREATED:20241118T142913Z
LAST-MODIFIED:20241118T142913Z
UID:11098-1732959000-1732966200@pfarrei-bnaw.de
SUMMARY:Frauenfrühstück in Heppingen
DESCRIPTION:Am Samstag\, dem 30. November von 09:30 bis 11:30 Uhr ist wieder ein „Frauenfrühstück“ im Pfarrsaal Heppingen geplant. Ganz herzliche Einladung an alle Frauen\, die Zeit und Lust haben\, sich auf diese Weise auszutauschen! Wir bitten\, zwecks Planung\, um Anmeldung bis zum Mittwoch vorher (27.11.) entweder unter der Nr. 0162 6460 230 oder unter 02641 21752 oder bei Ria Lindner oder Bea Danko.
URL:https://pfarrei-bnaw.de/event/frauenfruehstueck-in-heppingen-2/
LOCATION:Pfarrsaal Heppingen
END:VEVENT
END:VCALENDAR