BEGIN:VCALENDAR
VERSION:2.0
PRODID:-//Pfarrei Bad Neuenahr-Ahrweiler - ECPv6.15.20//NONSGML v1.0//EN
CALSCALE:GREGORIAN
METHOD:PUBLISH
X-ORIGINAL-URL:https://pfarrei-bnaw.de
X-WR-CALDESC:Veranstaltungen für Pfarrei Bad Neuenahr-Ahrweiler
REFRESH-INTERVAL;VALUE=DURATION:PT1H
X-Robots-Tag:noindex
X-PUBLISHED-TTL:PT1H
BEGIN:VTIMEZONE
TZID:Europe/Berlin
BEGIN:DAYLIGHT
TZOFFSETFROM:+0100
TZOFFSETTO:+0200
TZNAME:CEST
DTSTART:20230326T010000
END:DAYLIGHT
BEGIN:STANDARD
TZOFFSETFROM:+0200
TZOFFSETTO:+0100
TZNAME:CET
DTSTART:20231029T010000
END:STANDARD
BEGIN:DAYLIGHT
TZOFFSETFROM:+0100
TZOFFSETTO:+0200
TZNAME:CEST
DTSTART:20240331T010000
END:DAYLIGHT
BEGIN:STANDARD
TZOFFSETFROM:+0200
TZOFFSETTO:+0100
TZNAME:CET
DTSTART:20241027T010000
END:STANDARD
BEGIN:DAYLIGHT
TZOFFSETFROM:+0100
TZOFFSETTO:+0200
TZNAME:CEST
DTSTART:20250330T010000
END:DAYLIGHT
BEGIN:STANDARD
TZOFFSETFROM:+0200
TZOFFSETTO:+0100
TZNAME:CET
DTSTART:20251026T010000
END:STANDARD
END:VTIMEZONE
BEGIN:VEVENT
DTSTART;VALUE=DATE:20241130
DTEND;VALUE=DATE:20241202
DTSTAMP:20260423T132905
CREATED:20241118T143153Z
LAST-MODIFIED:20241118T143153Z
UID:11102-1732924800-1733097599@pfarrei-bnaw.de
SUMMARY:Barbarafest in Ramersbach
DESCRIPTION:Zu Ehren der Schutzpatronin feiert der Pfarrbezirk Ramersbach am 30.11. und am 01.12.2024 das Barbarafest. \nZur Eröffnung findet am Samstag\, um 18.00 Uhr ein Taizé-Gebet in der Kirche statt. Am Sonntag beginnen die Feierlichkeiten um 09:30 Uhr mit einem Hochamt. \nIm Anschluss lädt der Freundeskreis ins Bürgerhaus\, wo das Barbarfest bei Mittagessen und anschließendem Kaffee und Kuchen fortgesetzt wird. \nAuch für Kinder wird ein Programm mit verschiedenen Aktivitäten angeboten. \nSo wird es neben einer Bastelecke auch wieder das traditionelle Eselreiten geben und darüber hinaus wird es Führungen in der St. Barbara-Kirche geben.
URL:https://pfarrei-bnaw.de/event/barbarafest-in-ramersbach-2/
END:VEVENT
BEGIN:VEVENT
DTSTART;TZID=Europe/Berlin:20241201T160000
DTEND;TZID=Europe/Berlin:20241201T200000
DTSTAMP:20260423T132905
CREATED:20241118T143734Z
LAST-MODIFIED:20241118T143811Z
UID:11106-1733068800-1733083200@pfarrei-bnaw.de
SUMMARY:Adventslesung mit Luzia Kaul in der Zehntscheuer
DESCRIPTION:„SILBERMOND UND PLATINSTERNE“ \nWer sich einen Abend bei Kerzenschein mit einer stimmungsvollen Weihnachtsgeschichte wünscht und in den kurzen Lesepausen seine Gedanken zu live gespielten Musikstücken auf Reisen schicken möchte\, hat dazu auch in diesem Jahr wieder am Sonntag\, dem 01. Dezember 2024 um 16:00 Uhr in den Räumlichkeiten der Zehntscheuer Ahrweiler Gelegenheit. \nAn diesem Nachmittag liest die in Spessart/Hannebach lebende Autorin Luzia Kaul ihre sechzehnte Weihnachtsgeschichte „SILBERMOND UND PLATINSTERNE“. Es ist wieder eine ebenso spannende wie idyllische Geschichte\, in der Hermann\, sein Freundeskreis und Annas Familie im Mittelpunkt stehen. In dieser Episode ahnt niemand\, was Hermann im Laufe des Jahres heimlich auf die Beine gestellt hat. Kurz vor Weihnachten zieht er seine Großnichte Lea ins Vertrauen\, denn jetzt braucht er eine Verbündete. Am Weihnachtsabend überrascht er schließlich seine Schwester Anna und die gemeinsamen Freunde mit einem Paukenschlag\, der mehr als nur ein Problem löst. \nDie wundervollen Adventsgeschichten von Luzia Kaul sind ein ganz besonderer Weihnachtsgruß für all jene Menschen\, die uns besonders am Herzen liegen. Wenn wir unseren Liebsten eine kleine Auszeit vom Alltag schenken möchten\, können wir ihnen einen lieben Gruß in das Büchlein schreiben und es mit dem beiliegenden Umschlag einfach per Post verschicken. Mit dieser außergewöhnlichen Adventsgeschichte verschenkt man eine ideale „Zutat“ für einen gemütlichen Abend am Kamin. Eine Geschichte\, die zudem einige Anregungen mit im Gepäck hat. \nMusikalisch umrahmt wird die Lesung von der Sängerin und Gitarristin Annabelle Thiesen mit einem auf das Buch hin abgestimmten Programm. Der Eintritt ist frei\, über eine Spende freut sich das Team der Pfarrbücherei St. Laurentius in Ahrweiler\, das sich wie immer liebevoll um seine Gäste kümmern wird. \nBezugsquellen für SILBERMOND UND PLATINSTERNE und alle bisher erschienenen Weihnachtsgeschichten von Luzia Kaul finden Interessierte unter www.luziakaul.de.
URL:https://pfarrei-bnaw.de/event/adventslesung-mit-luzia-kaul-in-der-zehntscheuer/
END:VEVENT
BEGIN:VEVENT
DTSTART;TZID=Europe/Berlin:20241203T190000
DTEND;TZID=Europe/Berlin:20241203T210000
DTSTAMP:20260423T132905
CREATED:20241014T100618Z
LAST-MODIFIED:20241014T100856Z
UID:10863-1733252400-1733259600@pfarrei-bnaw.de
SUMMARY:Glaubenskurs in der Pfarrei Bad Neuenahr-Ahrweiler
DESCRIPTION:„Alles beginnt mit einer Sehnsucht“ \nDie Pfarrei Bad Neuenahr-Ahrweiler lädt zu einem Glaubenskurs unter dem Motto „Alles beginnt mit einer Sehnsucht“ ein. Der Kurs richtet sich an Menschen\, die sich tiefer mit den Fragen des Lebens und der Spiritualität auseinandersetzen möchten. Es wird ein Raum geschaffen\, der Achtsamkeit\, Verbundenheit und tiefgehende Gespräche ermöglicht – ein Weg\, das eigene Leben und die eigene Sehnsucht neu zu verstehen. Der Kurs umfasst sieben Abende und startet am 21. Oktober 2024 im Studienhaus St. Lambert\, Grafschaft/Lantershofen\, jeweils um 19:00 Uhr. Eine Anmeldung für den ersten Abend ist bis zum 18. Oktober 2024 möglich.\nTermine: 3. Dezember \nDer Kurs beginnt jeweils mit einem gemeinsamen Abendessen und setzt dann mit Impulsen zu existenziellen Fragen wie „Was gibt meinem Leben Sinn?“\, „Wie finde ich inneren Frieden?“ und „Warum gibt es Leid?“ fort. Dabei wird Wert auf Stillezeiten\, Reflexion und Dialog gelegt. Inspirierende Musik und Poesie begleiten die Abende und bieten einen ganzheitlichen Ansatz\, um in die eigenen Lebensfragen einzutauchen. Dieser Kurs basiert auf einem offenen\, dialogischen Format\, das auf persönliche Erfahrungen und tiefgehende Reflexion setzt\, ohne dogmatische Antworten zu geben. Es lädt die Teilnehmenden ein\, ihren Lebensweg neu zu betrachten und spirituelle Schätze zu entdecken. \nDie Teilnahme ist kostenlos\, inklusive der Verpflegung. Anmeldungen für das Schnuppertreffen am 21. Oktober 2024 sind unter info@pfarrei-bnaw.de oder telefonisch unter 02641/34737 möglich. Weitere Informationen zum Glaubenskurs sowie zur Methodik der Abende finden Sie auf der Webseite der Pfarrei oder im persönlichen Gespräch. Die Pfarrei Bad Neuenahr-Ahrweiler freut sich auf inspirierende Abende voller Austausch und Reflexion. ￼
URL:https://pfarrei-bnaw.de/event/glaubenskurs-in-der-pfarrei-bad-neuenahr-ahrweiler-7/
END:VEVENT
BEGIN:VEVENT
DTSTART;VALUE=DATE:20241207
DTEND;VALUE=DATE:20241215
DTSTAMP:20260423T132905
CREATED:20240815T144438Z
LAST-MODIFIED:20240815T144438Z
UID:10309-1733529600-1734220799@pfarrei-bnaw.de
SUMMARY:Exerzitien im Advent
DESCRIPTION:Im Advent 2024 bietet Pfr. J. Meyrer zusammen mit Schwester Dorothea Thomalla wieder Exerzitien im Kloster Heiligenbronn im Schwarzwald an: \nSamstag\, 7.12. (Abendessen)  – Samstag\, 14.12. (Frühstück). \nDurchgängiges Schweigen\, gemeinsame Gebetszeiten und Gottesdienste\, Wahrnehmen des eigenen Körpers und tägliche Einzelgespräche gehören zum Programm. \nExerzitien wollen helfen\, den eigenen Glauben zu vertiefen\, und eine persönliche Beziehung zu Gott/Jesus aufzubauen. \nWeitere Infos bei Pfr. Jörg Meyrer oder www.kloster-heiligenbronn.de/jahresprogramm/
URL:https://pfarrei-bnaw.de/event/exerzitien-im-advent/
END:VEVENT
BEGIN:VEVENT
DTSTART;VALUE=DATE:20241207
DTEND;VALUE=DATE:20241209
DTSTAMP:20260423T132905
CREATED:20241118T144301Z
LAST-MODIFIED:20241118T144301Z
UID:11111-1733529600-1733702399@pfarrei-bnaw.de
SUMMARY:Bücherei und Mondo Amiki laden ein
DESCRIPTION:Am 2. Advent laden die Bücherei und Mondo Amiki in die Zehntscheuer ein. Neben einem großen Bücherflohmarkt gibt es Kaffee\, Kakao und frisch gebackene Waffeln sowie einen kleinen Verkaufsstand. Die Zehntscheuer ist am Samstag von 11.00 Uhr bis 17.00 Uhr geöffnet\, am Sonntag von 12.00 Uhr bis 17.00 Uhr. Der Erlös ist für die Bücherei und die Projektarbeit von Mondo Amiki bestimmt. Herzliche Einladung!
URL:https://pfarrei-bnaw.de/event/buecherei-und-mondo-amiki-laden-ein/
END:VEVENT
BEGIN:VEVENT
DTSTART;TZID=Europe/Berlin:20241213T153000
DTEND;TZID=Europe/Berlin:20241213T180000
DTSTAMP:20260423T132905
CREATED:20241212T180327Z
LAST-MODIFIED:20241212T180327Z
UID:11240-1734103800-1734112800@pfarrei-bnaw.de
SUMMARY:Ahrweiler: Aktionstag rund um Lau
DESCRIPTION:🎉 St. Laurentius 🎉\n📅 Freitag\, 13. Dezember\n⏰ 15:30 – 18:00 Uhr\n📍 Jugendräume St. Laurentius \nAlle Kinder ab 6 Jahren sind herzlich eingeladen! Wir spielen\, basteln und haben jede Menge Spaß. Kommt vorbei und verbringt einen tollen Nachmittag mit uns!
URL:https://pfarrei-bnaw.de/event/ahrweiler-aktionstag-rund-um-lau/
LOCATION:Pfarrheim Ahrweiler\, Laurentiussaal\, Ahrweiler\, RLP\, 53474\, Deutschland
ATTACH;FMTTYPE=image/jpeg:https://pfarrei-bnaw.de/wp-content/uploads/2024/12/WhatsApp-Image-2024-12-12-at-18.06.34.jpeg
END:VEVENT
BEGIN:VEVENT
DTSTART;TZID=Europe/Berlin:20241220T190000
DTEND;TZID=Europe/Berlin:20241220T210000
DTSTAMP:20260423T132905
CREATED:20241118T141837Z
LAST-MODIFIED:20241118T141837Z
UID:11088-1734721200-1734728400@pfarrei-bnaw.de
SUMMARY:Ökumenisches Friedensgebet: Erzähl mir vom Frieden
DESCRIPTION:Leider ist im letzten Pfarrblatt ein falscher Termin genannt worden. \nHerzliche Einladung zum ökumenischen Friedensgebet am Freitag\, den 20. Dezember um 19.00 Uhr in der St. Anna-Kapelle in Bachem. Das Vorbereitungsteam hofft\, dass dann auch das Friedenslicht von Bethlehem da sein wird.
URL:https://pfarrei-bnaw.de/event/oekumenisches-friedensgebet-erzaehl-mir-vom-frieden/
LOCATION:St. Anna\, Bachem
END:VEVENT
END:VCALENDAR