BEGIN:VCALENDAR
VERSION:2.0
PRODID:-//Pfarrei Bad Neuenahr-Ahrweiler - ECPv6.15.20//NONSGML v1.0//EN
CALSCALE:GREGORIAN
METHOD:PUBLISH
X-WR-CALNAME:Pfarrei Bad Neuenahr-Ahrweiler
X-ORIGINAL-URL:https://pfarrei-bnaw.de
X-WR-CALDESC:Veranstaltungen für Pfarrei Bad Neuenahr-Ahrweiler
REFRESH-INTERVAL;VALUE=DURATION:PT1H
X-Robots-Tag:noindex
X-PUBLISHED-TTL:PT1H
BEGIN:VTIMEZONE
TZID:Europe/Berlin
BEGIN:DAYLIGHT
TZOFFSETFROM:+0100
TZOFFSETTO:+0200
TZNAME:CEST
DTSTART:20240331T010000
END:DAYLIGHT
BEGIN:STANDARD
TZOFFSETFROM:+0200
TZOFFSETTO:+0100
TZNAME:CET
DTSTART:20241027T010000
END:STANDARD
BEGIN:DAYLIGHT
TZOFFSETFROM:+0100
TZOFFSETTO:+0200
TZNAME:CEST
DTSTART:20250330T010000
END:DAYLIGHT
BEGIN:STANDARD
TZOFFSETFROM:+0200
TZOFFSETTO:+0100
TZNAME:CET
DTSTART:20251026T010000
END:STANDARD
BEGIN:DAYLIGHT
TZOFFSETFROM:+0100
TZOFFSETTO:+0200
TZNAME:CEST
DTSTART:20260329T010000
END:DAYLIGHT
BEGIN:STANDARD
TZOFFSETFROM:+0200
TZOFFSETTO:+0100
TZNAME:CET
DTSTART:20261025T010000
END:STANDARD
END:VTIMEZONE
BEGIN:VEVENT
DTSTART;VALUE=DATE:20250104
DTEND;VALUE=DATE:20250106
DTSTAMP:20260423T151617
CREATED:20241211T214057Z
LAST-MODIFIED:20241211T215212Z
UID:11189-1735948800-1736121599@pfarrei-bnaw.de
SUMMARY:Ramersbach: Sternsinger Aktion 2025
DESCRIPTION:Herzliche Einladung zur Sternsinger-Aktion 2025 \nInsbesondere die Kinder und Jugendlichen\, ganz besonders die Kommunionkinder unserer Pfarrei möchten wir zur Sternsinger-Aktion 2025 einladen. \nDamit Sie und Ihr schonmal wisst\, wann in welchen Bezirken die SternsingerInnen unterwegs sein werden\, nachfolgend die Übersicht. \n  \nWo kann ich mich anmelden? \nPfarrgebiet St. Laurentius & St. Pius: Silke Iltis (sum.iltis@web.de) / Carina Stephani (Carina.Knieps@gmx.de) / Susanne Ackermann-Rick (susanneackermann@web.de) \n\nBeginn mit der Aussendung am Sa.\, 11.01. um 09:30 Uhr vor St. Laurentius\n\nHeimersheim / Ehlingen / Lohrsdorf: Daniela Dreßen-Löhr (D-Loehr-Daniela@web.de) / Petra Montebello (petra.montebello@web.de) \n\nBeginn mit der Aussendung am Sa.\, 04.01. um 17:00 Uhr in St. Mauritius\n\nRamersbach: Lea Keuler (lea.keuler.96@gmail.com) \n\nBeginn mit der Aussendung am Sa.\, 04.01. um 11:00 Uhr in St. Barbara\n\nWalporzheim: Natascha Gies (NG@elektro-witsch.de) / Claudia Bergmann (juengling-bergmann@freenet.de) \n\nBeginn mit der Aussendung am Sa.\, 11.01. um 09:30 Uhr in der Kapelle St. Josef\n\nKirchdaun: Sandra Bendel (steff.bendel@gmx.de) / Daniela Linden (d.linden@Kirchdauner.de) \n\nBeginn mit der Aussendung am So.\, 05.01. nach der Hl. Messe um 09:30 Uhr in St. Lambertus\n\nGimmigen: Sandra Wejda (Sandra.wejda@gmx.de) / Julia Jünger (Julia_hansonis@web.de) \n\nSamstag\, 11.01. und Sonntag\, 12.01.
URL:https://pfarrei-bnaw.de/event/ramersbach-sternsinger-aktion-2025/
LOCATION:St. Barbara\, Ramersbach
ATTACH;FMTTYPE=image/jpeg:https://pfarrei-bnaw.de/wp-content/uploads/2023/12/Sternsinger--scaled.jpg
END:VEVENT
BEGIN:VEVENT
DTSTART;VALUE=DATE:20250104
DTEND;VALUE=DATE:20250106
DTSTAMP:20260423T151617
CREATED:20241211T214549Z
LAST-MODIFIED:20241211T215544Z
UID:11196-1735948800-1736121599@pfarrei-bnaw.de
SUMMARY:Heimersheim/Ehlingen/Lohrsdorf: Sternsinger-Aktion 2025
DESCRIPTION:Herzliche Einladung zur Sternsinger-Aktion 2025 \nInsbesondere die Kinder und Jugendlichen\, ganz besonders die Kommunionkinder unserer Pfarrei möchten wir zur Sternsinger-Aktion 2025 einladen. \nDamit Sie und Ihr schonmal wisst\, wann in welchen Bezirken die SternsingerInnen unterwegs sein werden\, nachfolgend die Übersicht. \n  \nWo kann ich mich anmelden? \nPfarrgebiet St. Laurentius & St. Pius: Silke Iltis (sum.iltis@web.de) / Carina Stephani (Carina.Knieps@gmx.de) / Susanne Ackermann-Rick (susanneackermann@web.de) \n\nBeginn mit der Aussendung am Sa.\, 11.01. um 09:30 Uhr vor St. Laurentius\n\nHeimersheim / Ehlingen / Lohrsdorf: Daniela Dreßen-Löhr (D-Loehr-Daniela@web.de) / Petra Montebello (petra.montebello@web.de) \n\nBeginn mit der Aussendung am Sa.\, 04.01. um 17:00 Uhr in St. Mauritius\n\nRamersbach: Lea Keuler (lea.keuler.96@gmail.com) \n\nBeginn mit der Aussendung am Sa.\, 04.01. um 11:00 Uhr in St. Barbara\n\nWalporzheim: Natascha Gies (NG@elektro-witsch.de) / Claudia Bergmann (juengling-bergmann@freenet.de) \n\nBeginn mit der Aussendung am Sa.\, 11.01. um 09:30 Uhr in der Kapelle St. Josef\n\nKirchdaun: Sandra Bendel (steff.bendel@gmx.de) / Daniela Linden (d.linden@Kirchdauner.de) \n\nBeginn mit der Aussendung am So.\, 05.01. nach der Hl. Messe um 09:30 Uhr in St. Lambertus\n\nGimmigen: Sandra Wejda (Sandra.wejda@gmx.de) / Julia Jünger (Julia_hansonis@web.de) \n\nSamstag\, 11.01. und Sonntag\, 12.01.
URL:https://pfarrei-bnaw.de/event/heimersheim-ehlingen-lohrsdorf-sternsinger-aktion-2025/
LOCATION:Heimersheim\, wird noch bekanntgegeben!
ATTACH;FMTTYPE=image/jpeg:https://pfarrei-bnaw.de/wp-content/uploads/2023/12/Sternsinger--scaled.jpg
END:VEVENT
BEGIN:VEVENT
DTSTART;VALUE=DATE:20250105
DTEND;VALUE=DATE:20250106
DTSTAMP:20260423T151617
CREATED:20241211T214712Z
LAST-MODIFIED:20241211T215231Z
UID:11198-1736035200-1736121599@pfarrei-bnaw.de
SUMMARY:Kirchdaun: Sternsinger-Aktion 2025
DESCRIPTION:Herzliche Einladung zur Sternsinger-Aktion 2025 \nInsbesondere die Kinder und Jugendlichen\, ganz besonders die Kommunionkinder unserer Pfarrei möchten wir zur Sternsinger-Aktion 2025 einladen. \nDamit Sie und Ihr schonmal wisst\, wann in welchen Bezirken die SternsingerInnen unterwegs sein werden\, nachfolgend die Übersicht. \n  \nWo kann ich mich anmelden? \nPfarrgebiet St. Laurentius & St. Pius: Silke Iltis (sum.iltis@web.de) / Carina Stephani (Carina.Knieps@gmx.de) / Susanne Ackermann-Rick (susanneackermann@web.de) \n\nBeginn mit der Aussendung am Sa.\, 11.01. um 09:30 Uhr vor St. Laurentius\n\nHeimersheim / Ehlingen / Lohrsdorf: Daniela Dreßen-Löhr (D-Loehr-Daniela@web.de) / Petra Montebello (petra.montebello@web.de) \n\nBeginn mit der Aussendung am Sa.\, 04.01. um 17:00 Uhr in St. Mauritius\n\nRamersbach: Lea Keuler (lea.keuler.96@gmail.com) \n\nBeginn mit der Aussendung am Sa.\, 04.01. um 11:00 Uhr in St. Barbara\n\nWalporzheim: Natascha Gies (NG@elektro-witsch.de) / Claudia Bergmann (juengling-bergmann@freenet.de) \n\nBeginn mit der Aussendung am Sa.\, 11.01. um 09:30 Uhr in der Kapelle St. Josef\n\nKirchdaun: Sandra Bendel (steff.bendel@gmx.de) / Daniela Linden (d.linden@Kirchdauner.de) \n\nBeginn mit der Aussendung am So.\, 05.01. nach der Hl. Messe um 09:30 Uhr in St. Lambertus\n\nGimmigen: Sandra Wejda (Sandra.wejda@gmx.de) / Julia Jünger (Julia_hansonis@web.de) \n\nSamstag\, 11.01. und Sonntag\, 12.01.
URL:https://pfarrei-bnaw.de/event/kirchdaun-sternsinger-aktion-2025/
LOCATION:St. Lambertus\, Kirchdaun
ATTACH;FMTTYPE=image/jpeg:https://pfarrei-bnaw.de/wp-content/uploads/2023/12/Sternsinger--scaled.jpg
END:VEVENT
BEGIN:VEVENT
DTSTART;VALUE=DATE:20250111
DTEND;VALUE=DATE:20250113
DTSTAMP:20260423T151617
CREATED:20241211T214923Z
LAST-MODIFIED:20241211T214951Z
UID:11200-1736553600-1736726399@pfarrei-bnaw.de
SUMMARY:Gimmigen: Sternsinger-Aktion 2025
DESCRIPTION:Herzliche Einladung zur Sternsinger-Aktion 2025 \nInsbesondere die Kinder und Jugendlichen\, ganz besonders die Kommunionkinder unserer Pfarrei möchten wir zur Sternsinger-Aktion 2025 einladen. \nDamit Sie und Ihr schonmal wisst\, wann in welchen Bezirken die SternsingerInnen unterwegs sein werden\, nachfolgend die Übersicht. \n  \nWo kann ich mich anmelden? \nPfarrgebiet St. Laurentius & St. Pius: Silke Iltis (sum.iltis@web.de) / Carina Stephani (Carina.Knieps@gmx.de) / Susanne Ackermann-Rick (susanneackermann@web.de) \n\nBeginn mit der Aussendung am Sa.\, 11.01. um 09:30 Uhr vor St. Laurentius\n\nHeimersheim / Ehlingen / Lohrsdorf: Daniela Dreßen-Löhr (D-Loehr-Daniela@web.de) / Petra Montebello (petra.montebello@web.de) \n\nBeginn mit der Aussendung am Sa.\, 04.01. um 17:00 Uhr in St. Mauritius\n\nRamersbach: Lea Keuler (lea.keuler.96@gmail.com) \n\nBeginn mit der Aussendung am Sa.\, 04.01. um 11:00 Uhr in St. Barbara\n\nWalporzheim: Natascha Gies (NG@elektro-witsch.de) / Claudia Bergmann (juengling-bergmann@freenet.de) \n\nBeginn mit der Aussendung am Sa.\, 11.01. um 09:30 Uhr in der Kapelle St. Josef\n\nKirchdaun: Sandra Bendel (steff.bendel@gmx.de) / Daniela Linden (d.linden@Kirchdauner.de) \n\nBeginn mit der Aussendung am So.\, 05.01. nach der Hl. Messe um 09:30 Uhr in St. Lambertus\n\nGimmigen: Sandra Wejda (Sandra.wejda@gmx.de) / Julia Jünger (Julia_hansonis@web.de) \n\nSamstag\, 11.01. und Sonntag\, 12.01.
URL:https://pfarrei-bnaw.de/event/sternsinger-aktion-2025/
LOCATION:Gimmigen
ATTACH;FMTTYPE=image/jpeg:https://pfarrei-bnaw.de/wp-content/uploads/2023/12/Sternsinger--scaled.jpg
END:VEVENT
BEGIN:VEVENT
DTSTART;VALUE=DATE:20250111
DTEND;VALUE=DATE:20250113
DTSTAMP:20260423T151617
CREATED:20241211T215116Z
LAST-MODIFIED:20241211T215116Z
UID:11203-1736553600-1736726399@pfarrei-bnaw.de
SUMMARY:Walporzheim: Sternsinger-Aktion 2025
DESCRIPTION:Herzliche Einladung zur Sternsinger-Aktion 2025 \nInsbesondere die Kinder und Jugendlichen\, ganz besonders die Kommunionkinder unserer Pfarrei möchten wir zur Sternsinger-Aktion 2025 einladen. \nDamit Sie und Ihr schonmal wisst\, wann in welchen Bezirken die SternsingerInnen unterwegs sein werden\, nachfolgend die Übersicht. \n  \nWo kann ich mich anmelden? \nPfarrgebiet St. Laurentius & St. Pius: Silke Iltis (sum.iltis@web.de) / Carina Stephani (Carina.Knieps@gmx.de) / Susanne Ackermann-Rick (susanneackermann@web.de) \n\nBeginn mit der Aussendung am Sa.\, 11.01. um 09:30 Uhr vor St. Laurentius\n\nHeimersheim / Ehlingen / Lohrsdorf: Daniela Dreßen-Löhr (D-Loehr-Daniela@web.de) / Petra Montebello (petra.montebello@web.de) \n\nBeginn mit der Aussendung am Sa.\, 04.01. um 17:00 Uhr in St. Mauritius\n\nRamersbach: Lea Keuler (lea.keuler.96@gmail.com) \n\nBeginn mit der Aussendung am Sa.\, 04.01. um 11:00 Uhr in St. Barbara\n\nWalporzheim: Natascha Gies (NG@elektro-witsch.de) / Claudia Bergmann (juengling-bergmann@freenet.de) \n\nBeginn mit der Aussendung am Sa.\, 11.01. um 09:30 Uhr in der Kapelle St. Josef\n\nKirchdaun: Sandra Bendel (steff.bendel@gmx.de) / Daniela Linden (d.linden@Kirchdauner.de) \n\nBeginn mit der Aussendung am So.\, 05.01. nach der Hl. Messe um 09:30 Uhr in St. Lambertus\n\nGimmigen: Sandra Wejda (Sandra.wejda@gmx.de) / Julia Jünger (Julia_hansonis@web.de) \n\nSamstag\, 11.01. und Sonntag\, 12.01.
URL:https://pfarrei-bnaw.de/event/walporzheim-sternsinger-aktion-2025/
LOCATION:Walporzheim
ATTACH;FMTTYPE=image/jpeg:https://pfarrei-bnaw.de/wp-content/uploads/2023/12/Sternsinger--scaled.jpg
END:VEVENT
BEGIN:VEVENT
DTSTART;VALUE=DATE:20250111
DTEND;VALUE=DATE:20250113
DTSTAMP:20260423T151617
CREATED:20241211T215352Z
LAST-MODIFIED:20241211T215622Z
UID:11207-1736553600-1736726399@pfarrei-bnaw.de
SUMMARY:St. Laurentius: Sternsinger-Aktion 2025
DESCRIPTION:Herzliche Einladung zur Sternsinger-Aktion 2025 \nInsbesondere die Kinder und Jugendlichen\, ganz besonders die Kommunionkinder unserer Pfarrei möchten wir zur Sternsinger-Aktion 2025 einladen. \nDamit Sie und Ihr schonmal wisst\, wann in welchen Bezirken die SternsingerInnen unterwegs sein werden\, nachfolgend die Übersicht. \n  \nWo kann ich mich anmelden? \nPfarrgebiet St. Laurentius & St. Pius: Silke Iltis (sum.iltis@web.de) / Carina Stephani (Carina.Knieps@gmx.de) / Susanne Ackermann-Rick (susanneackermann@web.de) \n\nBeginn mit der Aussendung am Sa.\, 11.01. um 09:30 Uhr vor St. Laurentius\n\nHeimersheim / Ehlingen / Lohrsdorf: Daniela Dreßen-Löhr (D-Loehr-Daniela@web.de) / Petra Montebello (petra.montebello@web.de) \n\nBeginn mit der Aussendung am Sa.\, 04.01. um 17:00 Uhr in St. Mauritius\n\nRamersbach: Lea Keuler (lea.keuler.96@gmail.com) \n\nBeginn mit der Aussendung am Sa.\, 04.01. um 11:00 Uhr in St. Barbara\n\nWalporzheim: Natascha Gies (NG@elektro-witsch.de) / Claudia Bergmann (juengling-bergmann@freenet.de) \n\nBeginn mit der Aussendung am Sa.\, 11.01. um 09:30 Uhr in der Kapelle St. Josef\n\nKirchdaun: Sandra Bendel (steff.bendel@gmx.de) / Daniela Linden (d.linden@Kirchdauner.de) \n\nBeginn mit der Aussendung am So.\, 05.01. nach der Hl. Messe um 09:30 Uhr in St. Lambertus\n\nGimmigen: Sandra Wejda (Sandra.wejda@gmx.de) / Julia Jünger (Julia_hansonis@web.de) \n\nSamstag\, 11.01. und Sonntag\, 12.01.
URL:https://pfarrei-bnaw.de/event/st-laurentius-sternsinger-aktion-2025/
ATTACH;FMTTYPE=image/jpeg:https://pfarrei-bnaw.de/wp-content/uploads/2023/12/Sternsinger--scaled.jpg
END:VEVENT
BEGIN:VEVENT
DTSTART;VALUE=DATE:20250111
DTEND;VALUE=DATE:20250113
DTSTAMP:20260423T151617
CREATED:20241211T215451Z
LAST-MODIFIED:20241211T215451Z
UID:11209-1736553600-1736726399@pfarrei-bnaw.de
SUMMARY:St. Pius: Sternsinger-Aktion 2025
DESCRIPTION:Herzliche Einladung zur Sternsinger-Aktion 2025 \nInsbesondere die Kinder und Jugendlichen\, ganz besonders die Kommunionkinder unserer Pfarrei möchten wir zur Sternsinger-Aktion 2025 einladen. \nDamit Sie und Ihr schonmal wisst\, wann in welchen Bezirken die SternsingerInnen unterwegs sein werden\, nachfolgend die Übersicht. \n  \nWo kann ich mich anmelden? \nPfarrgebiet St. Laurentius & St. Pius: Silke Iltis (sum.iltis@web.de) / Carina Stephani (Carina.Knieps@gmx.de) / Susanne Ackermann-Rick (susanneackermann@web.de) \n\nBeginn mit der Aussendung am Sa.\, 11.01. um 09:30 Uhr vor St. Laurentius\n\nHeimersheim / Ehlingen / Lohrsdorf: Daniela Dreßen-Löhr (D-Loehr-Daniela@web.de) / Petra Montebello (petra.montebello@web.de) \n\nBeginn mit der Aussendung am Sa.\, 04.01. um 17:00 Uhr in St. Mauritius\n\nRamersbach: Lea Keuler (lea.keuler.96@gmail.com) \n\nBeginn mit der Aussendung am Sa.\, 04.01. um 11:00 Uhr in St. Barbara\n\nWalporzheim: Natascha Gies (NG@elektro-witsch.de) / Claudia Bergmann (juengling-bergmann@freenet.de) \n\nBeginn mit der Aussendung am Sa.\, 11.01. um 09:30 Uhr in der Kapelle St. Josef\n\nKirchdaun: Sandra Bendel (steff.bendel@gmx.de) / Daniela Linden (d.linden@Kirchdauner.de) \n\nBeginn mit der Aussendung am So.\, 05.01. nach der Hl. Messe um 09:30 Uhr in St. Lambertus\n\nGimmigen: Sandra Wejda (Sandra.wejda@gmx.de) / Julia Jünger (Julia_hansonis@web.de) \n\nSamstag\, 11.01. und Sonntag\, 12.01.
URL:https://pfarrei-bnaw.de/event/st-pius-sternsinger-aktion-2025/
ATTACH;FMTTYPE=image/jpeg:https://pfarrei-bnaw.de/wp-content/uploads/2023/12/Sternsinger--scaled.jpg
END:VEVENT
BEGIN:VEVENT
DTSTART;TZID=Europe/Berlin:20250117T180000
DTEND;TZID=Europe/Berlin:20250117T210000
DTSTAMP:20260423T151617
CREATED:20241118T143918Z
LAST-MODIFIED:20241118T143957Z
UID:11108-1737136800-1737147600@pfarrei-bnaw.de
SUMMARY:„Weil es mir wichtig ist …“
DESCRIPTION:Herzliche Einladung zu einem Austausch-Abend in gemütlicher Atmosphäre für alle ehrenamtlich in unserer Pfarrei Engagierten\, die sich von dem Titel „Weil es mir wichtig ist …“ angesprochen fühlen. \nTermin ist Freitag\, der 17. Januar 2025 um 18.00 Uhr im Studienhaus St. Lambert in Lantershofen. Für das leibliche Wohl ist gesorgt. \nDas Vorbereitungsteam des Pastoralen Raumes mit Sabine Dettinger\, Annemie Ulrich\, Markus Annen und Jessica Strauß bittet um Anmeldung bis zum 9. Januar 2025 über Mail:  sabine.dettinger@bistum-trier.de
URL:https://pfarrei-bnaw.de/event/11108/
END:VEVENT
END:VCALENDAR