BEGIN:VCALENDAR
VERSION:2.0
PRODID:-//Pfarrei Bad Neuenahr-Ahrweiler - ECPv6.15.20//NONSGML v1.0//EN
CALSCALE:GREGORIAN
METHOD:PUBLISH
X-ORIGINAL-URL:https://pfarrei-bnaw.de
X-WR-CALDESC:Veranstaltungen für Pfarrei Bad Neuenahr-Ahrweiler
REFRESH-INTERVAL;VALUE=DURATION:PT1H
X-Robots-Tag:noindex
X-PUBLISHED-TTL:PT1H
BEGIN:VTIMEZONE
TZID:Europe/Berlin
BEGIN:DAYLIGHT
TZOFFSETFROM:+0100
TZOFFSETTO:+0200
TZNAME:CEST
DTSTART:20240331T010000
END:DAYLIGHT
BEGIN:STANDARD
TZOFFSETFROM:+0200
TZOFFSETTO:+0100
TZNAME:CET
DTSTART:20241027T010000
END:STANDARD
BEGIN:DAYLIGHT
TZOFFSETFROM:+0100
TZOFFSETTO:+0200
TZNAME:CEST
DTSTART:20250330T010000
END:DAYLIGHT
BEGIN:STANDARD
TZOFFSETFROM:+0200
TZOFFSETTO:+0100
TZNAME:CET
DTSTART:20251026T010000
END:STANDARD
BEGIN:DAYLIGHT
TZOFFSETFROM:+0100
TZOFFSETTO:+0200
TZNAME:CEST
DTSTART:20260329T010000
END:DAYLIGHT
BEGIN:STANDARD
TZOFFSETFROM:+0200
TZOFFSETTO:+0100
TZNAME:CET
DTSTART:20261025T010000
END:STANDARD
END:VTIMEZONE
BEGIN:VEVENT
DTSTART;TZID=Europe/Berlin:20250401T193000
DTEND;TZID=Europe/Berlin:20250401T213000
DTSTAMP:20260423T190802
CREATED:20250314T152044Z
LAST-MODIFIED:20250314T152044Z
UID:11948-1743535800-1743543000@pfarrei-bnaw.de
SUMMARY:Nimm und iss! - Bildvortrag zum Abendmahlsaltar von Dieric Bouts
DESCRIPTION:Am Dienstag\, 1. April bietet Pfarrer Dr. Arno-Lutz Henkel um 19:30 Uhr in der Zehntscheuer einen Bildvortrag zum Abendmahlsaltar des flämischen Künstlers Dieric Bouts (1415-1475).\nDer Altar aus dem 15. Jahrhundert befindet sich in der Löwener Sint Pieterskerk. \nEr bietet spannende Einblicke in die Eucharistiefrömmigkeit des ausgehenden 15. Jahrhunderts und die künstlerischen Realisierungsmöglichkeiten\, die mit der Etablierung der Ölmalerei mit den Werken der Gebrüder van Eyck\, mehr und mehr in die Malerei dieser Zeit Einzug halten. \nHerzliche Einladung zu diesem Bildvortrag\, der uns beispielhaft die Komplexität eines Glaubensthemas in der bildenden Kunst am Vorabend der Reformation nahebringen will.
URL:https://pfarrei-bnaw.de/event/nimm-und-iss-bildvortrag-zum-abendmahlsaltar-von-dieric-bouts/
LOCATION:Zehntscheuer\, Marktplatz 13\, Ahrweiler\, RLP\, 53474\, Deutschland
END:VEVENT
BEGIN:VEVENT
DTSTART;TZID=Europe/Berlin:20250404T190000
DTEND;TZID=Europe/Berlin:20250404T220000
DTSTAMP:20260423T190802
CREATED:20250328T111439Z
LAST-MODIFIED:20250328T111439Z
UID:12114-1743793200-1743804000@pfarrei-bnaw.de
SUMMARY:Nightfever: Pilger der Hoffnung
DESCRIPTION:Ein Abend der Besinnung und Gemeinschaft in Ahrweiler\nAm 4. April 2025 findet in der Zehntscheuer Ahrweiler wieder das bekannte Format Nightfever statt. Unter dem Titel „Pilger der Hoffnung“ sind Gläubige und Interessierte eingeladen\, einen Abend des Gebets\, der Stille und der Begegnung zu erleben.\nDer Abend beginnt um 19:00 Uhr mit einer Heiligen Messe. Im Anschluss besteht die Möglichkeit\, durch Gesang\, Gebet und Momente der Stille zur Ruhe zu kommen und die eigenen Gedanken zu sammeln. Zudem wird es die Gelegenheit geben\, das Sakrament der Beichte zu empfangen.\nEin besonderes Highlight des Abends bildet das Nachgebet um 21:30 Uhr\, das den spirituellen Ausklang der Veranstaltung darstellt. Musikalisch begleitet wird der Abend vom Chor Taizé +\, der mit seinen einfühlsamen Gesängen eine besondere Atmosphäre schaffen wird.\nNightfever ist eine internationale Gebetsinitiative\, die sich an Menschen richtet\, die sich bewusst eine Auszeit vom Alltag nehmen und sich auf ihre spirituelle Reise begeben möchten. Die Veranstaltung steht allen offen\, unabhängig von ihrer religiösen Zugehörigkeit.\nOrganisiert wird der Abend von der Pfarrei Bad Neuenahr-Ahrweiler\, die mit „Pilger der Hoffnung“ ein Zeichen der Zuversicht und Gemeinschaft setzen möchte. Die Veranstaltung lädt dazu ein\, innezuhalten\, den Glauben neu zu entdecken und sich mit anderen auszutauschen.\nAlle Interessierten sind herzlich eingeladen\, an diesem besonderen Abend teilzunehmen und gemeinsam einen Moment der Hoffnung zu erleben.
URL:https://pfarrei-bnaw.de/event/nightfever-pilger-der-hoffnung/
LOCATION:Zehntscheuer\, Marktplatz 13\, Ahrweiler\, RLP\, 53474\, Deutschland
ATTACH;FMTTYPE=image/jpeg:https://pfarrei-bnaw.de/wp-content/uploads/2025/03/Nightfever-2025.jpg
END:VEVENT
BEGIN:VEVENT
DTSTART;TZID=Europe/Berlin:20250405T110000
DTEND;TZID=Europe/Berlin:20250405T123000
DTSTAMP:20260423T190802
CREATED:20250328T111553Z
LAST-MODIFIED:20250328T111553Z
UID:12116-1743850800-1743856200@pfarrei-bnaw.de
SUMMARY:Vormittag für Kommunionkinder 
DESCRIPTION:Ein freiwilliges Angebot für Kommunionkinder: Freunde für’s Leben finden – Neues über den Glauben erfahren – Spaß haben – am Samstag\, 05. April um 11 Uhr bis 12:30 Uhr im Pfarrheim – Marktplatz 13 in Ahrweiler. Anmeldungen bis zum 02.04. an folgende Mailadresse:elena.platz@online.de
URL:https://pfarrei-bnaw.de/event/vormittag-fuer-kommunionkinder/
LOCATION:Pfarrbücherei Ahrweiler\, Ahrweiler\, RLP\, 53474\, Deutschland
END:VEVENT
BEGIN:VEVENT
DTSTART;TZID=Europe/Berlin:20250405T170000
DTEND;TZID=Europe/Berlin:20250405T190000
DTSTAMP:20260423T190802
CREATED:20250328T111642Z
LAST-MODIFIED:20250328T111642Z
UID:12118-1743872400-1743879600@pfarrei-bnaw.de
SUMMARY:Profanierung der St. Pius-Kirche  
DESCRIPTION:Am Samstag\, dem 5. April wird um 17:00 Uhr der Wortgottesdienst zur Profanierung der St. Pius-Kirche auf dem Vorplatz der Kirche gefeiert. Weihbischof Robert Brahm wird dabei das Profanierungs-Dekret vorlesen. Mit der Profanierung geht ein Stück Geschichte zu Ende und die Pfarrei verliert einen Kirchort\, der in den letzten sechs Jahrzehnten die Stadt mit geprägt hat. Der Gottesdienst wird u.a. vom Posaunenchor der evangelischen Kirchengemeinde mitgestaltet. Im Anschluss werden die Reliquien aus dem Altar und eine von den Klarissen besonders gestaltete Pius-Kerze in einer Prozession nach Bachem zur St. Anna-Kapelle gebracht. Der Kapellenverein Bachem bereitet dort einen Empfang im Kapellengarten vor.\nAlle Gemeindemitglieder der Pfarrei Bad Neuenahr-Ahrweiler und des pastoralen Raumes sind herzlich eingeladen\, diesen letzten Gottesdienst an der St. Pius-Kirche mitzufeiern.\nEs werden einige Bänke zur Verfügung stehen. Bei Bedarf bringen Sie sich auch gerne eine eigene Sitzgelegenheit mit.
URL:https://pfarrei-bnaw.de/event/profanierung-der-st-pius-kirche/
LOCATION:St. Pius\, Schützenstraße 125\, Bad Neuenahr-Ahrweiler\, Rheinland-Pfalz\, 53474\, Deutschland
END:VEVENT
BEGIN:VEVENT
DTSTART;TZID=Europe/Berlin:20250406T120000
DTEND;TZID=Europe/Berlin:20250406T130000
DTSTAMP:20260423T190802
CREATED:20250328T112013Z
LAST-MODIFIED:20250328T112402Z
UID:12121-1743940800-1743944400@pfarrei-bnaw.de
SUMMARY:“Ein-Topf für alle! - Suppe to go oder doch lieber im Teller?
DESCRIPTION:“Ein-Topf für alle! – Suppe to go oder doch lieber im Teller?\nDer Missionsausschuss “Mondo Amiki” des Pfarrbezirks St. Laurentius setzt seine erfolgreiche Suppenaktion fort. In der Fastenzeit lädt Mondo Amiki am Sonntag\, den 06. April 2025\, nach der Messe zu einem gemeinsamen Essen in der Zehntscheuer ein. Aufgetischt wird eine köstliche\, vegetarische Kartoffelsuppe.\nDank der Unterstützung der Metzgerei Ropertz aus Ahrweiler sorgt Metzgermeister Christoph Ropertz mit seinem Team nicht nur für die Suppe vor Ort\, sondern bietet auch wieder zwei Sorten Suppe im Glas zur Vorbestellung an. Neben der vegetarischen Kartoffelsuppe gibt es die beliebte Köksjes-Zupp\, ein traditionelles Rezept der freiwilligen Feuerwehr Ahrweiler. So funktioniert die Vorbestellung: Interessierte können ihre Suppenbestellung verbindlich per Überweisung auf das Konto von Mondo Amiki (IBAN: DE12 5775 1310 0000 8286 99) tätigen. Im Verwendungszweck sind die gewünschte Anzahl und Sorte der Suppe anzugeben. Der Preis pro Glas beträgt 6 €. Die Bestellfrist endet am 25. März 2025.\nAbholung der Suppe to go\nAm 6. April von 12:00 bis 13:00 Uhr an der Zehntscheuer \nAm 7. April von 17:00 bis 18:00 Uhr in der Bücherei \nDer gesamte Erlös der Aktion kommt ohne Abzüge dem Mädcheninternat in Pampa Huasi\, Bolivien\, zugute.  \nMondo Amiki freut sich auf zahlreiche Teilnehmerinnen und Teilnehmer – ob vor Ort mit einem Teller heißer Suppe oder mit einer köstlichen Suppe to go. 
URL:https://pfarrei-bnaw.de/event/12121/
LOCATION:Zehntscheuer\, Marktplatz 13\, Ahrweiler\, RLP\, 53474\, Deutschland
ATTACH;FMTTYPE=image/jpeg:https://pfarrei-bnaw.de/wp-content/uploads/2025/03/thumbnail_Ein-Topf.jpg
END:VEVENT
BEGIN:VEVENT
DTSTART;TZID=Europe/Berlin:20250406T180000
DTEND;TZID=Europe/Berlin:20250406T200000
DTSTAMP:20260423T190802
CREATED:20250328T112137Z
LAST-MODIFIED:20250328T112137Z
UID:12123-1743962400-1743969600@pfarrei-bnaw.de
SUMMARY:Benefizkonzert: ... und wieder bringt ein Tag für uns sein Licht  
DESCRIPTION:Benefizkonzert am Sonntag\, 06. April um 18.00 Uhr in der St. Anna-Kapelle\, Bachem\nIn Takt-junger Chor Bongard mit seinem aktuellen Programm „I have a dream“ bietet unter Leitung von Silvia Groß seinen Zuhörerinnen und Zuhörern mit einer bunten Auswahl an Liedern aus verschiedenen Zeiten und in unterschiedlichen Stilen ein kleines\, feines Chorkonzert.\nDer Eintritt zum Konzert ist frei. Spenden für die Projekte des Kapellenvereins Bachem sind erbeten. In der Konzertpause gibt es Erfrischungen am Getränkestand vom Weingut Stefan Kurth.
URL:https://pfarrei-bnaw.de/event/benefizkonzert-und-wieder-bringt-ein-tag-fuer-uns-sein-licht/
LOCATION:St. Anna\, Bachem
END:VEVENT
BEGIN:VEVENT
DTSTART;TZID=Europe/Berlin:20250409T193000
DTEND;TZID=Europe/Berlin:20250409T203000
DTSTAMP:20260423T190802
CREATED:20250328T112258Z
LAST-MODIFIED:20250328T112258Z
UID:12125-1744227000-1744230600@pfarrei-bnaw.de
SUMMARY:St. Martin: Lieblingsgebet 
DESCRIPTION:Vielleicht ist ein Lieblingslied\, ein Bibelzitat oder ein anderer Text mit besonderer Bedeutung für Ihr Leben – schon lange bekannt oder gerade erst kennengelernt. Vielleich möchten Sie lieber zuhören oder in der Gemeinschaft beten – wie auch immer. Herzlich willkommen zum nächsten Lieblingsgebt! Bringen Sie Ihren Text doch gerne mit\, und zwar am 9. April um 19:30 Uhr im Pfarrsaal Heppingen.
URL:https://pfarrei-bnaw.de/event/st-martin-lieblingsgebet/
LOCATION:Pfarrsaal Heppingen
END:VEVENT
BEGIN:VEVENT
DTSTART;TZID=Europe/Berlin:20250411T143000
DTEND;TZID=Europe/Berlin:20250411T163000
DTSTAMP:20260423T190802
CREATED:20250328T112452Z
LAST-MODIFIED:20250328T112452Z
UID:12128-1744381800-1744389000@pfarrei-bnaw.de
SUMMARY:Kreuzweg der Frauen   
DESCRIPTION:Herzliche Einladung an alle Frauen\, sich am Freitag\, den 11.04.25 um 14:30 Uhr an der 1. Station in der Kalvarienbergstraße/ Ecke Brückenstraße zu treffen.
URL:https://pfarrei-bnaw.de/event/kreuzweg-der-frauen/
END:VEVENT
BEGIN:VEVENT
DTSTART;TZID=Europe/Berlin:20250412T100000
DTEND;TZID=Europe/Berlin:20250412T120000
DTSTAMP:20260423T190802
CREATED:20250328T112624Z
LAST-MODIFIED:20250328T112624Z
UID:12130-1744452000-1744459200@pfarrei-bnaw.de
SUMMARY:Kinder-Treff in der Bücherei  -  Basteln\, Spielen\, Vorlesen
DESCRIPTION:Kinder-Treff in der Bücherei  -  Basteln\, Spielen\, Vorlesen \nAm Samstag\, 12. April von 10 bis 12 Uhr laden Erika Heinen und Anne Weller mit Unterstützung des Bücherei-Teams Kinder von drei bis ca. acht Jahren zu einem Kinder-Treff in der Pfarrbücherei St. Laurentius in den Räumlichkeiten des Pfarrheims am Marktplatz 13 in Ahrweiler ein. Das Angebot findet einmal im Monat samstags statt.\nKinder können entweder allein teilnehmen oder auch in Begleitung von Elternteilen. Das Angebot ist kostenlos. Eine Voranmeldung ist nicht erforderlich.
URL:https://pfarrei-bnaw.de/event/kinder-treff-in-der-buecherei-basteln-spielen-vorlesen-3/
LOCATION:Pfarrheim Ahrweiler\, Laurentiussaal\, Ahrweiler\, RLP\, 53474\, Deutschland
END:VEVENT
BEGIN:VEVENT
DTSTART;TZID=Europe/Berlin:20250416T110000
DTEND;TZID=Europe/Berlin:20250416T120000
DTSTAMP:20260423T190802
CREATED:20250416T053434Z
LAST-MODIFIED:20250416T053434Z
UID:12306-1744801200-1744804800@pfarrei-bnaw.de
SUMMARY:Heimersheim: Karfreitag
DESCRIPTION:Das lokale Team in Heimersheim bietet ab 11:00 Uhr wieder einen Kreuzweg mit Gebetsstationen an. Herzliche Einladung hierzu!
URL:https://pfarrei-bnaw.de/event/heimersheim-karfreitag/
LOCATION:St. Mauritius\, Heimersheim
END:VEVENT
BEGIN:VEVENT
DTSTART;TZID=Europe/Berlin:20250416T180000
DTEND;TZID=Europe/Berlin:20250416T200000
DTSTAMP:20260423T190802
CREATED:20250416T053853Z
LAST-MODIFIED:20250416T053853Z
UID:12310-1744826400-1744833600@pfarrei-bnaw.de
SUMMARY:„Karfreitag anders – Verlassen“- Ökumenischer Gottesdienst im Kloster Calvarienberg 
DESCRIPTION:Unter dem Titel „Karfreitag anders – Verlassen“ laden die christlichen Kirchen der Stadt am Karfreitag\, 18. April 2025\, um 18:00 Uhr zu einem besonderen Gottesdienst ein. Veranstaltungsort ist der ehemalige Speisesaal des Klosters Calvarienberg – ein geschichtsträchtiger Ort\, der heute selbst von Stille\, Leere und Vergänglichkeit erzählt.\nIm Mittelpunkt des Abends steht das\, was oft schwer auszuhalten ist: Verlassensein\, Leere\, Ungewissheit. Mit eindrücklichen Texten\, Musik\, symbolischen Stationen und einer bewusst reduzierten Liturgie bietet der Gottesdienst Raum\, diesen Erfahrungen nachzuspüren – ohne schnelle Antworten\, aber mit der Einladung zum Dasein und Aushalten.\nDie besondere Atmosphäre des verlassenen Klosters verstärkt dabei die Wirkung: Ein Ort\, der selbst Abschied\, Veränderung und Aufbruch erlebt hat\, wird zum Resonanzraum für das Thema des Karfreitags. Eingeladen sind alle\, unabhängig von Konfession oder religiöser Bindung.\nOrt: Ehemaliges Kloster Calvarienberg\, Eingang über den Küchenhof\, 53474 Bad Neuenahr-Ahrweiler Weitere Infos: www.pfarrei-bnaw.de | www.evkina.de
URL:https://pfarrei-bnaw.de/event/karfreitag-anders-verlassen-oekumenischer-gottesdienst-im-kloster-calvarienberg/
LOCATION:Klosterkirche Calvarienberg\, Ahrweiler
ATTACH;FMTTYPE=image/jpeg:https://pfarrei-bnaw.de/wp-content/uploads/2025/04/Karfreitag-anders-2025.jpg
END:VEVENT
BEGIN:VEVENT
DTSTART;TZID=Europe/Berlin:20250417T200000
DTEND;TZID=Europe/Berlin:20250417T210000
DTSTAMP:20260423T190802
CREATED:20250416T053212Z
LAST-MODIFIED:20250416T053212Z
UID:12304-1744920000-1744923600@pfarrei-bnaw.de
SUMMARY:Heppingen: Gründonnerstag
DESCRIPTION:Herzliche Einladung am 17. April von 20.00 bis 21.00 Uhr zu Stille – Gebete – Texte – Musik – Kommen und Gehen in der St. Martin-Kirche in Heppingen.
URL:https://pfarrei-bnaw.de/event/heppingen-gruendonnerstag/
LOCATION:St. Martin\, Heppingen
END:VEVENT
BEGIN:VEVENT
DTSTART;TZID=Europe/Berlin:20250418T060000
DTEND;TZID=Europe/Berlin:20250418T150000
DTSTAMP:20260423T190802
CREATED:20250407T091023Z
LAST-MODIFIED:20250407T091023Z
UID:12261-1744956000-1744988400@pfarrei-bnaw.de
SUMMARY:Fußwallfahrt an Karfreitag von Bornheim zum Kalvarienberg
DESCRIPTION:“Mit Zeiten der Stille und Gebet unseren Alltag unterbrechen.“\nMit dem Gedanken unseres Erzbischofs im diesjährigen Fastenhirtenbrief lade ich zur Fußwallfahrt am Karfreitag\, 18. April 2025\, zum Kalvarienberg nach Ahrweiler ein.\nWir starten um 6.00 Uhr (neue Abgangszeit!!!) am Ahrweilerkreuz\, Parkplatz Neuweg\, in Bornheim. Er liegt in der Nähe vom Golfplatz Römerhof. Nach einem kurzen Morgengebet begeben wir uns auf den Pilgerweg. Wir begleiten unseren Herrn auf Seinem letzten Weg zum Kalvarienberg. Elf der vierzehn Kreuzwegstationen betrachten wir an Kreuzen am Wegesrand. Wir singen und beten unterwegs\, haben aber auch Momente der Stille. Es bleibt genügend Zeit sich auszutauschen und kennenzulernen.\nDer 31 km lange Pilgerweg führt vom Parkplatz durch den Wald über Ramelshoven\, Witterschlick nach Röttgen zur Kirche Christi Auferstehung\, km 12. Im Pfarrheim ca. 9.00 Uhr ist eine kurze Frühstückspause. Dann geht es weiter über die Villiper Allee nach Villip-Rott\, an der Gudenauer Burg vorbei\, durch die Felder zur Fritzdorfer Mühle\, km 24\, dort Mittagspause ca. 12.30 Uhr. Weiter auf die letzten 8 Km nach Ringen\, über die Anhöhe zur Elligkapelle in Ahrweiler und bis zum Kalvarienberg. Man kann sich überall auf dem Weg den Pilgern anschließen. 15 Uhr Liturgie vom Leiden und Sterben Christi in der Klosterkirche.\nProviant und Getränke\, vernünftiges Schuhwerk und Kleidung sollte man dabei haben. Kein Begleitfahrzeug. Für die Rückreise muss jeder selbst sorgen. Jeder Pilger ist für sich selbst verantwortlich.\nAuskunft: Philipp Münch\, Uhlstr. 9\, Bornheim. Bitte per App 0163 36 46 437.
URL:https://pfarrei-bnaw.de/event/fusswallfahrt-an-karfreitag-von-bornheim-zum-kalvarienberg/
END:VEVENT
BEGIN:VEVENT
DTSTART;TZID=Europe/Berlin:20250418T100000
DTEND;TZID=Europe/Berlin:20250418T120000
DTSTAMP:20260423T190802
CREATED:20250416T053554Z
LAST-MODIFIED:20250416T053554Z
UID:12308-1744970400-1744977600@pfarrei-bnaw.de
SUMMARY:Bachem: Karfreitag
DESCRIPTION:Wir begleiten Jesus auf seinem Weg \nGang zu den Bachemer Kapellen an Karfreitag für Kinder und ihre Eltern und alle Interessierten.\nTreffpunkt ist am 18.4. um 10:00 Uhr in der St. Anna-Kapelle. Der Weg führt zur\nSt. Leonardus-Kapelle und von dort ins Bachemer Tal zur Lourdeskapelle. Zurück in\nSt. Anna werden die mitgebrachten Symbole Teil der “Osterkrippe”.\nBei sehr schlechtem Wetter wird der Gang abgekürzt und der Weg in der St. Anna-Kapelle gestaltet.
URL:https://pfarrei-bnaw.de/event/bachem-karfreitag/
LOCATION:St. Anna\, Bachem
END:VEVENT
BEGIN:VEVENT
DTSTART;TZID=Europe/Berlin:20250421T100000
DTEND;TZID=Europe/Berlin:20250421T160000
DTSTAMP:20260423T190802
CREATED:20250416T054337Z
LAST-MODIFIED:20250416T054337Z
UID:12314-1745229600-1745251200@pfarrei-bnaw.de
SUMMARY:Emmausgang
DESCRIPTION:Montag ab nach Emmaus\nEmmausgang/ Wanderung mit Stationen für Familien und alle Interessierten am Ostermontag 10:00 bis 16:00 ab Hönningen/ Ahr rund um die Teufelsley – unterwegs Impulse\, Picknick und gemeinsame Brotfeier. Anmeldung erforderlich.\nDen biblischen Vorbildern gibt sich Jesus auf ihrem Weg ins historische Amwas – 36 km – zu erkennen. Bei der gemeinsamen Brotfeier gingen ihnen die Augen auf und sie erkennen den\, den sie tot glaubten.\nDie heutigen Emmauspilger machen sich auch unterwegs auf die Glaubenssuche: mit Liedern\, Gebeten und der biblischen Geschichte. Abschließend gemeinsame Brotfeier und längere Mittagspause (Rucksackverpflegung). Wanderroute: ca. 10km\, mittelschwer.
URL:https://pfarrei-bnaw.de/event/emmausgang/
END:VEVENT
BEGIN:VEVENT
DTSTART;TZID=Europe/Berlin:20250421T110000
DTEND;TZID=Europe/Berlin:20250421T130000
DTSTAMP:20260423T190802
CREATED:20250416T054213Z
LAST-MODIFIED:20250416T054213Z
UID:12312-1745233200-1745240400@pfarrei-bnaw.de
SUMMARY:St. Josef: Wiedereröffnung
DESCRIPTION:Am Ostermontag\, dem 21. April wird die nach der schrecklichen Flut am 14./15. Juli 2021 zerstörte Kapelle in Walporzheim wiedereröffnet.\nBischof Stefan Ackermann zelebriert um 11:00 Uhr die Heilige Messe in der\nSt. Josef-Kapelle und wird dabei auch den neuen „Josefs-Altar“ einweihen.\nDie Messe wird mitgestaltet von der Chorgemeinschaft Ahrweiler-Walporzheim.\nIm Anschluss an den Gottesdienst wird mit der Kranzniederlegung am Ehrenmal der Verstorbenen\, besonders die des Kapellenvereins\, gedacht.\nDer Kapellenverein lädt danach zum Fest-Kommers im Winzerverein ein.
URL:https://pfarrei-bnaw.de/event/st-josef-wiedereroeffnung/
LOCATION:Walporzheim
END:VEVENT
BEGIN:VEVENT
DTSTART;TZID=Europe/Berlin:20250427T150000
DTEND;TZID=Europe/Berlin:20250427T170000
DTSTAMP:20260423T190802
CREATED:20250416T054503Z
LAST-MODIFIED:20250416T054503Z
UID:12316-1745766000-1745773200@pfarrei-bnaw.de
SUMMARY:Stationenweg auf die Landskrone
DESCRIPTION:Einladung zum gemeinsamen Stationenweg auf die Landskrone\nGemeinsam unterwegs – im Glauben und im Gespräch\nDie Pfarrei Bad Neuenahr-Ahrweiler\, die Freie Christengemeinde in Ahrweiler und die Evangelische Freikirche in Altenahr laden herzlich dazu ein\, sich gemeinsam auf den Weg zu machen: Am Sonntag\, den 27. April um 15:00 Uhr führen die drei Gemeinden einen spirituellen Stationenweg zur Maria-Hilf-Kapelle auf der Landskrone durch.\nEntlang des Weges erwarten die Teilnehmenden kurze Impulse zu ausgewählten Bibelstellen sowie die Möglichkeit\, miteinander ins Gespräch zu kommen und Glauben gemeinsam zu erleben. Ob Jung oder Alt – alle sind willkommen\, sich diesem besonderen Weg anzuschließen.\nNach einem kurzen Gottesdienst an der Kapelle besteht (bei gutem Wetter) die Gelegenheit\, in geselliger Runde zu verweilen. Für Getränke sorgen die Veranstalter – für das leibliche Wohl sind alle eingeladen\, eine Kleinigkeit mitzubringen und miteinander zu teilen.\nTreffpunkt: Gimmigen\, Ecke An der Burgpforte / Im Seifengraben\nDie Vorbereitungsgruppe freut sich auf ein bereicherndes Miteinander – herzliche Einladung an alle!
URL:https://pfarrei-bnaw.de/event/stationenweg-auf-die-landskrone/
END:VEVENT
BEGIN:VEVENT
DTSTART;TZID=Europe/Berlin:20250427T180000
DTEND;TZID=Europe/Berlin:20250427T200000
DTSTAMP:20260423T190802
CREATED:20250416T054626Z
LAST-MODIFIED:20250416T054626Z
UID:12318-1745776800-1745784000@pfarrei-bnaw.de
SUMMARY:St. Anna: Benefizkonzert
DESCRIPTION:… und wieder bringt ein Tag für uns sein Licht  \nBenefizkonzert am Sonntag\, 27. April um 18.00 Uhr in der St. Anna-Kapelle\, Bachem mit Stephan Maria Glöckner.  Glöckner gründete das Weltmusikprojekt menino und tourte international. Bekannt ist Stephan für seine Sting-ähnliche Stimme und der erfolgreichen Interpretation dessen Repertoire. Er beschäftigt sich auch mit Jazz und Welthits des anspruchsvollen Pop. Preisgekrönte Kindermusik\, Songs für DJs. Er taucht gerne it überraschend guten Musiker-Kollegen auf\nDer Eintritt zum Konzert ist frei. Spenden für die Projekte des Kapellenvereins Bachem sind erbeten.
URL:https://pfarrei-bnaw.de/event/st-anna-benefizkonzert-4/
LOCATION:St. Anna\, Bachem
END:VEVENT
BEGIN:VEVENT
DTSTART;TZID=Europe/Berlin:20250428T180000
DTEND;TZID=Europe/Berlin:20250428T193000
DTSTAMP:20260423T190802
CREATED:20250203T075748Z
LAST-MODIFIED:20250203T075748Z
UID:11573-1745863200-1745868600@pfarrei-bnaw.de
SUMMARY:Jugendgottesdienst in Gelsdorf
DESCRIPTION:Herzliche Einladung besonders an die Firmbewerberinnen und Firmbewerber aus der Pfarreiengemeinschaft Altenahr\, der Pfarreiengemeinschaft Grafschaft und der Pfarrei Bad Neuenahr-Ahrweiler. \nDie Termine: \nDonnerstag\, 20. Februar um 18 Uhr in der Kirche Mariä Verkündigung in Altenahr \nDienstag\, 18. März um 18 Uhr in der Kirche St. Mauritius in Heimersheim \nMontag\, 28. April um 18 Uhr in der Kirche St. Walburga in Gelsdorf
URL:https://pfarrei-bnaw.de/event/jugendgottesdienst-in-gelsdorf/
END:VEVENT
END:VCALENDAR