BEGIN:VCALENDAR
VERSION:2.0
PRODID:-//Pfarrei Bad Neuenahr-Ahrweiler - ECPv6.15.20//NONSGML v1.0//EN
CALSCALE:GREGORIAN
METHOD:PUBLISH
X-ORIGINAL-URL:https://pfarrei-bnaw.de
X-WR-CALDESC:Veranstaltungen für Pfarrei Bad Neuenahr-Ahrweiler
REFRESH-INTERVAL;VALUE=DURATION:PT1H
X-Robots-Tag:noindex
X-PUBLISHED-TTL:PT1H
BEGIN:VTIMEZONE
TZID:Europe/Berlin
BEGIN:DAYLIGHT
TZOFFSETFROM:+0100
TZOFFSETTO:+0200
TZNAME:CEST
DTSTART:20240331T010000
END:DAYLIGHT
BEGIN:STANDARD
TZOFFSETFROM:+0200
TZOFFSETTO:+0100
TZNAME:CET
DTSTART:20241027T010000
END:STANDARD
BEGIN:DAYLIGHT
TZOFFSETFROM:+0100
TZOFFSETTO:+0200
TZNAME:CEST
DTSTART:20250330T010000
END:DAYLIGHT
BEGIN:STANDARD
TZOFFSETFROM:+0200
TZOFFSETTO:+0100
TZNAME:CET
DTSTART:20251026T010000
END:STANDARD
BEGIN:DAYLIGHT
TZOFFSETFROM:+0100
TZOFFSETTO:+0200
TZNAME:CEST
DTSTART:20260329T010000
END:DAYLIGHT
BEGIN:STANDARD
TZOFFSETFROM:+0200
TZOFFSETTO:+0100
TZNAME:CET
DTSTART:20261025T010000
END:STANDARD
END:VTIMEZONE
BEGIN:VEVENT
DTSTART;TZID=Europe/Berlin:20250502T160000
DTEND;TZID=Europe/Berlin:20250502T180000
DTSTAMP:20260423T204745
CREATED:20250305T213858Z
LAST-MODIFIED:20250305T213858Z
UID:11839-1746201600-1746208800@pfarrei-bnaw.de
SUMMARY:St. Laurentius: Jugendtreff
DESCRIPTION:Freitag ist Jugendtreff \nAlle Messdiener*innen\, Kinder und Jugendliche unserer Pfarrei sind eingeladen sich freitags von 16 bis 18 Uhr im Jugendraum im Pfarrheim Ahrweiler (Marktplatz 13) zu treffen. Ausgebildete Gruppenleiter*innen bieten Spiel und Spaß und unterstützen bei der Umsetzung eigener Ideen. \nDie nächsten Termine sind: 2. Mai / 23. Mai / 20. Juni
URL:https://pfarrei-bnaw.de/event/st-laurentius-jugendtreff-3/
LOCATION:Pfarrheim Ahrweiler\, Laurentiussaal\, Ahrweiler\, RLP\, 53474\, Deutschland
END:VEVENT
BEGIN:VEVENT
DTSTART;TZID=Europe/Berlin:20250502T200000
DTEND;TZID=Europe/Berlin:20250502T220000
DTSTAMP:20260423T204745
CREATED:20250407T091150Z
LAST-MODIFIED:20250407T091150Z
UID:12263-1746216000-1746223200@pfarrei-bnaw.de
SUMMARY:Literatur: Dora Heldt
DESCRIPTION:Große Literatur in Ahrweiler: Dora Heldt liest in der Zehntscheune\nBestsellerautorin zu Gast am 2. und 3. Mai 2025 – Karten ab sofort erhältlich\nBad Neuenahr-Ahrweiler – Sie gehört zu den beliebtesten Schriftstellerinnen Deutschlands: Dora Heldt\, deren Romane regelmäßig die Bestsellerlisten anführen und die Herzen ihrer Leserinnen und Leser erobern. Am Freitag\, 2. Mai\, und Samstag\, 3. Mai 2025\, kommt die Erfolgsautorin für gleich zwei Abende in die Zehntscheune am Marktplatz in Ahrweiler – jeweils um 20:00 Uhr beginnt die Lesung\, Einlass ist ab 19:30 Uhr. Die Veranstaltung findet in Kooperation mit der katholischen öffentlichen Bücherei (KöB) St. Laurentius und der Pfarrei Bad Neuenahr-Ahrweiler statt. Karten sind ab sofort zum Preis von 20 Euro in der KöB St. Laurentius sowie im Pfarrbüro Ahrweiler erhältlich. Es gilt freie Platzwahl.\nDora Heldt\, geboren 1961 auf Sylt\, kennt den Buchmarkt wie kaum eine andere: Als gelernte Buchhändlerin und langjährige Verlagsvertreterin weiß sie\, was ihre Leserinnen und Leser bewegt. Mit Romanen wie „Urlaub mit Papa“\, „Bei Hitze ist es wenigstens nicht kalt“ oder „Drei Frauen am See“ wurde sie zur festen Größe der deutschen Literaturszene. Neben humorvollen Familien- und Frauenromanen begeistert sie auch mit ihren Sylt-Krimis\, Erzählungen und Kolumnen. Ihr unverwechselbarer Stil verbindet Wärme\, Humor und Alltagsthemen – stets mit einem Blick für das Besondere im scheinbar Gewöhnlichen. I\nIn ihrer aktuellen Geschichte stehen zwei Frauen im Mittelpunkt: Johanne Johansen\, die kurz nach ihrem 65. Geburtstag erfährt\, dass das traditionsreiche Familienunternehmen\, die Elbreederei Kurt Johansen & Söhne\, vor der Pleite steht – und ihre zehn Jahre jüngere Cousine Luise Gehrke\, deren Welt nach einem tragischen Unfall ihres Mannes ins Wanken gerät. Obwohl die beiden sich nur leidlich verstehen\, müssen sie nun gemeinsam handeln\, um das Lebenswerk ihrer Familie zu retten. Dabei kommen unerwarteteFamiliengeheimnisse ans Licht\, die alles verändern…\nDie Gäste dürfen sich auf einen unterhaltsamen\, berührenden und nachdenklich stimmenden Abend mit einer der beliebtesten deutschen Autorinnen freuen.\nWeitere Informationen unter: www.pfarrei-bnaw.de\nOrt: Zehntscheune\, Marktplatz\, 53474 Bad Neuenahr-Ahrweiler\nEinlass: 19:30 Uhr | Beginn: 20:00 Uhr\nEintritt: 20 € | Kartenverkauf: KöB St. Laurentius & Pfarrbüro Ahrweiler
URL:https://pfarrei-bnaw.de/event/literatur-dora-heldt/
LOCATION:Zehntscheuer\, Marktplatz 13\, Ahrweiler\, RLP\, 53474\, Deutschland
END:VEVENT
BEGIN:VEVENT
DTSTART;TZID=Europe/Berlin:20250503T200000
DTEND;TZID=Europe/Berlin:20250503T220000
DTSTAMP:20260423T204745
CREATED:20250407T091230Z
LAST-MODIFIED:20250407T091230Z
UID:12265-1746302400-1746309600@pfarrei-bnaw.de
SUMMARY:Literatur: Dora Heldt
DESCRIPTION:Große Literatur in Ahrweiler: Dora Heldt liest in der Zehntscheune\nBestsellerautorin zu Gast am 2. und 3. Mai 2025 – Karten ab sofort erhältlich\nBad Neuenahr-Ahrweiler – Sie gehört zu den beliebtesten Schriftstellerinnen Deutschlands: Dora Heldt\, deren Romane regelmäßig die Bestsellerlisten anführen und die Herzen ihrer Leserinnen und Leser erobern. Am Freitag\, 2. Mai\, und Samstag\, 3. Mai 2025\, kommt die Erfolgsautorin für gleich zwei Abende in dieZehntscheune am Marktplatz in Ahrweiler – jeweils um 20:00 Uhr beginnt die Lesung\, Einlass ist ab 19:30 Uhr. Die Veranstaltung findet in Kooperation mit der katholischen öffentlichen Bücherei (KöB) St. Laurentius und der Pfarrei Bad Neuenahr-Ahrweiler statt. Karten sind ab sofort zum Preis von 20 Euro in der KöB St. Laurentius sowie im Pfarrbüro Ahrweiler erhältlich. Es gilt freie Platzwahl.\nDora Heldt\, geboren 1961 auf Sylt\, kennt den Buchmarkt wie kaum eine andere: Als gelernte Buchhändlerin und langjährige Verlagsvertreterin weiß sie\, was ihre Leserinnen und Leser bewegt. Mit Romanen wie „Urlaub mit Papa“\, „Bei Hitze ist es wenigstens nicht kalt“ oder „Drei Frauen am See“ wurde sie zur festen Größe der deutschen Literaturszene. Neben humorvollen Familien- und Frauenromanen begeistert sie auch mit ihren Sylt-Krimis\, Erzählungen und Kolumnen. Ihr unverwechselbarer Stil verbindet Wärme\, Humor und Alltagsthemen – stets mit einem Blick für das Besondere im scheinbar Gewöhnlichen. I\nIn ihrer aktuellen Geschichte stehen zwei Frauen im Mittelpunkt: Johanne Johansen\, die kurz nach ihrem 65. Geburtstag erfährt\, dass das traditionsreiche Familienunternehmen\, die Elbreederei Kurt Johansen & Söhne\, vor der Pleite steht – und ihre zehn Jahre jüngere Cousine Luise Gehrke\, deren Welt nach einem tragischen Unfall ihres Mannes ins Wanken gerät. Obwohl die beiden sich nur leidlich verstehen\, müssen sie nun gemeinsam handeln\, um das Lebenswerk ihrer Familie zu retten. Dabei kommen unerwarteteFamiliengeheimnisse ans Licht\, die alles verändern…\nDie Gäste dürfen sich auf einen unterhaltsamen\, berührenden und nachdenklich stimmenden Abend mit einer der beliebtesten deutschen Autorinnen freuen.\nWeitere Informationen unter: www.pfarrei-bnaw.de\nOrt: Zehntscheune\, Marktplatz\, 53474 Bad Neuenahr-Ahrweiler\nEinlass: 19:30 Uhr | Beginn: 20:00 Uhr\nEintritt: 20 € | Kartenverkauf: KöB St. Laurentius & Pfarrbüro Ahrweiler
URL:https://pfarrei-bnaw.de/event/literatur-dora-heldt-2/
LOCATION:Zehntscheuer\, Marktplatz 13\, Ahrweiler\, RLP\, 53474\, Deutschland
END:VEVENT
BEGIN:VEVENT
DTSTART;TZID=Europe/Berlin:20250510T073000
DTEND;TZID=Europe/Berlin:20250510T200000
DTSTAMP:20260423T204745
CREATED:20250416T054746Z
LAST-MODIFIED:20250416T054746Z
UID:12320-1746862200-1746907200@pfarrei-bnaw.de
SUMMARY:Ökumenische Frauenpilgerwanderung nach Maria Laach 
DESCRIPTION:Die ökumenische Frauenpilgerwanderung nach Maria Laach \nfindet am Tag vor Muttertag am Samstag den 10. Mai 2025 statt. Treffpunkt ist um 7.30 Uhr auf dem Marktplatz in Ahrweiler. Die Strecke umfasst ca. 27 km von Ahrweiler nach Maria Laach.\nWeiteren Informationen bei Bärbel Knieps Tel. 02641-35781\nMail:  baerbel@knieps-aw.de\noder bei Marleen van Nienwenhuijzen-Krause Tel. 02641-5188\nMail:  mvn-k@online.de
URL:https://pfarrei-bnaw.de/event/oekumenische-frauenpilgerwanderung-nach-maria-laach/
LOCATION:Marktplatz 13\, 53474\, Ahrweiler\, hinter dem Pfarrhaus
END:VEVENT
BEGIN:VEVENT
DTSTART;TZID=Europe/Berlin:20250515T150000
DTEND;TZID=Europe/Berlin:20250515T170000
DTSTAMP:20260423T204745
CREATED:20250513T034520Z
LAST-MODIFIED:20250513T034543Z
UID:12507-1747321200-1747328400@pfarrei-bnaw.de
SUMMARY:„Auszeit“: Meditation - Beten - Singen - Stille - Beisammensein 
DESCRIPTION:„Auszeit“: Meditation – Beten – Singen – Stille – Beisammensein  auf der Landskrone\nHerzliche Einladung zur monatlichen Andacht in der Maria Hilf-Kapelle auf der Landskrone an jedem dritten Donnerstag um 15.00 Uhr von März bis Oktober. Der nächste Termin ist am 15. Mai.
URL:https://pfarrei-bnaw.de/event/auszeit-meditation-beten-singen-stille-beisammensein/
LOCATION:Kapelle Landskrone
END:VEVENT
BEGIN:VEVENT
DTSTART;TZID=Europe/Berlin:20250517T093000
DTEND;TZID=Europe/Berlin:20250517T113000
DTSTAMP:20260423T204745
CREATED:20250513T034802Z
LAST-MODIFIED:20250513T034802Z
UID:12509-1747474200-1747481400@pfarrei-bnaw.de
SUMMARY:Heppingen: Frauenfrühstück
DESCRIPTION:Frauenfrühstück in Heppingen\nAm Samstag\, 17. Mai findet im Pfarrsaal Heppingen von 9.30 bis 11.30 wieder ein Frühstück für Frauen statt. Weitere Infos bei Bea Danko (02641/204258) oder Ria Lindner (02641/21752).
URL:https://pfarrei-bnaw.de/event/heppingen-frauenfruehstueck-2/
LOCATION:Pfarrsaal Heppingen
END:VEVENT
BEGIN:VEVENT
DTSTART;TZID=Europe/Berlin:20250518T110000
DTEND;TZID=Europe/Berlin:20250518T120000
DTSTAMP:20260423T204745
CREATED:20250207T124923Z
LAST-MODIFIED:20250513T034214Z
UID:11608-1747566000-1747569600@pfarrei-bnaw.de
SUMMARY:St. Laurentius: Kinderkirche
DESCRIPTION:Am Sonntag\, 18. Mai sind Kinder zwischen drei und acht Jahren zur Kinderkirche während der Heiligen Messe in der Zehntscheuer in Ahrweiler eingeladen.
URL:https://pfarrei-bnaw.de/event/st-laurentius-kinderkirche-4/
LOCATION:St. Laurentius
END:VEVENT
BEGIN:VEVENT
DTSTART;TZID=Europe/Berlin:20250518T170000
DTEND;TZID=Europe/Berlin:20250518T190000
DTSTAMP:20260423T204745
CREATED:20250513T034929Z
LAST-MODIFIED:20250513T034929Z
UID:12511-1747587600-1747594800@pfarrei-bnaw.de
SUMMARY:Chorkonzert Chor „unterwegs“   
DESCRIPTION:Chorkonzert Chor „unterwegs“\nHerzliche Einladung zum Chorkonzert des Chors „unterwegs“ am Sonntag\, 18. Mai um 17.00 Uhr\, in\nSt. Martin\, Heppingen.
URL:https://pfarrei-bnaw.de/event/chorkonzert-chor-unterwegs/
LOCATION:Pfarrsaal Heppingen
END:VEVENT
BEGIN:VEVENT
DTSTART;TZID=Europe/Berlin:20250520T143000
DTEND;TZID=Europe/Berlin:20250520T163000
DTSTAMP:20260423T204745
CREATED:20240617T085332Z
LAST-MODIFIED:20250516T125616Z
UID:9929-1747751400-1747758600@pfarrei-bnaw.de
SUMMARY:„Pius-Café“
DESCRIPTION:An jedem dritten Dienstag im Monat von 14:30 bis 16:30 Uhr haben Jung und Alt die Möglichkeit im Café des Integrativen Mehrgenerationen Quartiers in der Schützenstraße 127 (neben der St. Pius-Kirche) bei Kaffee und Kuchen miteinander ins Gespräch zu kommen und gemeinsam eine gute Zeit zu verbringen. \nDas Caféangebot  ist kostenlos – eine Anmeldung ist nicht erforderlich. \nDie Pfarrei Bad Neuenahr-Ahrweiler lädt in Kooperation mit der Fluthilfe des Caritasverbandes Rhein-Mosel-Ahr e. V. und des Malteserhilfsdienstes hierzu herzlich ein.
URL:https://pfarrei-bnaw.de/event/pius-cafe/
LOCATION:St. Pius\, Schützenstraße 125\, Bad Neuenahr-Ahrweiler\, Rheinland-Pfalz\, 53474\, Deutschland
ATTACH;FMTTYPE=image/jpeg:https://pfarrei-bnaw.de/wp-content/uploads/2023/11/Pius1.jpg
END:VEVENT
BEGIN:VEVENT
DTSTART;TZID=Europe/Berlin:20250521T150000
DTEND;TZID=Europe/Berlin:20250521T170000
DTSTAMP:20260423T204745
CREATED:20250513T035040Z
LAST-MODIFIED:20250513T035149Z
UID:12513-1747839600-1747846800@pfarrei-bnaw.de
SUMMARY:Kirchdaun: Oldies-Treff  
DESCRIPTION:Oldies-Treff in Kirchdaun\nAm Mittwoch\, 21. Mai um 15 Uhr\, wird in Kirchdaun eine Messe für Oldies und alle\, die es einmal werden wollen gefeiert. Im Anschluss sind alle Oldies ab 65+ ganz herzlich zu Kaffee und Kuchen\, Bier oder Wein ins Bürgerhaus einladen. Kuchenspenden und Mithilfe sind erwünscht! Zwecks Organisation von beidem bitte bei Hanni Küpper melden (Tel. 0171/5448384)
URL:https://pfarrei-bnaw.de/event/kirchdaun-oldies-treff/
LOCATION:St. Lambertus\, Kirchdaun
END:VEVENT
BEGIN:VEVENT
DTSTART;TZID=Europe/Berlin:20250523T160000
DTEND;TZID=Europe/Berlin:20250523T180000
DTSTAMP:20260423T204745
CREATED:20250305T213953Z
LAST-MODIFIED:20250305T213953Z
UID:11841-1748016000-1748023200@pfarrei-bnaw.de
SUMMARY:St. Laurentius: Jugendtreff
DESCRIPTION:Freitag ist Jugendtreff \nAlle Messdiener*innen\, Kinder und Jugendliche unserer Pfarrei sind eingeladen sich freitags von 16 bis 18 Uhr im Jugendraum im Pfarrheim Ahrweiler (Marktplatz 13) zu treffen. Ausgebildete Gruppenleiter*innen bieten Spiel und Spaß und unterstützen bei der Umsetzung eigener Ideen. \nDie nächsten Termine sind: 23. Mai / 20. Juni
URL:https://pfarrei-bnaw.de/event/st-laurentius-jugendtreff-4/
LOCATION:Pfarrheim Ahrweiler\, Laurentiussaal\, Ahrweiler\, RLP\, 53474\, Deutschland
END:VEVENT
BEGIN:VEVENT
DTSTART;TZID=Europe/Berlin:20250525T180000
DTEND;TZID=Europe/Berlin:20250525T200000
DTSTAMP:20260423T204745
CREATED:20250513T035312Z
LAST-MODIFIED:20250513T035312Z
UID:12515-1748196000-1748203200@pfarrei-bnaw.de
SUMMARY:"… und wieder bringt ein Tag für uns ein Licht" -  Benefizkonzert in der St. Anna-Kapelle in Bachem  
DESCRIPTION:„… und wieder bringt ein Tag für uns ein Licht“ –  Benefizkonzert in der St. Anna-Kapelle in Bachem\nDer Kapellenverein Bachem e.V. plant auch 2025 wieder eine Konzertreihe in St. Anna Bachem. Am Sonntag\, 25. Mai um 18.00 Uhr spielt das Ensemble Aga+. In der Pause besteht die Möglichkeit sich im Kapellengarten beim Winzerausschank vom Weingut Stefan Kurth zu erfrischen und das ein oder andere angeregte Gespräch zu führen. Der Eintritt ist frei\, der Kapellenverein Bachem e. V. bittet um Spenden für seine verschiedenen Projekte.
URL:https://pfarrei-bnaw.de/event/und-wieder-bringt-ein-tag-fuer-uns-ein-licht-benefizkonzert-in-der-st-anna-kapelle-in-bachem/
LOCATION:St. Anna\, Bachem
END:VEVENT
BEGIN:VEVENT
DTSTART;TZID=Europe/Berlin:20250527T173000
DTEND;TZID=Europe/Berlin:20250527T183000
DTSTAMP:20260423T204745
CREATED:20250516T125918Z
LAST-MODIFIED:20250516T130521Z
UID:12528-1748367000-1748370600@pfarrei-bnaw.de
SUMMARY:kfd: Bittprozessionen vor Christi Himmelfahrt 
DESCRIPTION:Die Bittprozession der kfd St. Laurentius ist am Dienstag\, den 27. Mai um 17:30 Uhr. Nach dem Treffen vor der Kirche geht es über die Jakob-Rausch-Straße zum Niedertor und durch den Wallgraben zurück zur Feier der Abendmesse in der Zehntscheune. Witterungsbedingte Änderungen sind möglich.
URL:https://pfarrei-bnaw.de/event/kfz-bittprozessionen-vor-christi-himmelfahrt/
END:VEVENT
BEGIN:VEVENT
DTSTART;TZID=Europe/Berlin:20250528T180000
DTEND;TZID=Europe/Berlin:20250528T200000
DTSTAMP:20260423T204745
CREATED:20250516T130127Z
LAST-MODIFIED:20250516T130127Z
UID:12530-1748455200-1748462400@pfarrei-bnaw.de
SUMMARY:kfd: Bittprozession vor Christi Himmelfahrt
DESCRIPTION:Eine weitere Bittprozession der kfd St. Laurentius ist am Mittwoch\, 28. Mai um 18:00 Uhr ab St. Josef in Walporzheim. Im Anschluss ist eine Wortgottesfeier zu Christi Himmelfahrt in der St. Josef-Kapelle.
URL:https://pfarrei-bnaw.de/event/kfd-bittprozession-vor-christi-himmelfahrt/
END:VEVENT
BEGIN:VEVENT
DTSTART;VALUE=DATE:20250529
DTEND;VALUE=DATE:20250602
DTSTAMP:20260423T204745
CREATED:20250207T130353Z
LAST-MODIFIED:20250207T130408Z
UID:11618-1748476800-1748822399@pfarrei-bnaw.de
SUMMARY:Familienpastoral: Himmelfahrtskommando
DESCRIPTION:Arche-Typen \nHimmelfahrtskommando im Haus Arche Noah \nFamilienfreizeit – Donnerstag\, 29.05. bis Sonntag. 01.06.25
URL:https://pfarrei-bnaw.de/event/familienpastoral/
END:VEVENT
BEGIN:VEVENT
DTSTART;TZID=Europe/Berlin:20250531T110000
DTEND;TZID=Europe/Berlin:20250531T170000
DTSTAMP:20260423T204745
CREATED:20250529T094130Z
LAST-MODIFIED:20250529T094130Z
UID:12624-1748689200-1748710800@pfarrei-bnaw.de
SUMMARY:St. Barbara: Haussammlung
DESCRIPTION:Fronleichnam in Ramersbach\nIn Vorbereitung auf Fronleichnams -Prozession in Ramersbach am Sonntag\, 15. Juni findet am Samstag\, 31. Mai ab 11:00 Uhr eine Haussammlung statt\, mit deren Erlös der Blumenschmuck und die Ausgestaltung der Prozession finanziert werden soll.
URL:https://pfarrei-bnaw.de/event/st-barbara-haussammlung/
LOCATION:St. Barbara\, Ramersbach
END:VEVENT
END:VCALENDAR