BEGIN:VCALENDAR
VERSION:2.0
PRODID:-//Pfarrei Bad Neuenahr-Ahrweiler - ECPv6.15.20//NONSGML v1.0//EN
CALSCALE:GREGORIAN
METHOD:PUBLISH
X-ORIGINAL-URL:https://pfarrei-bnaw.de
X-WR-CALDESC:Veranstaltungen für Pfarrei Bad Neuenahr-Ahrweiler
REFRESH-INTERVAL;VALUE=DURATION:PT1H
X-Robots-Tag:noindex
X-PUBLISHED-TTL:PT1H
BEGIN:VTIMEZONE
TZID:Europe/Berlin
BEGIN:DAYLIGHT
TZOFFSETFROM:+0100
TZOFFSETTO:+0200
TZNAME:CEST
DTSTART:20240331T010000
END:DAYLIGHT
BEGIN:STANDARD
TZOFFSETFROM:+0200
TZOFFSETTO:+0100
TZNAME:CET
DTSTART:20241027T010000
END:STANDARD
BEGIN:DAYLIGHT
TZOFFSETFROM:+0100
TZOFFSETTO:+0200
TZNAME:CEST
DTSTART:20250330T010000
END:DAYLIGHT
BEGIN:STANDARD
TZOFFSETFROM:+0200
TZOFFSETTO:+0100
TZNAME:CET
DTSTART:20251026T010000
END:STANDARD
BEGIN:DAYLIGHT
TZOFFSETFROM:+0100
TZOFFSETTO:+0200
TZNAME:CEST
DTSTART:20260329T010000
END:DAYLIGHT
BEGIN:STANDARD
TZOFFSETFROM:+0200
TZOFFSETTO:+0100
TZNAME:CET
DTSTART:20261025T010000
END:STANDARD
END:VTIMEZONE
BEGIN:VEVENT
DTSTART;VALUE=DATE:20250529
DTEND;VALUE=DATE:20250602
DTSTAMP:20260423T222747
CREATED:20250207T130353Z
LAST-MODIFIED:20250207T130408Z
UID:11618-1748476800-1748822399@pfarrei-bnaw.de
SUMMARY:Familienpastoral: Himmelfahrtskommando
DESCRIPTION:Arche-Typen \nHimmelfahrtskommando im Haus Arche Noah \nFamilienfreizeit – Donnerstag\, 29.05. bis Sonntag. 01.06.25
URL:https://pfarrei-bnaw.de/event/familienpastoral/
END:VEVENT
BEGIN:VEVENT
DTSTART;TZID=Europe/Berlin:20250601T110000
DTEND;TZID=Europe/Berlin:20250601T130000
DTSTAMP:20260423T222747
CREATED:20250516T125433Z
LAST-MODIFIED:20250516T130444Z
UID:12525-1748775600-1748782800@pfarrei-bnaw.de
SUMMARY:St. Laurentius: Kinderkirche
DESCRIPTION:Kinderkirche\nAm Sonntag\, 01. Juni jeweils um 11:00 Uhr sind Kinder zwischen drei und acht Jahren während der Heiligen Messe in der Zehntscheuer in Ahrweiler zur Kinderkirche eingeladen.
URL:https://pfarrei-bnaw.de/event/st-laurentius-kinderkirche-5/
LOCATION:Zehntscheuer\, Marktplatz 13\, Ahrweiler\, RLP\, 53474\, Deutschland
END:VEVENT
BEGIN:VEVENT
DTSTART;TZID=Europe/Berlin:20250608T110000
DTEND;TZID=Europe/Berlin:20250608T120000
DTSTAMP:20260423T222747
CREATED:20250529T094329Z
LAST-MODIFIED:20250529T094401Z
UID:12626-1749380400-1749384000@pfarrei-bnaw.de
SUMMARY:Calvarienberg: Kinderkirche
DESCRIPTION:Kinderkirche in Ahrweiler\nAm Sonntag\, 8. Juni sind Kinder zwischen drei und acht Jahren während der Heiligen Messe in der Klosterkirche Calvarienberg zur Kinderkirche eingeladen.
URL:https://pfarrei-bnaw.de/event/calvarienberg-kinderkirche/
LOCATION:Klosterkirche Calvarienberg\, Ahrweiler
END:VEVENT
BEGIN:VEVENT
DTSTART;TZID=Europe/Berlin:20250609T180000
DTEND;TZID=Europe/Berlin:20250609T203000
DTSTAMP:20260423T222747
CREATED:20250602T073338Z
LAST-MODIFIED:20250606T122909Z
UID:12648-1749492000-1749501000@pfarrei-bnaw.de
SUMMARY:Start in die Pfingstwoche: Wunderzeit mit Vogelkonzert 
DESCRIPTION:„Wunderzeiten“ in der Schöpfung – das ist ein neues Gottesdienstformat\, das Gott in der Erhabenheit der Natur entdecken will\, in der Schönheit\, der Vielfalt\, der Einzigartigkeit dieser Welt – alles Staunen\, Danken und Bitten bündelt eine lebendige Brotfeier.\nAm Pfingstmontag\, dem 9. Juni startet um 18:00 Uhr ab Parkplatz oberhalb Hotel Hohenzollern\, 53474 Bad Neuenahr-Ahrweiler der Rundgang mit ornithologischen Erläuterungen über ca. 5 km durch Weinberge und Höhen mit tollem Ausblick auf das Tal. Den Abschluss bildet eine kleine gemeinsame Brotfeier vor einer Weinbergshütte\, gefolgt von einem gemütlichen Imbiss (Rucksackverpflegung\, Getränke werden gestellt\, gegen Spende) Ende ca. 20:30 Uhr.\nMit den Vögeln gemeinsam die Festtage zu beenden und in die Pfingstwoche zu starten\, lädt diese „Wunderzeit“ ein! Der Rundgang ist als “anderes Abendlob” gestaltet. Dabei tauchen die TeilnehmerInnen in den abendlichen Gesang der Vögel ein und können in dem Vielklang der unterschiedlichen Stimmen baden.\nDank der Begleitung eines versierten Ornithologen gibt es auch die einzigartige Gelegenheit kennenzulernen\, wer da zwitschert und etwas über die gefiederten Gesellen zu erfahren.\nKostenfrei! Um Voranmeldung wird gebeten. Infos\, Anmeldung\, Rückfragen: Pastoraler Raum Bad Neuenahr-Ahrweiler – Markus Hartmann\, 0171-182 7107
URL:https://pfarrei-bnaw.de/event/start-in-die-pfingstwoche-wunderzeit-mit-vogelkonzert/
END:VEVENT
BEGIN:VEVENT
DTSTART;TZID=Europe/Berlin:20250612T150000
DTEND;TZID=Europe/Berlin:20250612T170000
DTSTAMP:20260423T222747
CREATED:20250606T123042Z
LAST-MODIFIED:20250606T123154Z
UID:12671-1749740400-1749747600@pfarrei-bnaw.de
SUMMARY:Beisammensein auf der Landskrone 
DESCRIPTION:„Auszeit“ – Meditation – Beten – Singen – Stille – Beisammensein auf der Landskrone\nHerzliche Einladung zur monatlichen Andacht in der Maria Hilf-Kapelle auf der Landskrone an jedem dritten Donnerstag um 15.00 Uhr von März bis Oktober. Der nächste Termin ist am 12. Juni.
URL:https://pfarrei-bnaw.de/event/beisammensein-auf-der-landskrone/
LOCATION:Kapelle Landskrone
END:VEVENT
BEGIN:VEVENT
DTSTART;TZID=Europe/Berlin:20250613T190000
DTEND;TZID=Europe/Berlin:20250613T213000
DTSTAMP:20260423T222747
CREATED:20250602T073435Z
LAST-MODIFIED:20250606T123232Z
UID:12650-1749841200-1749850200@pfarrei-bnaw.de
SUMMARY:Taizé-Sommernacht  
DESCRIPTION:Sommerbeginn\, Ausruhen\, Verweilen – Herzliche Einladung am Freitag\, 13. Juni um 19 Uhr zur Taizé-Sommernacht im Pfarrgarten in Ahrweiler (bei Regen: in der Zehntscheuer).\nLieder – Impulse – Stille. Anschließend geselliges Beisammensein. Getränke werden gegen Spende bereitgestellt. Speisen zum Teilen bitte mitbringen.\nWir freuen uns auf die 2. Taizé-Sommernacht! Team Nightfever und Taizé-Chor +
URL:https://pfarrei-bnaw.de/event/taize-sommernacht-2/
ATTACH;FMTTYPE=image/jpeg:https://pfarrei-bnaw.de/wp-content/uploads/2025/06/Plakat-Taize-Sommernacht-2025.jpg
END:VEVENT
BEGIN:VEVENT
DTSTART;TZID=Europe/Berlin:20250614T100000
DTEND;TZID=Europe/Berlin:20250614T120000
DTSTAMP:20260423T222747
CREATED:20250606T123413Z
LAST-MODIFIED:20250606T123413Z
UID:12675-1749895200-1749902400@pfarrei-bnaw.de
SUMMARY:Lachen\, Staunen und Entdecken: Kinder-Treff mit Clown Lefti in der Bücherei  
DESCRIPTION:In der Bücherei St. Laurentius Ahrweiler findet am Samstag\, den 14. Juni von 10:00 bis 12:00 Uhr der nächste Kinder-Treff statt.  Dort wartet neben Bastelangeboten\, Büchern und Spielen eine ganz besondere Überraschung!\nAls Gast hat sich vor der Sommerpause Clown Lefti angekündigt. Er wird kleine und große Gäste mit seiner Improvisations-Show verzaubern.\nDieses Angebot findet in Kooperation mit der kath. Familienbildungsstätte Bad Neuenahr-Ahrweiler und der finanziellen Unterstützung des Caritas Fluthilfe Fonds statt. Die Kinder können entweder allein teilnehmen oder auch in Begleitung. Das Angebot ist kostenfrei\, eine Anmeldung ist nicht erforderlich. Erika Heinen\, Anne Weller und das Team der Bücherei freuen sich auf viele kleine Teilnehmerinnen und Teilnehmer\, und natürlich besonders auf Clown Lefti.
URL:https://pfarrei-bnaw.de/event/lachen-staunen-und-entdecken-kinder-treff-mit-clown-lefti-in-der-buecherei/
LOCATION:Pfarrbücherei Ahrweiler\, Ahrweiler\, RLP\, 53474\, Deutschland
ATTACH;FMTTYPE=image/jpeg:https://pfarrei-bnaw.de/wp-content/uploads/2025/05/1.jpg
END:VEVENT
BEGIN:VEVENT
DTSTART;TZID=Europe/Berlin:20250614T170000
DTEND;TZID=Europe/Berlin:20250614T200000
DTSTAMP:20260423T222747
CREATED:20250606T124014Z
LAST-MODIFIED:20250606T124014Z
UID:12683-1749920400-1749931200@pfarrei-bnaw.de
SUMMARY:St. Martin: Fronleichnam
DESCRIPTION:Heppingen am Samstag\, 14. Juni  \n17:00 Uhr Festhochamt zu Fronleichnam in St. Martin\nEin Blütenteppich wird während der Messe auf dem Kirchenvorplatz gelegt.\nDas Vorbereitungsteam hofft auf die Mithilfe von möglichst vielen Kindern\, die herzlich eingeladen sind auch selbst Blüten mitzubringen!\nAnschl. Fronleichnamsprozession über Landskroner Straße\, Martinusstraße und Quellenstraße zum Altar in der Havinganstraße. Von dort dann wieder über die Landskroner Straße zurück zu Abschluss und Segen in der Kirche.
URL:https://pfarrei-bnaw.de/event/st-martin-fronleichnam/
LOCATION:St. Martin\, Heppingen
END:VEVENT
BEGIN:VEVENT
DTSTART;TZID=Europe/Berlin:20250615T093000
DTEND;TZID=Europe/Berlin:20250615T110000
DTSTAMP:20260423T222747
CREATED:20250606T124101Z
LAST-MODIFIED:20250606T124101Z
UID:12685-1749979800-1749985200@pfarrei-bnaw.de
SUMMARY:St. Barbara: Fronleichnam
DESCRIPTION:Ramersbach am Sonntag\, 15. Juni  \n09:30 Uhr Festhochamt zu Fronleichnam in St. Barbara\nanschl. Fronleichnamsprozession zu den Altären am Steiner Kreuz\, Heckenbacher Straße und Kapelle an der Kirche. Abschluss und Segen in der Kirche.
URL:https://pfarrei-bnaw.de/event/st-barbara-fronleichnam/
LOCATION:St. Barbara\, Ramersbach
END:VEVENT
BEGIN:VEVENT
DTSTART;TZID=Europe/Berlin:20250615T180000
DTEND;TZID=Europe/Berlin:20250615T200000
DTSTAMP:20260423T222747
CREATED:20250606T123656Z
LAST-MODIFIED:20250606T123656Z
UID:12679-1750010400-1750017600@pfarrei-bnaw.de
SUMMARY:St. Anna: Benefizkonzert - "… und wieder bringt ein Tag für uns ein Licht"
DESCRIPTION:Am Sonntag\, 15. Juni um 18.00 Uhr spielt das Ensemble Rondo Vocal. Die fünf Barden aus Grafschaft-Bölingen sehen sich unter dem Motto „A capella-Musik für Alle“ in einer langen Tradition von Männervokalensemble verschiedener Stilrichtungen. Sehr abwechslungsreich durch unterschiedliche Musikstile aus den Bereichen Evergreens\, Pop\, Rock Folk und Swing; heiter\, besinnlich\, gefühlvoll und rockig – gewürzt mit humorvoller Moderation.\nIn der Pause besteht die Möglichkeit sich im Kapellengarten beim Winzerausschank vom Weingut Stefan Kurth zu erfrischen und das ein oder andere angeregte Gespräch zu führen. Der Eintritt ist frei\, der Kapellenverein Bachem e. V. bittet um Spenden für seine verschiedenen Projekte.
URL:https://pfarrei-bnaw.de/event/st-anna-benefizkonzert-und-wieder-bringt-ein-tag-fuer-uns-ein-licht/
LOCATION:St. Anna\, Bachem
END:VEVENT
BEGIN:VEVENT
DTSTART;TZID=Europe/Berlin:20250617T143000
DTEND;TZID=Europe/Berlin:20250617T163000
DTSTAMP:20260423T222747
CREATED:20250618T123226Z
LAST-MODIFIED:20250618T123226Z
UID:12754-1750170600-1750177800@pfarrei-bnaw.de
SUMMARY:“Pius-Café“  
DESCRIPTION:Am Dienstag\, 17. Juni von 14:30 bis 16:30 Uhr haben Jung und Alt die Möglichkeit im Café des Integrativen Mehrgenerationen Quartiers (Schützenstr. 127) (neben der St. Pius-Kirche) bei Kaffee und Kuchen miteinander ins Gespräch zu kommen und gemeinsam eine gute Zeit zu verbringen. Das Caféangebot ist kostenlos – eine Anmeldung ist nicht erforderlich.
URL:https://pfarrei-bnaw.de/event/pius-cafe-2/
LOCATION:St. Pius\, Schützenstraße 125\, Bad Neuenahr-Ahrweiler\, Rheinland-Pfalz\, 53474\, Deutschland
END:VEVENT
BEGIN:VEVENT
DTSTART;TZID=Europe/Berlin:20250619T083000
DTEND;TZID=Europe/Berlin:20250619T120000
DTSTAMP:20260423T222747
CREATED:20250606T124158Z
LAST-MODIFIED:20250606T124158Z
UID:12687-1750321800-1750334400@pfarrei-bnaw.de
SUMMARY:St. Laurentius: Fronleichnam
DESCRIPTION:Ahrweiler am Donnerstag\, 19. Juni \n08:30 Uhr Festhochamt zu Fronleichnam auf dem Marktplatz\n(Bitte beachten Sie\, dass nur wenige Sitzplätze vorhanden sind!) \nanschl. Fronleichnamsprozession: Marktplatz – Ahrhutstraße – 1. Altar am Ahrtor – Friedrichstraße – 2. Altar am Niedertor – Sebastianuswall – Jakob-Rausch-Straße – Adenbachhutstraße – 3. Altar am Adenbachtor – Alveradisstraße – 4. Altar am Obertor – Oberhutstraße – Abschluss und Segen auf dem Marktplatz\n    Die Vorbeter*innen und die Träger der Lautsprecher treffen sich nach dem Gottesdienst am Hauptportal der St. Laurentius-Kirche. Alle Vorbeter*innen\, die in kleinen Gruppen die Prozession unterstützen wollen\, werden gebeten\, sich wie in den Vorjahren nach dem Gottesdienst am Südportal zu versammeln\, wo die Gebetshefte ausgeteilt werden.\nWer auch immer Lust hat\, diesen Dienst zu übernehmen\, möge dorthin kommen.
URL:https://pfarrei-bnaw.de/event/st-laurentius-fronleichnam/
LOCATION:St. Laurentius
END:VEVENT
BEGIN:VEVENT
DTSTART;TZID=Europe/Berlin:20250619T093000
DTEND;TZID=Europe/Berlin:20250619T110000
DTSTAMP:20260423T222747
CREATED:20250606T124308Z
LAST-MODIFIED:20250606T124308Z
UID:12689-1750325400-1750330800@pfarrei-bnaw.de
SUMMARY:Rosenkranz: Fronleichnam
DESCRIPTION:Bad Neuenahr am Donnerstag\, 19. Juni  \n09:30 Uhr Festhochamt zu Fronleichnam im Kurpark\nmit anschl. Fronleichnamsprozession durch den Kurpark und Dahliengarten – Altar an der Hemmesser Kapelle – über die Sebastianstraße und Hauptstraße zur Rosenkranzkirche – Abschluss und Segen\nIm Anschluss sind alle zu Kaffee und Kuchen ins Sängerheim des MFC neben der Rosenkranzkirche eingeladen.
URL:https://pfarrei-bnaw.de/event/rosenkranz-fronleichnam/
LOCATION:Bad Neuenahr\, Wird noch bekannt gegeben!
END:VEVENT
BEGIN:VEVENT
DTSTART;TZID=Europe/Berlin:20250619T110000
DTEND;TZID=Europe/Berlin:20250619T130000
DTSTAMP:20260423T222747
CREATED:20250606T124355Z
LAST-MODIFIED:20250606T124355Z
UID:12691-1750330800-1750338000@pfarrei-bnaw.de
SUMMARY:St. Mauritius: Fronleichnam
DESCRIPTION:Heimersheim am Donnerstag\, 19. Juni \n11:00 Uhr Festhochamt zu Fronleichnam in St. Mauritius
URL:https://pfarrei-bnaw.de/event/st-mauritius-fronleichnam/
LOCATION:St. Mauritius\, Heimersheim
END:VEVENT
BEGIN:VEVENT
DTSTART;TZID=Europe/Berlin:20250620T160000
DTEND;TZID=Europe/Berlin:20250620T180000
DTSTAMP:20260423T222747
CREATED:20250305T214209Z
LAST-MODIFIED:20250305T214209Z
UID:11843-1750435200-1750442400@pfarrei-bnaw.de
SUMMARY:St. Laurentius: Jugendtreff
DESCRIPTION:Freitag ist Jugendtreff \nAlle Messdiener*innen\, Kinder und Jugendliche unserer Pfarrei sind eingeladen sich freitags von 16 bis 18 Uhr im Jugendraum im Pfarrheim Ahrweiler (Marktplatz 13) zu treffen. Ausgebildete Gruppenleiter*innen bieten Spiel und Spaß und unterstützen bei der Umsetzung eigener Ideen. \nDie nächsten Termine sind: 20. Juni
URL:https://pfarrei-bnaw.de/event/st-laurentius-jugendtreff-5/
LOCATION:Pfarrheim Ahrweiler\, Laurentiussaal\, Ahrweiler\, RLP\, 53474\, Deutschland
END:VEVENT
BEGIN:VEVENT
DTSTART;TZID=Europe/Berlin:20250621T183000
DTEND;TZID=Europe/Berlin:20250621T203000
DTSTAMP:20260423T222747
CREATED:20250606T124450Z
LAST-MODIFIED:20250606T124450Z
UID:12693-1750530600-1750537800@pfarrei-bnaw.de
SUMMARY:St. Pius / St. Anna: Fronleichnam
DESCRIPTION:Bachem (St. Pius) am Samstag\, 21. Juni \n18:30 Uhr Festhochamt zu Fronleichnam in St. Anna\, Bachem\nmit anschl. Fronleichnamsprozession durch die Annastraße zur St. Leonardus-Kapelle.\nIm Anschluss Ausklang und kleiner Umtrunk im Bachemer Backes.
URL:https://pfarrei-bnaw.de/event/st-pius-st-anna-fronleichnam/
LOCATION:St. Anna\, Bachem
END:VEVENT
BEGIN:VEVENT
DTSTART;TZID=Europe/Berlin:20250622T093000
DTEND;TZID=Europe/Berlin:20250622T110000
DTSTAMP:20260423T222747
CREATED:20250606T124616Z
LAST-MODIFIED:20250606T124616Z
UID:12695-1750584600-1750590000@pfarrei-bnaw.de
SUMMARY:St. Lambertus: Fronleichnam
DESCRIPTION:Kirchdaun am Sonntag\, 22 Juni\n09:30 Uhr Festhochamt zu Fronleichnam in St. Lambertus
URL:https://pfarrei-bnaw.de/event/st-lambertus-fronleichnam/
LOCATION:St. Lambertus\, Kirchdaun
END:VEVENT
BEGIN:VEVENT
DTSTART;TZID=Europe/Berlin:20250622T100000
DTEND;TZID=Europe/Berlin:20250622T130000
DTSTAMP:20260423T222747
CREATED:20250606T123525Z
LAST-MODIFIED:20250606T123525Z
UID:12677-1750586400-1750597200@pfarrei-bnaw.de
SUMMARY:Antoniuswallfahrt
DESCRIPTION:Antoniuswallfahrt am Sonntag\, 22. Juni um 10:00 Uhr ab Kloster Calvarienberg/Mönchstor und ab 09:45 Uhr ab St. Barbara\, Ramersbach. Die gemeinsame Andacht an der Antoniuskapelle findet um ca. 11:00 Uhr statt.
URL:https://pfarrei-bnaw.de/event/antoniuswallfahrt-2/
ATTACH;FMTTYPE=image/jpeg:https://pfarrei-bnaw.de/wp-content/uploads/2025/06/Antonius.jpg
END:VEVENT
END:VCALENDAR