BEGIN:VCALENDAR
VERSION:2.0
PRODID:-//Pfarrei Bad Neuenahr-Ahrweiler - ECPv6.15.20//NONSGML v1.0//EN
CALSCALE:GREGORIAN
METHOD:PUBLISH
X-ORIGINAL-URL:https://pfarrei-bnaw.de
X-WR-CALDESC:Veranstaltungen für Pfarrei Bad Neuenahr-Ahrweiler
REFRESH-INTERVAL;VALUE=DURATION:PT1H
X-Robots-Tag:noindex
X-PUBLISHED-TTL:PT1H
BEGIN:VTIMEZONE
TZID:Europe/Berlin
BEGIN:DAYLIGHT
TZOFFSETFROM:+0100
TZOFFSETTO:+0200
TZNAME:CEST
DTSTART:20240331T010000
END:DAYLIGHT
BEGIN:STANDARD
TZOFFSETFROM:+0200
TZOFFSETTO:+0100
TZNAME:CET
DTSTART:20241027T010000
END:STANDARD
BEGIN:DAYLIGHT
TZOFFSETFROM:+0100
TZOFFSETTO:+0200
TZNAME:CEST
DTSTART:20250330T010000
END:DAYLIGHT
BEGIN:STANDARD
TZOFFSETFROM:+0200
TZOFFSETTO:+0100
TZNAME:CET
DTSTART:20251026T010000
END:STANDARD
BEGIN:DAYLIGHT
TZOFFSETFROM:+0100
TZOFFSETTO:+0200
TZNAME:CEST
DTSTART:20260329T010000
END:DAYLIGHT
BEGIN:STANDARD
TZOFFSETFROM:+0200
TZOFFSETTO:+0100
TZNAME:CET
DTSTART:20261025T010000
END:STANDARD
END:VTIMEZONE
BEGIN:VEVENT
DTSTART;TZID=Europe/Berlin:20250702T150000
DTEND;TZID=Europe/Berlin:20250702T170000
DTSTAMP:20260423T234640
CREATED:20250629T105054Z
LAST-MODIFIED:20250629T105054Z
UID:12776-1751468400-1751475600@pfarrei-bnaw.de
SUMMARY:Heppingen: Seniorenmesse  
DESCRIPTION:Am Mittwoch\, 2. Juli wird um 15:00 Uhr eine Seniorenmesse gefeiert. Der anschl. Kaffee entfällt. Das Team macht im Juli und August Sommerpause.
URL:https://pfarrei-bnaw.de/event/heppingen-seniorenmesse-2/
LOCATION:St. Martin\, Heppingen
END:VEVENT
BEGIN:VEVENT
DTSTART;TZID=Europe/Berlin:20250704T103000
DTEND;TZID=Europe/Berlin:20250704T180000
DTSTAMP:20260423T234640
CREATED:20250516T130234Z
LAST-MODIFIED:20250629T105004Z
UID:12532-1751625000-1751652000@pfarrei-bnaw.de
SUMMARY:100% Schokolade  - kfd Rosenkranz on tour!  
DESCRIPTION:Es sind noch Plätze frei – 100% Schokolade – kfd Rosenkranz on tour! \nDie kfd Rosenkranz lädt endlich wieder ein zu ihrer Jahresfahrt und es heißt wieder kfd Rosenkranz on tour!\nDie Abfahrt ist am Freitag\, 04. Juli 2025 um 10:30 Uhr am alten Pfarrhaus in der Weststraße in Bad Neuenahr. Die Fahrt führt nach Köln. Dort angekommen gibt es im Augustiner am Heumarkt Mittagessen.\nAnschließend erwartet die Teilnehmenden eine fachkundige Führung im Schokoladenmuseum bei 100% Schokolade. Weiter geht es ins Scheunenkaffee nach Hilberath\, wo der Ausflug bei Kaffee und Kuchen gemütlich ausklingen kann. Ca. gegen 18:00 Uhr wird der Bus wieder in Bad Neuenahr zurück sein.\nKostenbeitrag: für Mitglieder 33\,00 Euro / für Nichtmitglieder 36\,00 Euro\nDarin enthalten sind die Busfahrt\, der Eintritt und die Führung im Schokoladenmuseum.\nDas Mittagessen im Augustiner Bräu und Scheunenkaffe Hilberath geht auf eigene Kosten.\nAnmeldungen telefonisch im Pfarrbüro unter 02641-34737\nBitte entrichten Sie den Fahrpreis im Reisebus.
URL:https://pfarrei-bnaw.de/event/100-schokolade-kfd-rosenkranz-on-tour/
END:VEVENT
BEGIN:VEVENT
DTSTART;TZID=Europe/Berlin:20250705T143000
DTEND;TZID=Europe/Berlin:20250705T173000
DTSTAMP:20260423T234640
CREATED:20250618T123605Z
LAST-MODIFIED:20250618T123605Z
UID:12757-1751725800-1751736600@pfarrei-bnaw.de
SUMMARY:Ins Reich der Schmetterlinge 
DESCRIPTION:Am Samstag\, 5. Juli von 14.30 Uhr bis ca. 17.30 Uhr lädt die Katholische Erwachsenenbildung (KEB) ein zu einer Führung durch den Schmetterlingsgarten in Bendorf-Sayn und zu einem anschließenden Picknick im Schlossgarten\, bei dem nach heimischen Schmetterlingen Ausschau gehalten werden kann. Schmetterlinge\, die vermutlich beliebtesten Insekten\, werden leider wie die meisten Insekten seltener. Welche Arten es bei uns gibt und was sie zum Überleben brauchen\, darum wird es beim Picknick in jedem Fall gehen\, ob sie nun vorbeifliegen oder nicht. Den Eintritt in den Schmetterlingsgarten zahlen die Teilnehmenden selbst nach dem für sie jeweils geltenden Tarif\, die Kosten für die Führung übernimmt die KEB. Das Picknick wird selbst mitgebracht.\nWeitere Informationen und Anmeldung unter https://kurzlinks.de/102785_TSSCH\, unter 0261/9635590 oder 0651/993724-21
URL:https://pfarrei-bnaw.de/event/ins-reich-der-schmetterlinge/
END:VEVENT
BEGIN:VEVENT
DTSTART;TZID=Europe/Berlin:20250706T110000
DTEND;TZID=Europe/Berlin:20250706T123000
DTSTAMP:20260423T234640
CREATED:20250629T105305Z
LAST-MODIFIED:20250629T105305Z
UID:12780-1751799600-1751805000@pfarrei-bnaw.de
SUMMARY:Ahrweiler: Fahrzeugsegnung
DESCRIPTION:Fahrzeugsegnung auf dem Marktplatz in Ahrweiler – Schutz und Segen für unterwegs\nNach der Messe am Sonntag\, den 6. Juli um 11:00 Uhr in der Zehntscheuer findet auf dem Marktplatz in Ahrweiler die traditionelle Fahrzeugsegnung vor den Sommerferien statt.\nGesegnet werden PKW\, Motorräder\, Fahrräder sowie deren Fahrerinnen und Fahrern – ein sichtbares Zeichen für den Wunsch nach Sicherheit und Gottes Schutz auf allen Wegen.
URL:https://pfarrei-bnaw.de/event/ahrweiler-fahrzeugsegnung/
LOCATION:Marktplatz 13\, 53474\, Ahrweiler\, hinter dem Pfarrhaus
END:VEVENT
BEGIN:VEVENT
DTSTART;TZID=Europe/Berlin:20250706T153000
DTEND;TZID=Europe/Berlin:20250706T170000
DTSTAMP:20260423T234640
CREATED:20250529T094506Z
LAST-MODIFIED:20250629T105426Z
UID:12628-1751815800-1751821200@pfarrei-bnaw.de
SUMMARY:Gemeinsam…Gottesdienst 
DESCRIPTION:Gemeinsam…Gottesdienst\n\nAm Sonntag\, dem 6. Juli gibt es ab 15:30 Uhr das Willkommen bei Kaffee und einem Stückchen Kuchen im evangelischen Gemeindehaus in der Wolfgang-Müller-Straße\, Bad Neuenahr. Um 16:00 Uhr beginnt der Gottesdienst. Anschließend können die Besucher noch zum Klönen und Spielen beisammenbleiben.\nDiese Begegnungsnachmittage werden jeweils am ersten Sonntag im Monat angeboten.
URL:https://pfarrei-bnaw.de/event/gemeinsamgottesdienst/
LOCATION:St. Pius\, Schützenstraße 125\, Bad Neuenahr-Ahrweiler\, Rheinland-Pfalz\, 53474\, Deutschland
END:VEVENT
BEGIN:VEVENT
DTSTART;TZID=Europe/Berlin:20250708T200000
DTEND;TZID=Europe/Berlin:20250708T210000
DTSTAMP:20260423T234640
CREATED:20250629T105533Z
LAST-MODIFIED:20250629T105533Z
UID:12784-1752004800-1752008400@pfarrei-bnaw.de
SUMMARY:PGR: Öffentliche Sitzung
DESCRIPTION:Öffentliche Sitzung des Pfarrgemeinderates \nAm Dienstag\, 8. Juli 2025 um 20.00 Uhr im Pfarrhaus in Ahrweiler. Die Tagesordnung können Sie bei Interesse auf der Homepage (www.pfarrei-bnaw.de) oder in der Gemeinde APP (http://Kath-kirche-badneuenahr-ahrweiler.zur.app/) einsehen.
URL:https://pfarrei-bnaw.de/event/pgr-oeffentliche-sitzung/
LOCATION:St. Laurentius
END:VEVENT
BEGIN:VEVENT
DTSTART;TZID=Europe/Berlin:20250710T180000
DTEND;TZID=Europe/Berlin:20250710T210000
DTSTAMP:20260423T234640
CREATED:20250707T135107Z
LAST-MODIFIED:20250707T135107Z
UID:12863-1752170400-1752181200@pfarrei-bnaw.de
SUMMARY:kfd Frauenstammtisch: Kaiserinnen und Kurschatten
DESCRIPTION:Bewährter Frauenstammtisch wächst weiter – Neue Termine mit spannenden Highlights:\n\nAm Donnerstag\, 10. Juli 18:00 Uhr steht eine Themenführung in Bad Neuenahr-Ahrweiler auf dem Programm – und zwar mit einer echten Kaiserin! Wer sich dieses besondere Erlebnis nicht entgehen lassen möchte\, wird gebeten\, sich zur besseren Planung unter nadine.kreuser@bistum-trier.de  anzumelden.\n\nSchon jetzt vormerken am 14. August zur Führung durch die wiedereröffnete St. Laurentius Kirche. Im Anschluss ist wieder Zeit für Begegnung\, Gespräche und Austausch in geselliger Runde. Alle interessierten Frauen sind herzlich eingeladen – ob zum ersten Mal dabei oder schon Teil der wachsenden Runde. Die Organisatorinnen freuen sich über reges Interesse.
URL:https://pfarrei-bnaw.de/event/kfd-frauenstammtisch-kaiserinnen-und-kurschatten/
END:VEVENT
BEGIN:VEVENT
DTSTART;TZID=Europe/Berlin:20250712T093000
DTEND;TZID=Europe/Berlin:20250712T113000
DTSTAMP:20260423T234640
CREATED:20250629T105752Z
LAST-MODIFIED:20250707T135301Z
UID:12788-1752312600-1752319800@pfarrei-bnaw.de
SUMMARY:Heppingen: Frauenfrühstück  
DESCRIPTION:Frauenfrühstück in Heppingen \n\nAm Samstag\, 12. Juli findet im Pfarrsaal Heppingen von 9.30 bis 11.30 wieder ein Frühstück für Frauen statt. Weitere Infos bei Bea Danko (02641/204258) oder Ria Lindner (02641/21752).
URL:https://pfarrei-bnaw.de/event/heppingen-frauenfruehstueck-3/
LOCATION:Pfarrsaal Heppingen
END:VEVENT
BEGIN:VEVENT
DTSTART;TZID=Europe/Berlin:20250712T170000
DTEND;TZID=Europe/Berlin:20250712T183000
DTSTAMP:20260423T234640
CREATED:20250629T105648Z
LAST-MODIFIED:20250707T135236Z
UID:12786-1752339600-1752345000@pfarrei-bnaw.de
SUMMARY:Heppingen: Kinderkirche  
DESCRIPTION:Kinderkirche in Heppingen \n\nAm Samstag\, den 12. Juli um 17:00 Uhr im Pfarrsaal Heppingen sind alle Kinder im Alter von 3 bis 8 Jahren aus Heppingen und der Umgebung sind herzlich eingeladen\, sich kreativ auszuleben und die Welt der Bibel kindgerecht zu entdecken. Ob Basteln\, Singen oder Spielen – das Angebot verspricht Spaß und Gemeinschaft.
URL:https://pfarrei-bnaw.de/event/heppingen-kinderkirche/
LOCATION:St. Martin\, Heppingen
END:VEVENT
BEGIN:VEVENT
DTSTART;TZID=Europe/Berlin:20250712T170000
DTEND;TZID=Europe/Berlin:20250712T190000
DTSTAMP:20260423T234640
CREATED:20250714T093211Z
LAST-MODIFIED:20250714T093211Z
UID:12906-1752339600-1752346800@pfarrei-bnaw.de
SUMMARY:St. Martin: Kinderkirche
DESCRIPTION:Kinderkirche in Heppingen \nAm Samstag\, den 12. Juli um 17:00 Uhr im Pfarrsaal Heppingen sind alle Kinder im Alter von 3 bis 8 Jahren aus Heppingen und der Umgebung sind herzlich eingeladen\, sich kreativ auszuleben und die Welt der Bibel kindgerecht zu entdecken. Ob Basteln\, Singen oder Spielen – das Angebot verspricht Spaß und Gemeinschaft.
URL:https://pfarrei-bnaw.de/event/st-martin-kinderkirche/
LOCATION:Pfarrsaal Heppingen
ATTACH;FMTTYPE=image/jpeg:https://pfarrei-bnaw.de/wp-content/uploads/2025/05/Kinderkirche.jpg
END:VEVENT
BEGIN:VEVENT
DTSTART;TZID=Europe/Berlin:20250714T190000
DTEND;TZID=Europe/Berlin:20250714T213000
DTSTAMP:20260423T234640
CREATED:20250707T134859Z
LAST-MODIFIED:20250707T134932Z
UID:12860-1752519600-1752528600@pfarrei-bnaw.de
SUMMARY:Gedenken an das Flutereignis am 14. Juli 2025
DESCRIPTION:Gedenken an das Flutereignis am 14. Juli 2025 – Raum für Erinnerung\, Austausch und stille Verbundenheit\nAm 14. Juli 2025 jährt sich das verheerende Flutereignis im Ahrtal zum vierten Mal. In Erinnerung an diesen Tag wird es um 19:00 Uhr eine zentrale Gedenkfeier im Kurgarten Bad Neuenahrgeben. Um 21:00 Uhr werden für 15 Minuten die Glocken aller Kirchen im Seelsorgebereich Bad Neuenahr-Ahrweiler läuten – als hörbares Zeichen des gemeinsamen Innehaltens und Gedenkens.\nDie Pfarrei Bad Neuenahr-Ahrweiler möchte über die Gedenkfeier hinaus ein Angebot schaffen\, das den Gedanken\, Erinnerungen und Emotionen rund um die Flut Raum gibt. \nGesprächsangebot am Abend des 14. Juli: Zwischen 20:00 und 21:30 Uhr wird es an den Kirchen im Seelsorgebereich einoffenes Gesprächsangebot geben.  Menschen stehen bereit\, um zuzuhören\, stille Begleitung zu schenken und Gedanken Raum zu geben. Es geht dabei nicht um strukturierte Gespräche\, sondern um ein offenes Dasein – für alle\, die an diesem besonderen Abend Nähe und Austausch suchen.\nDie Gesprächsorte im Überblick: St. Josef\, Walporzheim – St. Laurentius\, Ahrweiler – St. Pius\, Ahrweiler –    St. Anna\, Bachem – Hemessener Dom\, Bad Neuenahr – Kurpark\, Bad Neuenahr – Rosenkranzkirche\, Bad Neuenahr – St. Martin\, Heppingen – St. Mauritius\, Heimersheim \nMit diesen Angeboten möchte die Pfarrei bewusst einen geschützten Raum für Erinnern\, Hoffnung und Gemeinschaftschaffen – getragen von der Überzeugung\, dass gemeinsames Erinnern hilft. \nKontakt für Rückfragen: Pfarrbüro Bad Neuenahr-Ahrweiler Telefon: 02641 34737 E-Mail: pfarrei-bnaw@bistum-trier.de
URL:https://pfarrei-bnaw.de/event/gedenken-an-das-flutereignis-am-14-juli-2025/
ATTACH;FMTTYPE=image/png:https://pfarrei-bnaw.de/wp-content/uploads/2025/06/ChatGPT-Image-30.-Juni-2025-09_35_52.png
END:VEVENT
BEGIN:VEVENT
DTSTART;TZID=Europe/Berlin:20250715T120000
DTEND;TZID=Europe/Berlin:20250715T170000
DTSTAMP:20260423T234640
CREATED:20250629T110222Z
LAST-MODIFIED:20250629T110222Z
UID:12793-1752580800-1752598800@pfarrei-bnaw.de
SUMMARY:Eselwanderung für Erwachsene  
DESCRIPTION:Sommerprogramm 2025 – Herzensweg on Tour\nEselwanderung für Erwachsene \nDer Pastorale Raum Bad Neuenahr-Ahrweiler lädt Sie herzlich ein zu einer entschleunigenden Eselwanderung für Erwachsene: Dienstag\, 15.07.2025 und Mittwoch\, 24.09.2025\, jeweils 12:00 – ca. 17:00 Uhr.\nNach einer kurzen Einführung in die Eselkunde und dem gemeinsamen Putzen der Tiere startet eine rund dreistündige Wanderung durch die Natur. Unterwegs erwartet Sie ein gemeinsames Picknick – Neben den beeindruckenden Naturerfahrungen geht es um eine Entschleunigung aus dem Alltag.\nBei extremer Witterung kann es zu kurzfristigen Änderungen kommen.\nAnmeldung & Infos: Manuela Kremer-Breuer 📞 0178 55 032 77 ✉️ manuela.kremer-breuer@bgv-trier.de
URL:https://pfarrei-bnaw.de/event/eselwanderung-fuer-erwachsene/
END:VEVENT
BEGIN:VEVENT
DTSTART;TZID=Europe/Berlin:20250716T150000
DTEND;TZID=Europe/Berlin:20250716T170000
DTSTAMP:20260423T234640
CREATED:20250714T093339Z
LAST-MODIFIED:20250714T093339Z
UID:12908-1752678000-1752685200@pfarrei-bnaw.de
SUMMARY:Kirchdaun: Oldies-Treff
DESCRIPTION:Oldies-Treff in Kirchdaun\nAm Mittwoch\, 16. Juli um 15 Uhr\, wird in Kirchdaun eine Messe für Oldies und alle\, die es einmal werden wollen gefeiert. Im Anschluss sind alle Oldies ab 65+ ganz herzlich zu Kaffee und Kuchen\, Bier oder Wein ins Bürgerhaus eingeladen. Kuchenspenden und Mithilfe sind erwünscht! Zwecks Organisation von beidem bitte bei Hanni Küpper melden (Tel. 0171/5448384)
URL:https://pfarrei-bnaw.de/event/kirchdaun-oldies-treff-2/
LOCATION:St. Lambertus\, Kirchdaun
END:VEVENT
BEGIN:VEVENT
DTSTART;TZID=Europe/Berlin:20250717T150000
DTEND;TZID=Europe/Berlin:20250717T160000
DTSTAMP:20260423T234640
CREATED:20250707T142345Z
LAST-MODIFIED:20250707T142345Z
UID:12871-1752764400-1752768000@pfarrei-bnaw.de
SUMMARY: Auszeit auf der Landskrone  
DESCRIPTION: „Auszeit“ – Meditation – Beten – Singen – Stille – Beisammensein auf der Landskrone\nHerzliche Einladung zur monatlichen Andacht in der Maria Hilf-Kapelle auf der Landskrone am Donnerstag\, den 17. Juli um 15.00 Uhr.
URL:https://pfarrei-bnaw.de/event/auszeit-auf-der-landskrone/
LOCATION:Kapelle Landskrone
END:VEVENT
BEGIN:VEVENT
DTSTART;VALUE=DATE:20250719
DTEND;VALUE=DATE:20250728
DTSTAMP:20260423T234640
CREATED:20250714T093553Z
LAST-MODIFIED:20250714T093553Z
UID:12912-1752883200-1753660799@pfarrei-bnaw.de
SUMMARY:Apollinariswallfahrt in Remagen
DESCRIPTION:„Setzt eure Hoffnung ganz auf die Gnade!“\nApollinariswallfahrt in Remagen vom 19. bis 27. Juli\nSonntags: 8 Uhr und 10.30 Uhr Hl. Messe / 15 Uhr Pilgerandacht  / 18 Uhr Hl. Messe\nWerktags: 10.30 Uhr Hl. Messe / 15 Uhr Pilgerandacht / 18 Uhr Hl. Messe\nNach jedem Gottesdienst Segnung mit dem heiligen Haupt und Empfang im Kloster/Garten.\nBeichtgelegenheit: Täglich 9.45-10.20 Uhr\, 13.00-14.30 Uhr und 17.00-17.50 Uhr\nRosenkranz: Täglich 9.45 Uhr und 17.15 Uhr\nEucharistische Anbetung: Nach der Abendmesse bis 21 Uhr / Abendlobpreis: 20.30-21 Uhr\nBesondere Feiern während der Apollinariswallfahrt:\nSamstag\, 19. Juli – 18.00 Uhr Feierliche Eröffnungsmesse\nSonntag\, 20. Juli – 10.30 Uhr Hl. Messe mit dem Apollinaris-Chor\nMontag\, 21. Juli – 18.00 Uhr Hl. Messe mit dem Pastoralen Raum Sinzig\nDienstag\, 22. Juli\, Holland-Tag – 10.30 Uhr und 15.00 Uhr Niederländisch / etwas Deutsch\nDonnerstag\, 24. Juli – 18.00 Uhr Hl. Messe mit Heilungsgebet\nSamstag\, 26. Juli – 18.00 Uhr Hl. Messe mit Erneuerung des Eheversprechens\nSonntag\, 27. Juli – 18.00 Uhr Abschlussmesse
URL:https://pfarrei-bnaw.de/event/apollinariswallfahrt-in-remagen/
END:VEVENT
BEGIN:VEVENT
DTSTART;TZID=Europe/Berlin:20250723T193000
DTEND;TZID=Europe/Berlin:20250723T213000
DTSTAMP:20260423T234640
CREATED:20250720T210019Z
LAST-MODIFIED:20250720T210019Z
UID:12930-1753299000-1753306200@pfarrei-bnaw.de
SUMMARY:Lieblingsgebete teilen
DESCRIPTION:Lieblingsgebete teilen – Einladungen zu einem besonderen Abend in Heppingen\nUnter dem Motto „Haben Sie auch ein Lieblingsgebet?“ lädt das Lokale Team Heppingen  zu einem offenen Abend des Austauschs und der Stille ein. Die Veranstaltung findet am Mittwoch\, 23. Juli 2025 um 19:30 Uhr im Pfarrsaal von St. Martin in Heppingen statt.\nIm Mittelpunkt stehen Gebete\, Texte\, Lieder oder Bibelstellen\, die den Teilnehmenden persönlich viel bedeuten. Ganz gleich\, ob sie schon lange Wegbegleiter sind oder erst kürzlich entdeckt wurden – jeder ist eingeladen\, einen solchen Text mitzubringen oder einfach zuzuhören.\n„Es geht nicht darum\, perfekt zu formulieren oder theologisch zu erklären – sondern darum\, miteinander zu teilen\, was das Herz berührt“\, so das Vorbereitungsteam. Auch wer lieber in der Gemeinschaft still mitbetet\, ist herzlich willkommen.\nDie Veranstaltung bietet einen geschützten Rahmen\, um dem persönlichen Glauben Ausdruck zu verleihen und in der Gemeinschaft Kraft zu schöpfen.\nDer Eintritt ist frei\, eine Anmeldung ist nicht erforderlich.
URL:https://pfarrei-bnaw.de/event/lieblingsgebete-teilen/
LOCATION:St. Martin\, Heppingen
ATTACH;FMTTYPE=image/jpeg:https://pfarrei-bnaw.de/wp-content/uploads/2025/07/Lieblingsgebet.jpg
END:VEVENT
BEGIN:VEVENT
DTSTART;TZID=Europe/Berlin:20250725T190000
DTEND;TZID=Europe/Berlin:20250725T210000
DTSTAMP:20260423T234640
CREATED:20250714T092704Z
LAST-MODIFIED:20250720T210106Z
UID:12900-1753470000-1753477200@pfarrei-bnaw.de
SUMMARY:St. Josef: Lesung mit Pfr. Jörg Meyrer
DESCRIPTION:Lesung mit Pfarrer Jörg Meyrer in der St. Josef Kapelle Walporzheim \nDie Pfarrei Bad Neuenahr-Ahrweiler lädt herzlich ein zu einer besonderen Lesung mit Pfarrer Jörg Meyrer am Freitag\, den 25. Juli 2025\, um 19:00 Uhr in der St. Josef Kapelle in Walporzheim.\nPfarrer Meyrer wird an diesem Abend aus seinem Buch „Zusammenhalten“ vorlesen –\nein Werk\, das von Hoffnung\, Solidarität und dem menschlichen Miteinander erzählt. Seine Texte sind geprägt von tiefem Glauben und persönlichen Erfahrungen\, insbesondere aus der Zeit nach der Flutkatastrophe im Ahrtal. Sie berühren\, geben Kraft und regen zum Nachdenken an.\nMusikalisch begleitet wird die Lesung von Claudia Bergmann (Flöte) und Thomas Schnorr (Orgel). Ihre einfühlsamen Klänge verleihen dem Abend eine besondere Atmosphäre und vertiefen die Wirkung der Worte. Der Eintritt ist frei\, eine Spende zur Unterstützung der kulturellen Arbeit in der Region ist willkommen.
URL:https://pfarrei-bnaw.de/event/st-josef-lesung-mit-pfr-joerg-meyrer/
LOCATION:Walporzheim
ATTACH;FMTTYPE=image/jpeg:https://pfarrei-bnaw.de/wp-content/uploads/2025/06/Lesungsplakat.jpg
END:VEVENT
BEGIN:VEVENT
DTSTART;TZID=Europe/Berlin:20250727T110000
DTEND;TZID=Europe/Berlin:20250727T180000
DTSTAMP:20260423T234640
CREATED:20250714T092842Z
LAST-MODIFIED:20250725T112312Z
UID:12903-1753614000-1753639200@pfarrei-bnaw.de
SUMMARY:St. Anna: Jubiläumsfeier 100 Jahre
DESCRIPTION:Jubiläumsfeier 100 Jahre St. Anna-Kapelle Bachem \nund Anna-Kirmes am Sonntag\, den 27. Juli 2025\nDie Heilige Messe um 11:00 Uhr wird vom Männerchor Bachem mitgestaltet. Im Anschluss erfolgt die Kranzniederlegung des Junggesellenvereins Bachem am Ehrenmal. Auf dem Platz vor der Kapelle sorgen die Junggesellen für Grill und Getränke\, die Pfarrei bietet Kaffee und Kuchen an.\nEs wird wieder die Gelegenheit geben sich von Bernd Walther durch die Kapelle führen zu lassen und so interessante Einblicke in die wechselvolle Baugeschichte zu bekommen. Das eigens für dieses Jubiläum erschienene Jubiläumsheft kann bei ihm erworben werden.\nDen festlichen Ausklang des Tages bildet um 18:00 Uhr das Jubiläumskonzert des Männerchores Bachem.
URL:https://pfarrei-bnaw.de/event/st-anna-jubilaeumsfeier-100-jahre/
LOCATION:St. Anna\, Bachem
ATTACH;FMTTYPE=image/jpeg:https://pfarrei-bnaw.de/wp-content/uploads/2025/07/Anna.jpg
END:VEVENT
END:VCALENDAR