BEGIN:VCALENDAR
VERSION:2.0
PRODID:-//Pfarrei Bad Neuenahr-Ahrweiler - ECPv6.15.20//NONSGML v1.0//EN
CALSCALE:GREGORIAN
METHOD:PUBLISH
X-WR-CALNAME:Pfarrei Bad Neuenahr-Ahrweiler
X-ORIGINAL-URL:https://pfarrei-bnaw.de
X-WR-CALDESC:Veranstaltungen für Pfarrei Bad Neuenahr-Ahrweiler
REFRESH-INTERVAL;VALUE=DURATION:PT1H
X-Robots-Tag:noindex
X-PUBLISHED-TTL:PT1H
BEGIN:VTIMEZONE
TZID:Europe/Berlin
BEGIN:DAYLIGHT
TZOFFSETFROM:+0100
TZOFFSETTO:+0200
TZNAME:CEST
DTSTART:20240331T010000
END:DAYLIGHT
BEGIN:STANDARD
TZOFFSETFROM:+0200
TZOFFSETTO:+0100
TZNAME:CET
DTSTART:20241027T010000
END:STANDARD
BEGIN:DAYLIGHT
TZOFFSETFROM:+0100
TZOFFSETTO:+0200
TZNAME:CEST
DTSTART:20250330T010000
END:DAYLIGHT
BEGIN:STANDARD
TZOFFSETFROM:+0200
TZOFFSETTO:+0100
TZNAME:CET
DTSTART:20251026T010000
END:STANDARD
BEGIN:DAYLIGHT
TZOFFSETFROM:+0100
TZOFFSETTO:+0200
TZNAME:CEST
DTSTART:20260329T010000
END:DAYLIGHT
BEGIN:STANDARD
TZOFFSETFROM:+0200
TZOFFSETTO:+0100
TZNAME:CET
DTSTART:20261025T010000
END:STANDARD
END:VTIMEZONE
BEGIN:VEVENT
DTSTART;TZID=Europe/Berlin:20251104T143000
DTEND;TZID=Europe/Berlin:20251104T163000
DTSTAMP:20260424T052312
CREATED:20250529T094021Z
LAST-MODIFIED:20251102T182226Z
UID:12622-1762266600-1762273800@pfarrei-bnaw.de
SUMMARY:Rosenkranz-Café
DESCRIPTION:„Rosenkranz-Café“ am 4. November\nAn jedem ersten Dienstag im Monat von 14:30 bis 16:30 Uhr haben Jung und Alt die Möglichkeit in der Familienbildungsstätte\, Weststraße 6 in Bad Neuenahr bei Kaffee und Kuchen miteinander ins Gespräch zu kommen und gemeinsam eine gute Zeit zu verbringen.\nDas Caféangebot ist kostenlos – eine Anmeldung ist nicht erforderlich.\nDie Pfarrei Bad Neuenahr-Ahrweiler lädt in Kooperation mit der Fluthilfe des Caritasverbandes Rhein-Mosel-Ahr e. V. und des Malteserhilfsdienstes hierzu herzlich ein.
URL:https://pfarrei-bnaw.de/event/rosenkranz-cafe-3/
LOCATION:Rosenkranzkirche
END:VEVENT
BEGIN:VEVENT
DTSTART;TZID=Europe/Berlin:20251105T190000
DTEND;TZID=Europe/Berlin:20251105T210000
DTSTAMP:20260424T052312
CREATED:20251011T075948Z
LAST-MODIFIED:20251011T075948Z
UID:13584-1762369200-1762376400@pfarrei-bnaw.de
SUMMARY:Firmvorbereitung
DESCRIPTION:Start der Firmvorbereitung\nNach den Herbstferien beginnt mit drei Startgottesdiensten die Firmvorbereitung 2025/2026.\nAlle Jugendlichen\, die in diesem Jahr die 9. Klasse besuchen sind eingeladen\, sich gemeinsam auf den Weg zu machen und zu erfahren\, wie Gott in ihrem Leben wirksam ist. Die Vorbereitung bietet verschiedene Themen und Angebote\, die Jugendliche ansprechen soll. Das Team der Vorbereitung freut sich auf gute Begegnung und Begleitung mit den Firmbewerberinnen und Firmbewerbern!\nDie Überschrift der diesjährigen Vorbereitung ist:\n„Glaube und Frieden“ – „Fides et pax“\nWir starten mit drei Gottesdiensten\, die die Jugendlichen frei wählen können. Es spielt keine Rolle\, aus welchem Ort sie kommen.\n\n\nMittwoch\, 5. November 2025 um 19.00 Uhr in der Kirche St. Lambert in Lantershofen\n\n\nDonnerstag\, 6. November 2025 um 19.00 Uhr in der Kirche St. Nikolaus und St. Rochus in Mayschoß.\n\n\nZu den Startgottesdiensten sind natürlich auch die Familien der Jugendlichen herzlich eingeladen.\nNach dem Gottesdienst gibt es weitere Informationen zu der Vorbereitung.\nBei Rückfragen steht Gemeindereferentin Sabine Dettinger gerne zur Verfügung!\nMail: Sabine.dettinger@bistum-trier.de\nBüroadresse: Heppinger Str. 6\, 53501 Grafschaft\, Mobil: 01511/4485801
URL:https://pfarrei-bnaw.de/event/firmvorbereitung-2/
END:VEVENT
BEGIN:VEVENT
DTSTART;TZID=Europe/Berlin:20251106T180000
DTEND;TZID=Europe/Berlin:20251106T200000
DTSTAMP:20260424T052312
CREATED:20251102T182316Z
LAST-MODIFIED:20251102T182631Z
UID:13775-1762452000-1762459200@pfarrei-bnaw.de
SUMMARY:St. Laurentius-Kirche – Zurück für die Zukunft  
DESCRIPTION:Veranstaltungsreihe St. Laurentius-Kirche – Zurück für die Zukunft \nDonnerstag\, 06.11.2025\, 18:00 Uhr Herausforderungen des Architekten/der Restauratoren beim Wiederaufbau der St. Laurentius-Kirche. Peter Berdi (Architekt)\, Stephan Retterath (Diplom-Restaurator) und Katrin Etringer Diplom-Restauratorin) geben Einblicke in Ihre Arbeit.\nWeitere Termine im Rahmen dieser Reihe sind am 20.11. zum Thema „Baukünstlerische und kunstgeschichtliche Erläuterungen“ mit Eva von der Stein (Architektin) und Dr. Arno Lutz Henkel (Pfarrer) und am 27.11. zum Thema „Einblicke in die Kirchenmalerei und Baustellenarbeit“ mit Markus Simons (Malermeister) und Susanne Runkel (Diplom-Restauratorin) jeweils um 18:30 Uhr.\nHerzliche Einladung! Die Teilnahme ist kostenfrei.
URL:https://pfarrei-bnaw.de/event/st-laurentius-kirche-zurueck-fuer-die-zukunft/
LOCATION:Pfarrgarten St. Laurentius\, Marktplatz 13\, 53474 Ahrweiler\, Pfarrgarten St. Laurentius
ATTACH;FMTTYPE=image/jpeg:https://pfarrei-bnaw.de/wp-content/uploads/2025/10/Flyer-St.-Laurentius.jpg
END:VEVENT
BEGIN:VEVENT
DTSTART;TZID=Europe/Berlin:20251106T190000
DTEND;TZID=Europe/Berlin:20251106T210000
DTSTAMP:20260424T052312
CREATED:20251011T080033Z
LAST-MODIFIED:20251011T080033Z
UID:13586-1762455600-1762462800@pfarrei-bnaw.de
SUMMARY:Firmvorbereitung
DESCRIPTION:Start der Firmvorbereitung\nNach den Herbstferien beginnt mit drei Startgottesdiensten die Firmvorbereitung 2025/2026.\nAlle Jugendlichen\, die in diesem Jahr die 9. Klasse besuchen sind eingeladen\, sich gemeinsam auf den Weg zu machen und zu erfahren\, wie Gott in ihrem Leben wirksam ist. Die Vorbereitung bietet verschiedene Themen und Angebote\, die Jugendliche ansprechen soll. Das Team der Vorbereitung freut sich auf gute Begegnung und Begleitung mit den Firmbewerberinnen und Firmbewerbern!\nDie Überschrift der diesjährigen Vorbereitung ist:\n„Glaube und Frieden“ – „Fides et pax“\nWir starten mit drei Gottesdiensten\, die die Jugendlichen frei wählen können. Es spielt keine Rolle\, aus welchem Ort sie kommen.\n\n\nDonnerstag\, 6. November 2025 um 19.00 Uhr in der Kirche St. Nikolaus und St. Rochus in Mayschoß.\n\n\nZu den Startgottesdiensten sind natürlich auch die Familien der Jugendlichen herzlich eingeladen.\nNach dem Gottesdienst gibt es weitere Informationen zu der Vorbereitung.\nBei Rückfragen steht Gemeindereferentin Sabine Dettinger gerne zur Verfügung!\nMail: Sabine.dettinger@bistum-trier.de\nBüroadresse: Heppinger Str. 6\, 53501 Grafschaft\, Mobil: 01511/4485801
URL:https://pfarrei-bnaw.de/event/firmvorbereitung-3/
END:VEVENT
BEGIN:VEVENT
DTSTART;TZID=Europe/Berlin:20251107T090000
DTEND;TZID=Europe/Berlin:20251107T100000
DTSTAMP:20260424T052312
CREATED:20251102T182826Z
LAST-MODIFIED:20251102T182826Z
UID:13781-1762506000-1762509600@pfarrei-bnaw.de
SUMMARY:Gebetszeit in Ramersbach
DESCRIPTION:Gebetszeit in Ramersbach\nAb November beginnt die wöchentliche Gebetszeit in St. Barbara in der dunklen Jahreszeit freitags bereits um 09:00 Uhr.
URL:https://pfarrei-bnaw.de/event/gebetszeit-in-ramersbach-3/
LOCATION:St. Barbara\, Ramersbach
END:VEVENT
BEGIN:VEVENT
DTSTART;VALUE=DATE:20251108
DTEND;VALUE=DATE:20251110
DTSTAMP:20260424T052312
CREATED:20250912T143741Z
LAST-MODIFIED:20250912T143741Z
UID:13332-1762560000-1762732799@pfarrei-bnaw.de
SUMMARY:PGR Wahlen in Bad Neuenahr-Ahrweiler
DESCRIPTION:HERAUS GERUFEN – Wahl der Räte im Bistum Trier\nAm Wochenende 8./9. November stehen die Wahlen für den neuen Pfarrgemeinderat an.   \nDer Pfarrgemeinderat (PGR) ist ein wichtiges Gremium im Leben der Pfarrei und wird für vier Jahre gewählt.\n–  Hier wird die Gottesdienstordnung beraten.\n-  Der PGR ist zuständig für die kirchliche Projekte und Aktionen während des Jahres.\n-  Er wird seine Schwerpunkte setzen für die Arbeit.\n-  Der PGR vernetzt alle Pfarrbezirke\n-   Der PGR behält die allgemeine kirchliche Entwicklung im Auge und versucht vor Ort Antwort darauf zu geben.\n-   Wichtige Immobilienfragen wurden in den letzten Jahren vom Pfarrgemeinderat und dem Verwaltungsrat zusammen beraten und entschieden.\nDafür bedarf es natürlich zuerst einmal Kandidatinnen und Kandidaten – gute\, engagierte und glaubende Menschen. Menschen wie Sie vielleicht? Vielleicht wollten Sie schon immer mal die Pfarrgemeinde mitgestalten oder Sie kennen jemand\, der sich hierfür gut eignen würde.\nIn den Kirchen liegen Flyer aus\, mit denen Sie Vorschläge machen können. Dies können bis zum 6. Oktober im Pfarrbüro eingereicht werden.
URL:https://pfarrei-bnaw.de/event/pgr-wahlen-in-bad-neuenahr-ahrweiler/
END:VEVENT
BEGIN:VEVENT
DTSTART;VALUE=DATE:20251108
DTEND;VALUE=DATE:20251110
DTSTAMP:20260424T052312
CREATED:20251102T183111Z
LAST-MODIFIED:20251102T183111Z
UID:13787-1762560000-1762732799@pfarrei-bnaw.de
SUMMARY:Aufruf zur Pfarrgemeinderatswahl am 8./9. November !
DESCRIPTION:Aufruf zur Pfarrgemeinderatswahl am 8./9. November\nAm zweiten Novemberwochenende sind alle Katholikinnen und Katholiken unserer Pfarrei eingeladen\, den neuen Pfarrgemeinderat zu wählen. Diese Wahl ist mehr als ein organisatorischer Akt – sie ist Ausdruck lebendiger Kirche.\nAus fast allen Pfarrbezirken haben sich engagierte Frauen und Männer bereit erklärt\, Verantwortung zu übernehmen. Junge Erwachsene sind ebenso vertreten wie Menschen in der Mitte des Lebens und Seniorinnen und Senioren mit großer Erfahrung. Gemeinsam bringen sie vielfältige Sichtweisen und Talente ein.\nDer neue Pfarrgemeinderat wird in den kommenden Jahren die Geschicke unserer Pfarrei mitgestalten – in Glaubensfragen\, in sozialen Anliegen\, in der Suche nach neuen Wegen\, wie Kirche heute glaubwürdig leben kann. Dabei geht es nicht nur um Strukturen\, sondern um die Frage\, wie wir als Christinnen und Christen auf die Herausforderungen unserer Zeit antworten: mit Hoffnung\, mit Glauben\, mit Herz.\nWer wählt\, stärkt dieses gemeinsame Engagement.\nWer kandidiert\, zeigt Mut zum Mitgestalten.\nWer sich beteiligt\, hilft\, dass unsere Kirche lebendig bleibt.\nBitte nehmen Sie an der Wahl teil!\nSo setzen wir gemeinsam ein Zeichen:\nUnsere Pfarrei lebt – aus dem Glauben\, durch Menschen\, die Verantwortung übernehmen.\nDekan Peter Strauch          Pfarrer Jörg Meyrer \n\nFolgende Wahllokale stehen Ihnen zu den angegebenen Zeiten zur Verfügung: \nAm Samstag\, 8. November 2025 \n15:00 bis 17:00 Uhr in der Kirche St. Barbara\, Ramersbach\n15:00 bis 17:00 Uhr im Raum links neben Seiteneingang der Kirche St. Martin\, Heppingen\n(unter dem Pfarrsaal)\n16:00 bis 17:00 Uhr und 18:00 bis 19:00 Uhr in der Kirche St. Mauritius\, Heimersheim\n16:15 bis 18:15 Uhr in der Kapelle St. Anna\, Bachem\nAm Sonntag\, 9. November 2025\n09:00 bis 11:00 Uhr in der Kirche St. Lambertus\, Kirchdaun\n10:00 bis 11:00 Uhr und 12:00 bis 13:00 Uhr in der Kirche St. Laurentius\, Ahrweiler\n10:30 bis 12:30 Uhr in der Kirche St. Willibrord\, Bad Neuenahr\nSie können gerne auch Briefwahl beantragen\, wenn Sie am 8./9. November 2025 verhindert sind. Füllen Sie dazu bitte die in den Kirchen ausliegenden Formulare aus und leiten Sie sie an das Pfarrbüro weiter oder kommen Sie direkt ins Pfarrbüro. Der Antrag auf Briefwahl muss dem Wahlausschuss spätestens am 6. November 2025 vorliegen.
URL:https://pfarrei-bnaw.de/event/aufruf-zur-pfarrgemeinderatswahl-am-8-9-november/
END:VEVENT
BEGIN:VEVENT
DTSTART;TZID=Europe/Berlin:20251108T150000
DTEND;TZID=Europe/Berlin:20251108T200000
DTSTAMP:20260424T052312
CREATED:20251102T182937Z
LAST-MODIFIED:20251102T182937Z
UID:13783-1762614000-1762632000@pfarrei-bnaw.de
SUMMARY:Mondo Amiki: Glühwein für den guten Zweck! 
DESCRIPTION:Glühwein für den guten Zweck!\nAm 8. November 2025 wird es auf dem Ahrweiler Marktplatz wieder gemütlich und herzlich: Das Bücherei-Team St. Laurentius und die Initiative Mondo Amiki laden ab 15:00 Uhr zum „Glühwein für den guten Zweck“ ein.\nBei wärmendem Glühwein und Punsch können Besucherinnen und Besucher nicht nur den Martinstag feiern\, sondern zugleich Gutes tun. Der Erlös des Verkaufs geht an die Bücherei St. Laurentius sowie an ein Mädcheninternat in Bolivien\, das über Mondo Amiki unterstützt wird. So verbindet der Nachmittag in stimmungsvoller Atmosphäre geselliges Beisammensein\, gelebte Solidarität und karitatives Engagement – ganz im Sinne des heiligen Martin\, der mit seinem Beispiel zu Mitmenschlichkeit und Teilen anregt.\nMerken Sie sich den Termin vor und bringen Sie Freunde\, Familie und Bekannte mit! Das Team freut sich auf viele Besucherinnen und Besucher\, die mit einem Becher Glühwein oder Punsch Wärme schenken – hier und in Bolivien.
URL:https://pfarrei-bnaw.de/event/mondo-amiki-gluehwein-fuer-den-guten-zweck/
LOCATION:Marktplatz 13\, 53474\, Ahrweiler\, hinter dem Pfarrhaus
END:VEVENT
BEGIN:VEVENT
DTSTART;TZID=Europe/Berlin:20251108T180000
DTEND;TZID=Europe/Berlin:20251108T220000
DTSTAMP:20260424T052312
CREATED:20250305T213352Z
LAST-MODIFIED:20250305T213352Z
UID:11833-1762624800-1762639200@pfarrei-bnaw.de
SUMMARY:Paartage: Diner “Herzlich im Gleichklang”
DESCRIPTION:Segensreich – Paartage für Hochzeiter und glücklich Liierte aller Couleur \nBei den Paartagen tauchen die Teilnehmer*innen ein in das Geheimnis der Zweisamkeit – und tun das im genussvollen Ambiente. Es gibt Informationen\, Impulse und Denkanstöße\, anregende Gespräche\, nur keine fertigen Antworten. Ausdrücklich sind “klassische”\, sowie gleichgeschlechtliche Paare eingeladen. \nDie Formate: Diner-Abende: Stilvolles Dreigangmenü mit allerlei Köstlichkeiten für Leib und Seele\, Herz und Geist\, … \nWanderungen:  6-8 km durch die inspirierende\, grandiose Landschaft unserer Heimat\, … \nBeide Formate an idyllischen Orten im Ahrtal und gemeinsam mit anderen Paaren finden ab fünf Paaren pro Veranstaltung statt. Kosten: 40 € pro Paar (inkl. Getränke u. Materialien) \nDie Termine: Diner “Herzflattern flambiert” Samstag\, den 29.03.25\, 18:00-22:00 \nWanderung “Herzkribbeln im Gepäck” Samstag\, den 27.09.25\, 10:00-16:00 \nDiner “Herzlich im Gleichklang” Samstag\, den 08.11.25\, 18:00-22:00 \nAnmeldung\, Rückfragen: Pastoraler Raum Bad Neuenahr-Ahrweiler Markus Hartmann\, Dipl. Theologe/ Pastoralreferent 0171-182 7107 –markus.hartmann@bistum-trier.de
URL:https://pfarrei-bnaw.de/event/paartage-diner-herzlich-im-gleichklang/
END:VEVENT
BEGIN:VEVENT
DTSTART;TZID=Europe/Berlin:20251115T173000
DTEND;TZID=Europe/Berlin:20251115T190000
DTSTAMP:20260424T052312
CREATED:20250818T081545Z
LAST-MODIFIED:20250818T081545Z
UID:13116-1763227800-1763233200@pfarrei-bnaw.de
SUMMARY:Walporzheim: Martinsfest
DESCRIPTION:Herzliche Einladung zum Martinsfest in Walporzheim: Nach einer Martinsandacht um 17:30 Uhr\, folgt der traditionelle Martinsumzug.
URL:https://pfarrei-bnaw.de/event/walporzheim-martinsfest/
LOCATION:Walporzheim
END:VEVENT
BEGIN:VEVENT
DTSTART;TZID=Europe/Berlin:20251120T180000
DTEND;TZID=Europe/Berlin:20251120T200000
DTSTAMP:20260424T052312
CREATED:20251102T182440Z
LAST-MODIFIED:20251102T182706Z
UID:13777-1763661600-1763668800@pfarrei-bnaw.de
SUMMARY:St. Laurentius-Kirche – Zurück für die Zukunft 
DESCRIPTION:Veranstaltungsreihe St. Laurentius-Kirche – Zurück für die Zukunft \nDonnerstag\, 06.11.2025\, 18:00 Uhr Herausforderungen des Architekten/der Restauratoren beim Wiederaufbau der St. Laurentius-Kirche. Peter Berdi (Architekt)\, Stephan Retterath (Diplom-Restaurator) und Katrin Etringer Diplom-Restauratorin) geben Einblicke in Ihre Arbeit.\nWeitere Termine im Rahmen dieser Reihe sind am 20.11. zum Thema „Baukünstlerische und kunstgeschichtliche Erläuterungen“ mit Eva von der Stein (Architektin) und Dr. Arno Lutz Henkel (Pfarrer) und am 27.11. zum Thema „Einblicke in die Kirchenmalerei und Baustellenarbeit“ mit Markus Simons (Malermeister) und Susanne Runkel (Diplom-Restauratorin) jeweils um 18:30 Uhr.\nHerzliche Einladung! Die Teilnahme ist kostenfrei.
URL:https://pfarrei-bnaw.de/event/st-laurentius-kirche-zurueck-fuer-die-zukunft-2/
LOCATION:St. Laurentius
ATTACH;FMTTYPE=image/jpeg:https://pfarrei-bnaw.de/wp-content/uploads/2025/10/Flyer-St.-Laurentius.jpg
END:VEVENT
BEGIN:VEVENT
DTSTART;VALUE=DATE:20251121
DTEND;VALUE=DATE:20251122
DTSTAMP:20260424T052312
CREATED:20250912T144727Z
LAST-MODIFIED:20250912T144727Z
UID:13342-1763683200-1763769599@pfarrei-bnaw.de
SUMMARY:Online-Exerzitien im Alltag im Advent 2025
DESCRIPTION:Online-Exerzitien im Alltag im Advent 2025\nAdventszeit – eine Zeit\, in der wir uns neu auf die Suche nach dem Kind in der Krippe begeben\, eine Zeit\, die Freude am Glauben aufleben zu lassen\, eine Zeit\, das Kind in sich zu spüren\, das dem Vater im Himmel ganz vertrauen kann … wie auch immer es bei Ihnen ist: Herzliche Einladung zur Teilnahme an Online-Exerzitien im Alltag im Advent zum Thema: „Gekommen\, um ihn anzubeten“. Exerzitien im Alltag beinhalten eine tägliche Gebetszeit zuhause und ein wöchentliches Gruppentreffen\, welches hier Online stattfindet. Die „Online-Exerzitien im Alltag“ im Advent beginnen am Freitag\, den 21.11.2025 mit einer kurzen Einführung für die Angemeldeten\, es gibt für jeden Teilnehmer ein Begleitheft zu oben genanntem Thema\, welches vorher postalisch zugesendet wird und welches die täglichen Gebetseinheiten zuhause unterstützt. In den Gruppentreffen gibt es die Möglichkeit\, Erfahrungen miteinander austauschen. Anmeldung ist bis 7. November 2025 bei Sabine Gilles\, entweder per E-Mail: sabine.gilles@bgv-trier.de\, oder Telefon: 01512 0508748. Diese Veranstaltung des Pastoralen Raums Bad Neuenahr-Ahrweiler wird unterstützt durch die Katholische Erwachsenenbildung des Bistums Trier.
URL:https://pfarrei-bnaw.de/event/online-exerzitien-im-alltag-im-advent-2025/
END:VEVENT
BEGIN:VEVENT
DTSTART;TZID=Europe/Berlin:20251121T183000
DTEND;TZID=Europe/Berlin:20251121T200000
DTSTAMP:20260424T052312
CREATED:20250818T081905Z
LAST-MODIFIED:20250818T081905Z
UID:13118-1763749800-1763755200@pfarrei-bnaw.de
SUMMARY:Walporzheim: Totengedächtnis
DESCRIPTION:Herzliche Einladung\, der verstorbenen des vergangenen Jahre mit einem Totengedächtnis am Freitag\, 21.11. um 18:30 Uhr zu gedenken.
URL:https://pfarrei-bnaw.de/event/walporzheim-totengedaechtnis/
LOCATION:Walporzheim
END:VEVENT
BEGIN:VEVENT
DTSTART;TZID=Europe/Berlin:20251122T100000
DTEND;TZID=Europe/Berlin:20251122T160000
DTSTAMP:20260424T052312
CREATED:20250912T144559Z
LAST-MODIFIED:20250912T144559Z
UID:13338-1763805600-1763827200@pfarrei-bnaw.de
SUMMARY:„Gemeinsam Zukunft gestalten“  -  2. Synodalversammlung
DESCRIPTION:„Gemeinsam Zukunft gestalten“  –  Save the date!\nUnter dem Motto „Gemeinsam Zukunft gestalten“ lädt der Pastorale Raum Bad Neuenahr-Ahrweiler ganz herzlich zur 2. Synodalversammlung am Samstag\, dem 22. November 2025 von 10:00 – 16:00 Uhr ins Studienhaus St. Lambert in Grafschaft-Lantershofen (Graf-Blankard-Str. 12-22) ein.\nAlle Engagierten und Interessierten sind herzlich eingeladen sich diesem Termin schon einmal vorzumerken.\nDas gesamte Team des Pastoralen Raums freut sich auf zahlreiche Teilnehmer und Teilnehmerinnen aus den Kreisen der Getauften der Pfarrei Bad Neuenahr-Ahrweiler\, der Pfarreiengemeinschaft Altenahr und der Pfarreiengemeinschaft Grafschaft.
URL:https://pfarrei-bnaw.de/event/gemeinsam-zukunft-gestalten-2-synodalversammlung/
END:VEVENT
BEGIN:VEVENT
DTSTART;TZID=Europe/Berlin:20251126T183000
DTEND;TZID=Europe/Berlin:20251126T200000
DTSTAMP:20260424T052312
CREATED:20250818T082012Z
LAST-MODIFIED:20251123T184839Z
UID:13120-1764181800-1764187200@pfarrei-bnaw.de
SUMMARY:Mittwochs in Walporzheim: Adventslieder singen
DESCRIPTION:An jedem letzten Mittwoch im Monat lädt der Kapellenverein zum gemeinsamen Singen\, einem Vortrag o.a. in die St. Josef-Kapelle ein. Am 26. November sind alle um 18:30 Uhr zum Adventsliedersingen eingeladen.
URL:https://pfarrei-bnaw.de/event/walporzheim-adventslieder-singen/
LOCATION:Walporzheim
END:VEVENT
BEGIN:VEVENT
DTSTART;TZID=Europe/Berlin:20251127T183000
DTEND;TZID=Europe/Berlin:20251127T200000
DTSTAMP:20260424T052312
CREATED:20251102T182552Z
LAST-MODIFIED:20251123T185104Z
UID:13779-1764268200-1764273600@pfarrei-bnaw.de
SUMMARY:St. Laurentius-Kirche – Zurück für die Zukunft 
DESCRIPTION:Veranstaltungsreihe St. Laurentius-Kirche – Zurück für die Zukunft \nAm Donnerstag\, 27.11.2025 werden um 18:30 Uhr Markus Simons (Malermeister) und Susanne Runkel (Diplom-Restauratorin) Einblicke in die Kirchenmalerei und Baustellenarbeit geben.\nHerzliche Einladung! Die Teilnahme ist kostenfrei.
URL:https://pfarrei-bnaw.de/event/st-laurentius-kirche-zurueck-fuer-die-zukunft-3/
LOCATION:St. Laurentius
ATTACH;FMTTYPE=image/jpeg:https://pfarrei-bnaw.de/wp-content/uploads/2025/10/Flyer-St.-Laurentius.jpg
END:VEVENT
BEGIN:VEVENT
DTSTART;TZID=Europe/Berlin:20251128T150000
DTEND;TZID=Europe/Berlin:20251128T170000
DTSTAMP:20260424T052312
CREATED:20251123T185215Z
LAST-MODIFIED:20251123T185215Z
UID:13952-1764342000-1764349200@pfarrei-bnaw.de
SUMMARY:Meditatives Tanzen 
DESCRIPTION:Meditatives Tanzen\nAm Freitag\, den 28. November 2025\, wird es von 15 bis 17 Uhr wieder einen von der kfd organisierten Nachmittag mit meditativen Tänzen in der Zehntscheuer in Ahrweiler am Markt geben.\nMeditative Tänze sind langsame\, besinnliche Kreistänze mit einfachen Schritten\, die schnell zu lernen sind.\nAngeleitet werden die Tänze von Eva Kaltenbach\, die eine sehr gute Ausbildung genossen hat und mit Leib und Seele für diese Art zu tanzen brennt. Bitte bringen Sie sich selbst Wasser zum Trinken mit. Der Kostenbeitrag beläuft sich auf 2 Euro.\nBitte melden Sie sich unbedingt bis Montag\, den 24.11.\, bei Uschi Läufer (02641/37544) an.
URL:https://pfarrei-bnaw.de/event/meditatives-tanzen/
LOCATION:Zehntscheuer\, Marktplatz 13\, Ahrweiler\, RLP\, 53474\, Deutschland
END:VEVENT
BEGIN:VEVENT
DTSTART;TZID=Europe/Berlin:20251128T190000
DTEND;TZID=Europe/Berlin:20251128T210000
DTSTAMP:20260424T052312
CREATED:20251123T185346Z
LAST-MODIFIED:20251123T185724Z
UID:13954-1764356400-1764363600@pfarrei-bnaw.de
SUMMARY:Ein Hauch vom Weihnachtsstern – Adventliche Lesung mit Luzia Kaul in der Zehntscheuer Ahrweiler 
DESCRIPTION:Ein Hauch vom Weihnachtsstern – Adventliche Lesung mit Luzia Kaul in der Zehntscheuer Ahrweiler\nAuch in diesem Jahr lädt die Pfarrei Bad Neuenahr-Ahrweiler gemeinsam mit der Bücherei St. Laurentius (KÖB) wieder zu einer stimmungsvollen Adventslesung in die Zehntscheuer Ahrweiler ein. Am Freitag\, 28. November 2025\, um 19:00 Uhr dürfen sich Besucherinnen und Besucher auf einen besonderen Abend mit Luzia Kaul freuen.\nIn gemütlicher Atmosphäre liest die in Spessart/Hannebach lebende Autorin aus ihrer neuen Erzählung „Ein Hauch vom Weihnachtsstern“ – ihrer mittlerweile siebzehnten Weihnachtsgeschichte.\nZwischen den Lesepassagen sorgt Matthias Becker mit einfühlsamer Saxophonmusik für die passende musikalische Stimmung.\nDer Eintritt ist frei\, über eine Spende freut sich das Team der öffentlichen Bücherei St. Laurentius\, das die Gäste wie gewohnt herzlich willkommen heißt.
URL:https://pfarrei-bnaw.de/event/ein-hauch-vom-weihnachtsstern-adventliche-lesung-mit-luzia-kaul-in-der-zehntscheuer-ahrweiler/
LOCATION:Zehntscheuer\, Marktplatz 13\, Ahrweiler\, RLP\, 53474\, Deutschland
END:VEVENT
BEGIN:VEVENT
DTSTART;VALUE=DATE:20251129
DTEND;VALUE=DATE:20251130
DTSTAMP:20260424T052312
CREATED:20250818T082122Z
LAST-MODIFIED:20250818T082122Z
UID:13122-1764374400-1764460799@pfarrei-bnaw.de
SUMMARY:Walporzheim: Offener Adventskalender
DESCRIPTION:Näheres wird noch bekanntgegeben.
URL:https://pfarrei-bnaw.de/event/walporzheim-offener-adventskalender/
LOCATION:Walporzheim
END:VEVENT
BEGIN:VEVENT
DTSTART;TZID=Europe/Berlin:20251129T160000
DTEND;TZID=Europe/Berlin:20251129T163000
DTSTAMP:20260424T052312
CREATED:20251123T190758Z
LAST-MODIFIED:20251123T190758Z
UID:13966-1764432000-1764433800@pfarrei-bnaw.de
SUMMARY:St. Laurentius: „Haltestelle im Advent“ 
DESCRIPTION:„Haltestelle im Advent“\nNeue Reihe mit Musik und Wort in St. Laurentius in Ahrweiler. Die Pfarrei Bad Neuenahr-Ahrweiler lädt zu einer neuen von Kantor Thomas Schnorr initiierten Reihe zum Advent in die St. Laurentiuskirche nach Ahrweiler ein.\nWie es der Titel schon verrät\, lädt die halbstündige Adventsmusik ein zum Innehalten\nund Atemholen im doch oftmals recht hektischen Treiben des Advents.\nAn allen vier Adventsamstagen erklingt in der Zeit von 16.00 Uhr bis 16.30 Uhr Musik in verschiedenen Besetzungen\, hinzu kommt ein kurzer geistlicher Impuls.\nAm Samstag\, den 29. November\, spielt Klaus-Dieter Holzberger Orgelmusik zum Advent\, das geistliche Wort spricht Pfarrer Jörg Meyrer.\nDer Eintritt zur „Haltestelle im Advent“ ist frei. Am Ausgang wird um einen Kostenbeitrag gebeten
URL:https://pfarrei-bnaw.de/event/st-laurentius-haltestelle-im-advent/
LOCATION:St. Laurentius
ATTACH;FMTTYPE=image/jpeg:https://pfarrei-bnaw.de/wp-content/uploads/2025/11/PHOTO-2025-11-21-22-32-58.jpg
END:VEVENT
BEGIN:VEVENT
DTSTART;TZID=Europe/Berlin:20251130T110000
DTEND;TZID=Europe/Berlin:20251130T120000
DTSTAMP:20260424T052312
CREATED:20251123T190028Z
LAST-MODIFIED:20251123T190028Z
UID:13962-1764500400-1764504000@pfarrei-bnaw.de
SUMMARY:Kinderkirche in St. Laurentius  
DESCRIPTION:Kinderkirche in St. Laurentius \nAm Sonntag\, 30. November um 11:00 Uhr sind Kinder zwischen drei und acht Jahren während der Heiligen Messe in Ahrweiler zur Kinderkirche eingeladen. Spielerisch und kindgerecht wird hier der Glaube erfahrbar gemacht.
URL:https://pfarrei-bnaw.de/event/kinderkirche-in-st-laurentius/
LOCATION:St. Laurentius
END:VEVENT
BEGIN:VEVENT
DTSTART;TZID=Europe/Berlin:20251130T110000
DTEND;TZID=Europe/Berlin:20251130T180000
DTSTAMP:20260424T052312
CREATED:20251123T185935Z
LAST-MODIFIED:20251123T185935Z
UID:13960-1764500400-1764525600@pfarrei-bnaw.de
SUMMARY:Adventsbasar der kfd St. Laurentius Ahrweiler 
DESCRIPTION:Adventsbasar der kfd St. Laurentius Ahrweiler lädt am 30. November 2025 zum Stöbern und Genießen ein.\nDie kfd St. Laurentius Ahrweiler öffnet auch in diesem Jahr wieder ihre Türen zum traditionellen Adventsbasar. Am 30. November 2025 sind Besucherinnen und Besucher herzlich eingeladen\, zwischen 11:00 und 18:00 Uhr in gemütlicher Atmosphäre die Vorfreude auf die Adventszeit zu genießen.\nDer Basar bietet ein vielfältiges Angebot handgefertigter Arbeiten\, darunter kunstvolle Dekorationen\, gestrickte und genähte Unikate sowie praktische Kleinigkeiten für den Alltag. Darüber hinaus gibt es eine Auswahl an hausgemachten Marmeladen und Gelees sowie frisch gebackene Plätzchen\, die perfekt zur Einstimmung auf die bevorstehende Adventszeit geeignet sind. Für das leibliche Wohl ist ebenfalls gesorgt: Besucher können sich mit frisch gebackenen Waffeln und einer Tasse duftendem Kaffee stärken und die gemütliche Stimmung genießen. Die Frauen der kfd St. Laurentius Ahrweiler freuen sich auf zahlreiche Gäste\, die vorbeikommen\, stöbern\, genießen und gemeinsam die besinnliche Zeit einläuten möchten.
URL:https://pfarrei-bnaw.de/event/adventsbasar-der-kfd-st-laurentius-ahrweiler/
LOCATION:Zehntscheuer\, Marktplatz 13\, Ahrweiler\, RLP\, 53474\, Deutschland
ATTACH;FMTTYPE=image/png:https://pfarrei-bnaw.de/wp-content/uploads/2025/11/ChatGPT-Image-19.-Nov.-2025-08_49_39.png
END:VEVENT
BEGIN:VEVENT
DTSTART;TZID=Europe/Berlin:20251130T180000
DTEND;TZID=Europe/Berlin:20251130T200000
DTSTAMP:20260424T052312
CREATED:20251123T191406Z
LAST-MODIFIED:20251123T191406Z
UID:13974-1764525600-1764532800@pfarrei-bnaw.de
SUMMARY:Benefizkonzert: "… und wieder bringt ein Tag für uns ein Licht"   
DESCRIPTION:„… und wieder bringt ein Tag für uns ein Licht“  \nIn der Reihe der Benefiz-Konzerte in der St. Anna-Kapelle in Bachem wird es zum Beginn des Advents am Sonntag\, 30. November um 18.00 Uhr einen Märchenabend mit Musik geben.\nMonika Krämer und Barbara Ristow (Erzählerinnen) und Ilse Kösling und Gisbert Stenz  (vierhändig am Klavier) laden zu einem zauberhaften und verwunschenen Märchenabend ein. WUNDER in Wort und Ton. WUNDER-hafte Erzählungen und WUNDER-bare Musik verzaubern Ohr und Herz. Eine Einstimmung in den Advent.\nDer Eintritt ist frei\, der Kapellenverein Bachem e. V. bittet um Spenden für seine verschiedenen Projekte.
URL:https://pfarrei-bnaw.de/event/benefizkonzert-und-wieder-bringt-ein-tag-fuer-uns-ein-licht/
LOCATION:St. Anna\, Bachem
END:VEVENT
END:VCALENDAR